BEGIN:VCALENDAR
VERSION:2.0
PRODID:-//Chiens d&#039;arrêt - ECPv6.8.3//NONSGML v1.0//EN
CALSCALE:GREGORIAN
METHOD:PUBLISH
X-ORIGINAL-URL:https://www.chiendarret.fr
X-WR-CALDESC:Évènements pour Chiens d&#039;arrêt
REFRESH-INTERVAL;VALUE=DURATION:PT1H
X-Robots-Tag:noindex
X-PUBLISHED-TTL:PT1H
BEGIN:VTIMEZONE
TZID:Europe/Paris
BEGIN:DAYLIGHT
TZOFFSETFROM:+0100
TZOFFSETTO:+0200
TZNAME:CEST
DTSTART:20220327T010000
END:DAYLIGHT
BEGIN:STANDARD
TZOFFSETFROM:+0200
TZOFFSETTO:+0100
TZNAME:CET
DTSTART:20221030T010000
END:STANDARD
END:VTIMEZONE
BEGIN:VEVENT
DTSTART;VALUE=DATE:20220405
DTEND;VALUE=DATE:20220406
DTSTAMP:20260425T123159
CREATED:20220202T200115Z
LAST-MODIFIED:20220202T200115Z
UID:3587-1649116800-1649203199@www.chiendarret.fr
SUMMARY:VAULX VRAUCOURT - FTP SPEC CACT BRITANNIQUES 2
DESCRIPTION:SOLO UNIQUEMENT
URL:https://www.chiendarret.fr/les-concours/vaulx-vraucourt-ftp-spec-cact-britanniques-2/
LOCATION:62159 VAULX VRAUCOURT\, VAULX VRAUCOURT\, 62159
CATEGORIES:Fields Trials de Printemps
ORGANIZER;CN="C SETTER ANGLAIS - M. GUILHEMJOUAN JEAN YVES":MAILTO:secretariat@club-setter-anglais.com
END:VEVENT
END:VCALENDAR