BEGIN:VCALENDAR
VERSION:2.0
PRODID:-//Chiens d&#039;arrêt - ECPv6.8.3//NONSGML v1.0//EN
CALSCALE:GREGORIAN
METHOD:PUBLISH
X-ORIGINAL-URL:https://www.chiendarret.fr
X-WR-CALDESC:Évènements pour Chiens d&#039;arrêt
REFRESH-INTERVAL;VALUE=DURATION:PT1H
X-Robots-Tag:noindex
X-PUBLISHED-TTL:PT1H
BEGIN:VTIMEZONE
TZID:Europe/Paris
BEGIN:DAYLIGHT
TZOFFSETFROM:+0100
TZOFFSETTO:+0200
TZNAME:CEST
DTSTART:20220327T010000
END:DAYLIGHT
BEGIN:STANDARD
TZOFFSETFROM:+0200
TZOFFSETTO:+0100
TZNAME:CET
DTSTART:20221030T010000
END:STANDARD
END:VTIMEZONE
BEGIN:VEVENT
DTSTART;VALUE=DATE:20220315
DTEND;VALUE=DATE:20220316
DTSTAMP:20260425T123815
CREATED:20220202T195700Z
LAST-MODIFIED:20220202T195700Z
UID:3501-1647302400-1647388799@www.chiendarret.fr
SUMMARY:FAUMONT - FTP SPEC CACT CONTINENTAUX
DESCRIPTION:OUVERTURE CONCOURS 01/02
URL:https://www.chiendarret.fr/les-concours/faumont-ftp-spec-cact-continentaux/
LOCATION:59310 FAUMONT\, FAUMONT\, 59310
CATEGORIES:Fields Trials de Printemps
ORGANIZER;CN="RA BRAQUE AUVERGNE - M. LONGUEPEE DENIS":MAILTO:denislonguepee@hotmail.fr
END:VEVENT
BEGIN:VEVENT
DTSTART;VALUE=DATE:20220315
DTEND;VALUE=DATE:20220316
DTSTAMP:20260425T123815
CREATED:20220202T200029Z
LAST-MODIFIED:20220202T200029Z
UID:3568-1647302400-1647388799@www.chiendarret.fr
SUMMARY:REVEL - FTP SPEC CACT BRITANNIQUES
DESCRIPTION:SOLO ET COUPLE
URL:https://www.chiendarret.fr/les-concours/revel-ftp-spec-cact-britanniques/
LOCATION:31250 REVEL\, REVEL\, 31250\, France
CATEGORIES:Fields Trials de Printemps
ORGANIZER;CN="C SETTER ANGLAIS - M. GASIOT PASCAL":MAILTO:gasiot.pascal@gmail.com
END:VEVENT
END:VCALENDAR