BEGIN:VCALENDAR
VERSION:2.0
PRODID:-//Chiens d&#039;arrêt - ECPv6.8.3//NONSGML v1.0//EN
CALSCALE:GREGORIAN
METHOD:PUBLISH
X-ORIGINAL-URL:https://www.chiendarret.fr
X-WR-CALDESC:Évènements pour Chiens d&#039;arrêt
REFRESH-INTERVAL;VALUE=DURATION:PT1H
X-Robots-Tag:noindex
X-PUBLISHED-TTL:PT1H
BEGIN:VTIMEZONE
TZID:Europe/Paris
BEGIN:DAYLIGHT
TZOFFSETFROM:+0100
TZOFFSETTO:+0200
TZNAME:CEST
DTSTART:20210328T010000
END:DAYLIGHT
BEGIN:STANDARD
TZOFFSETFROM:+0200
TZOFFSETTO:+0100
TZNAME:CET
DTSTART:20211031T010000
END:STANDARD
END:VTIMEZONE
BEGIN:VEVENT
DTSTART;VALUE=DATE:20211030
DTEND;VALUE=DATE:20211031
DTSTAMP:20260425T202628
CREATED:20210618T232024Z
LAST-MODIFIED:20210619T065953Z
UID:1648-1635552000-1635638399@www.chiendarret.fr
SUMMARY:CANALS - CACT CONTINENTAUX - RA BRAQUE AUVERGNE
DESCRIPTION:
URL:https://www.chiendarret.fr/les-concours/canals-cact-continentaux-ra-braque-auvergne-2/
LOCATION:82170 CANALS\, CANALS\, 82170\, France
CATEGORIES:Fields Trials d'Automne
ATTACH;FMTTYPE=image/jpeg:https://www.chiendarret.fr/wp-content/uploads/2021/06/iamalaya.jpg
ORGANIZER;CN="RA BRAQUE AUVERGNE - M. THEVENET MICHEL":MAILTO:michel.thevenet19@orange.fr
END:VEVENT
END:VCALENDAR