BEGIN:VCALENDAR
VERSION:2.0
PRODID:-//Chiens d&#039;arrêt - ECPv6.8.3//NONSGML v1.0//EN
CALSCALE:GREGORIAN
METHOD:PUBLISH
X-ORIGINAL-URL:https://www.chiendarret.fr
X-WR-CALDESC:Évènements pour Chiens d&#039;arrêt
REFRESH-INTERVAL;VALUE=DURATION:PT1H
X-Robots-Tag:noindex
X-PUBLISHED-TTL:PT1H
BEGIN:VTIMEZONE
TZID:Europe/Paris
BEGIN:DAYLIGHT
TZOFFSETFROM:+0100
TZOFFSETTO:+0200
TZNAME:CEST
DTSTART:20220327T010000
END:DAYLIGHT
BEGIN:STANDARD
TZOFFSETFROM:+0200
TZOFFSETTO:+0100
TZNAME:CET
DTSTART:20221030T010000
END:STANDARD
END:VTIMEZONE
BEGIN:VEVENT
DTSTART;VALUE=DATE:20221009
DTEND;VALUE=DATE:20221010
DTSTAMP:20260425T000846
CREATED:20220617T203555Z
LAST-MODIFIED:20220617T203555Z
UID:4040-1665273600-1665359999@www.chiendarret.fr
SUMMARY:ESCOURCE - FTA C BRAQUE FRANCAIS - 09/10/22
DESCRIPTION:
URL:https://www.chiendarret.fr/les-concours/escource-fta-c-braque-francais-09-10-22/
LOCATION:40210 ESCOURCE\, ESCOURCE\, 40210\, France
CATEGORIES:Fields Trials d'Automne
ORGANIZER;CN="C BRAQUE FRANCAIS - M. GASIOT PASCAL":MAILTO:gasiot.pascal@gmail.com
END:VEVENT
BEGIN:VEVENT
DTSTART;VALUE=DATE:20221009
DTEND;VALUE=DATE:20221010
DTSTAMP:20260425T000846
CREATED:20220617T203556Z
LAST-MODIFIED:20220617T203556Z
UID:4041-1665273600-1665359999@www.chiendarret.fr
SUMMARY:ESCOURCE - FTA C EPAGNEUL BRETON - 09/10/22
DESCRIPTION:FAISAN PERDRIX
URL:https://www.chiendarret.fr/les-concours/escource-fta-c-epagneul-breton-09-10-22/
LOCATION:40210 ESCOURCE\, ESCOURCE\, 40210\, France
CATEGORIES:Fields Trials d'Automne
ORGANIZER;CN="C EPAGNEUL BRETON - M. VERON BRUNO":MAILTO:veronbruno@wanadoo.fr
END:VEVENT
BEGIN:VEVENT
DTSTART;VALUE=DATE:20221009
DTEND;VALUE=DATE:20221010
DTSTAMP:20260425T000846
CREATED:20220617T203756Z
LAST-MODIFIED:20220617T203756Z
UID:4042-1665273600-1665359999@www.chiendarret.fr
SUMMARY:ESCOURCE - FTA CF BRAQUE ALLEMAND - 09/10/22
DESCRIPTION:
URL:https://www.chiendarret.fr/les-concours/escource-fta-cf-braque-allemand-09-10-22/
LOCATION:40210 ESCOURCE\, ESCOURCE\, 40210\, France
CATEGORIES:Fields Trials d'Automne
ORGANIZER;CN="CF BRAQUE ALLEMAND - Mme PIAT SYLVIE":MAILTO:piatsylvie@orange.fr
END:VEVENT
BEGIN:VEVENT
DTSTART;VALUE=DATE:20221009
DTEND;VALUE=DATE:20221010
DTSTAMP:20260425T000846
CREATED:20220617T203756Z
LAST-MODIFIED:20220617T203756Z
UID:4043-1665273600-1665359999@www.chiendarret.fr
SUMMARY:ESCOURCE - FTA RA BRAQUE AUVERGNE - 09/10/22
DESCRIPTION:
URL:https://www.chiendarret.fr/les-concours/escource-fta-ra-braque-auvergne-09-10-22/
LOCATION:40210 ESCOURCE\, ESCOURCE\, 40210\, France
CATEGORIES:Fields Trials d'Automne
ORGANIZER;CN="RA BRAQUE AUVERGNE - M. VIAUD JEAN-LOUIS":MAILTO:jlviaud@gmail.com
END:VEVENT
BEGIN:VEVENT
DTSTART;VALUE=DATE:20221009
DTEND;VALUE=DATE:20221010
DTSTAMP:20260425T000846
CREATED:20220617T203935Z
LAST-MODIFIED:20220617T203935Z
UID:4060-1665273600-1665359999@www.chiendarret.fr
SUMMARY:ESCOURCE ONESSE - FTA C GRIFFON KORTHALS - 09/10/22
DESCRIPTION:
URL:https://www.chiendarret.fr/les-concours/escource-onesse-fta-c-griffon-korthals-09-10-22/
LOCATION:40210 ESCOURCE\, ESCOURCE\, 40210\, France
CATEGORIES:Fields Trials d'Automne
ORGANIZER;CN="C GRIFFON KORTHALS - M. CHARDON PIERRE":MAILTO:pierre.chardon.iphone@gmail.com
END:VEVENT
BEGIN:VEVENT
DTSTART;VALUE=DATE:20221016
DTEND;VALUE=DATE:20221017
DTSTAMP:20260425T000846
CREATED:20220617T203757Z
LAST-MODIFIED:20220617T203757Z
UID:4046-1665878400-1665964799@www.chiendarret.fr
SUMMARY:HERM - FTA C SETTER ANGLAIS - 16/10/22
DESCRIPTION:
URL:https://www.chiendarret.fr/les-concours/herm-fta-c-setter-anglais-16-10-22/
LOCATION:40990 HERM\, HERM\, 40990\, France
CATEGORIES:Fields Trials d'Automne
ORGANIZER;CN="C SETTER ANGLAIS - M. DUPERIER JEAN-LOUIS":MAILTO:jldcsa@gmail.com
END:VEVENT
BEGIN:VEVENT
DTSTART;VALUE=DATE:20221016
DTEND;VALUE=DATE:20221017
DTSTAMP:20260425T000846
CREATED:20220617T203840Z
LAST-MODIFIED:20220617T203840Z
UID:4047-1665878400-1665964799@www.chiendarret.fr
SUMMARY:HERM - FTA POINTER CF - 16/10/22
DESCRIPTION:
URL:https://www.chiendarret.fr/les-concours/herm-fta-pointer-cf-16-10-22/
LOCATION:40990 HERM\, HERM\, 40990\, France
CATEGORIES:Fields Trials d'Automne
ORGANIZER;CN="POINTER CF - M. DESTENABES JEAN-GUY":MAILTO:j-g.destenabes@wanadoo.fr
END:VEVENT
BEGIN:VEVENT
DTSTART;VALUE=DATE:20221021
DTEND;VALUE=DATE:20221022
DTSTAMP:20260425T000846
CREATED:20220617T203856Z
LAST-MODIFIED:20220617T203856Z
UID:4053-1666310400-1666396799@www.chiendarret.fr
SUMMARY:ROHRWILLER - FTA CF EML - 21/10/22
DESCRIPTION:
URL:https://www.chiendarret.fr/les-concours/rohrwiller-fta-cf-eml-21-10-22/
LOCATION:67410 ROHRWILLER\, ROHRWILLER\, 67410\, France
CATEGORIES:Fields Trials d'Automne
ORGANIZER;CN="CF EML - M. REISSER LIONEL":MAILTO:lio1reisser@free.fr
END:VEVENT
BEGIN:VEVENT
DTSTART;VALUE=DATE:20221027
DTEND;VALUE=DATE:20221028
DTSTAMP:20260425T000846
CREATED:20220617T203153Z
LAST-MODIFIED:20220617T203153Z
UID:4028-1666828800-1666915199@www.chiendarret.fr
SUMMARY:MONTEILS - FTA RA BRAQUE AUVERGNE - 27/10/22
DESCRIPTION:
URL:https://www.chiendarret.fr/les-concours/monteils-fta-ra-braque-auvergne-27-10-22/
LOCATION:12200 MONTEILS\, MONTEILS\, 12200
CATEGORIES:Fields Trials d'Automne
ORGANIZER;CN="RA BRAQUE AUVERGNE - Mme SALAIGNAC ARLETTE":MAILTO:ruisseau.montbrun@orange.fr
END:VEVENT
BEGIN:VEVENT
DTSTART;VALUE=DATE:20221029
DTEND;VALUE=DATE:20221030
DTSTAMP:20260425T000846
CREATED:20220617T203856Z
LAST-MODIFIED:20220617T203856Z
UID:4054-1667001600-1667087999@www.chiendarret.fr
SUMMARY:GIROUSSENS - FTA C GRIFFON KORTHALS - 29/10/22
DESCRIPTION:POULE KORTHALS 2022
URL:https://www.chiendarret.fr/les-concours/giroussens-fta-c-griffon-korthals-29-10-22/
LOCATION:81500 GIROUSSENS\, GIROUSSENS\, 81500
CATEGORIES:Fields Trials d'Automne
ORGANIZER;CN="C GRIFFON KORTHALS - M. BURATTO ROBERT":MAILTO:robertburatto81@wanadoo.fr
END:VEVENT
BEGIN:VEVENT
DTSTART;VALUE=DATE:20221029
DTEND;VALUE=DATE:20221030
DTSTAMP:20260425T000846
CREATED:20220617T203856Z
LAST-MODIFIED:20220617T203856Z
UID:4055-1667001600-1667087999@www.chiendarret.fr
SUMMARY:CANALS - FTA RA BRAQUE AUVERGNE - 29/10/22
DESCRIPTION:
URL:https://www.chiendarret.fr/les-concours/canals-fta-ra-braque-auvergne-29-10-22/
LOCATION:82170 CANALS\, CANALS\, 82170\, France
CATEGORIES:Fields Trials d'Automne
ORGANIZER;CN="RA BRAQUE AUVERGNE - M. THEVENET MICHEL":MAILTO:michel.thevenet19@orange.fr
END:VEVENT
END:VCALENDAR