BEGIN:VCALENDAR
VERSION:2.0
PRODID:-//Chiens d&#039;arrêt - ECPv6.8.3//NONSGML v1.0//EN
CALSCALE:GREGORIAN
METHOD:PUBLISH
X-ORIGINAL-URL:https://www.chiendarret.fr
X-WR-CALDESC:Évènements pour Chiens d&#039;arrêt
REFRESH-INTERVAL;VALUE=DURATION:PT1H
X-Robots-Tag:noindex
X-PUBLISHED-TTL:PT1H
BEGIN:VTIMEZONE
TZID:Europe/Paris
BEGIN:DAYLIGHT
TZOFFSETFROM:+0100
TZOFFSETTO:+0200
TZNAME:CEST
DTSTART:20210328T010000
END:DAYLIGHT
BEGIN:STANDARD
TZOFFSETFROM:+0200
TZOFFSETTO:+0100
TZNAME:CET
DTSTART:20211031T010000
END:STANDARD
END:VTIMEZONE
BEGIN:VEVENT
DTSTART;VALUE=DATE:20211202
DTEND;VALUE=DATE:20211203
DTSTAMP:20260425T154312
CREATED:20210619T071429Z
LAST-MODIFIED:20210619T071429Z
UID:2086-1638403200-1638489599@www.chiendarret.fr
SUMMARY:VILLEBAUDON - CACT BRITANNIQUES - C SETTER ANGLAIS
DESCRIPTION:
URL:https://www.chiendarret.fr/les-concours/villebaudon-cact-britanniques-c-setter-anglais/
LOCATION:50410 VILLEBAUDON\, VILLEBAUDON\, 50410\, France
CATEGORIES:Fields Trials Gibier Sauvage
ATTACH;FMTTYPE=image/jpeg:https://www.chiendarret.fr/wp-content/uploads/2021/07/setter_irlandais_field.jpg
ORGANIZER;CN="C SETTER ANGLAIS - M. PERSON HERVE":MAILTO:person.herve@free.fr
END:VEVENT
BEGIN:VEVENT
DTSTART;VALUE=DATE:20211203
DTEND;VALUE=DATE:20211204
DTSTAMP:20260425T154312
CREATED:20210619T071059Z
LAST-MODIFIED:20210619T071059Z
UID:2013-1638489600-1638575999@www.chiendarret.fr
SUMMARY:La Ferme "La Bataille" - CACT BRITANNIQUES - C SETTER ANGLAIS
DESCRIPTION:
URL:https://www.chiendarret.fr/les-concours/la-ferme-la-bataille-cact-britanniques-c-setter-anglais/
LOCATION:56250 TREDION\, TREDION\, 56250\, France
CATEGORIES:Fields Trials Gibier Sauvage
ATTACH;FMTTYPE=image/jpeg:https://www.chiendarret.fr/wp-content/uploads/2021/07/setter_irlandais_field.jpg
ORGANIZER;CN="C SETTER ANGLAIS - M. COATMELLEC LOUIS":MAILTO:l.coatmellec@miloco.fr
END:VEVENT
BEGIN:VEVENT
DTSTART;VALUE=DATE:20211210
DTEND;VALUE=DATE:20211211
DTSTAMP:20260425T154312
CREATED:20210619T071128Z
LAST-MODIFIED:20210619T071128Z
UID:2023-1639094400-1639180799@www.chiendarret.fr
SUMMARY:le buisson de cadouin - CACT CONTINENTAUX - CF BRAQUE ALLEMAND
DESCRIPTION:
URL:https://www.chiendarret.fr/les-concours/le-buisson-de-cadouin-cact-continentaux-cf-braque-allemand/
LOCATION:24480 LE BUISSON DE CADOUIN\, LE BUISSON DE CADOUIN\, 24480\, France
CATEGORIES:Fields Trials Gibier Sauvage
ATTACH;FMTTYPE=image/jpeg:https://www.chiendarret.fr/wp-content/uploads/2021/07/setter_irlandais_field.jpg
ORGANIZER;CN="CF BRAQUE ALLEMAND - M. WOLTERS GERARD":MAILTO:fg.wolters@orange.fr
END:VEVENT
BEGIN:VEVENT
DTSTART;VALUE=DATE:20211211
DTEND;VALUE=DATE:20211212
DTSTAMP:20260425T154312
CREATED:20210619T070408Z
LAST-MODIFIED:20210619T070408Z
UID:1919-1639180800-1639267199@www.chiendarret.fr
SUMMARY:MOLLIENS DREUIL - CACT CONTINENTAUX - C EPAGNEUL FRANCAIS
DESCRIPTION:
URL:https://www.chiendarret.fr/les-concours/molliens-dreuil-cact-continentaux-c-epagneul-francais/
LOCATION:80540 MOLLIENS DREUIL\, MOLLIENS DREUIL\, 80540\, France
CATEGORIES:Fields Trials d'Automne
ATTACH;FMTTYPE=image/jpeg:https://www.chiendarret.fr/wp-content/uploads/2021/06/iamalaya.jpg
ORGANIZER;CN="C EPAGNEUL FRANCAIS - Mme BULLERYAL VALERIE":MAILTO:vp.bulleryal@infonie.fr
END:VEVENT
BEGIN:VEVENT
DTSTART;VALUE=DATE:20211211
DTEND;VALUE=DATE:20211212
DTSTAMP:20260425T154312
CREATED:20210619T071228Z
LAST-MODIFIED:20210619T071228Z
UID:2044-1639180800-1639267199@www.chiendarret.fr
SUMMARY:MIOS 2 - CACT BRITANNIQUES - POINTER CF
DESCRIPTION:CHEQUES A L ORDRE DU CUSCA 33
URL:https://www.chiendarret.fr/les-concours/mios-2-cact-britanniques-pointer-cf/
LOCATION:33380 MIOS\, MIOS\, 33380\, France
CATEGORIES:Fields Trials Gibier Sauvage
ATTACH;FMTTYPE=image/jpeg:https://www.chiendarret.fr/wp-content/uploads/2021/07/setter_irlandais_field.jpg
ORGANIZER;CN="POINTER CF - M. CARPENTEY JEAN":MAILTO:jean.carpentey@wanadoo.fr
END:VEVENT
BEGIN:VEVENT
DTSTART;VALUE=DATE:20211212
DTEND;VALUE=DATE:20211213
DTSTAMP:20260425T154312
CREATED:20210618T232231Z
LAST-MODIFIED:20210622T111055Z
UID:1704-1639267200-1639353599@www.chiendarret.fr
SUMMARY:BOIS MEUR - CACIT BRITANNIQUES - C SETTER ANGLAIS
DESCRIPTION:
URL:https://www.chiendarret.fr/les-concours/bois-meur-cacit-britanniques-c-setter-anglais-2/
LOCATION:22720 ST PEVER\, ST PEVER\, 22720\, France
CATEGORIES:Fields Trials Gibier Sauvage
ATTACH;FMTTYPE=image/jpeg:https://www.chiendarret.fr/wp-content/uploads/2021/07/setter_irlandais_field.jpg
ORGANIZER;CN="C SETTER ANGLAIS - M. HUPE YVES":MAILTO:yvonhupe@gmail.com
END:VEVENT
BEGIN:VEVENT
DTSTART;VALUE=DATE:20211213
DTEND;VALUE=DATE:20211214
DTSTAMP:20260425T154312
CREATED:20210618T232231Z
LAST-MODIFIED:20210619T070743Z
UID:1705-1639353600-1639439999@www.chiendarret.fr
SUMMARY:BOIS MEUR - CACT BRITANNIQUES - C SETTER ANGLAIS
DESCRIPTION:
URL:https://www.chiendarret.fr/les-concours/bois-meur-cact-britanniques-c-setter-anglais-2/
LOCATION:22721 Saint-Péver\, Saint-Péver\, 22721\, France
CATEGORIES:Fields Trials Gibier Sauvage
ATTACH;FMTTYPE=image/jpeg:https://www.chiendarret.fr/wp-content/uploads/2021/07/setter_irlandais_field.jpg
ORGANIZER;CN="C SETTER ANGLAIS - M. HUPE YVES":MAILTO:yvonhupe@gmail.com
END:VEVENT
BEGIN:VEVENT
DTSTART;VALUE=DATE:20211218
DTEND;VALUE=DATE:20211219
DTSTAMP:20260425T154312
CREATED:20210618T231953Z
LAST-MODIFIED:20210619T065923Z
UID:1637-1639785600-1639871999@www.chiendarret.fr
SUMMARY:BAILLEUL 2 - CACT CONTINENTAUX - C EPAGNEUL PICARD
DESCRIPTION:CLÔTURE DES ENGAGEMENTS LE 8 DECEMBRE
URL:https://www.chiendarret.fr/les-concours/bailleul-2-cact-continentaux-c-epagneul-picard/
LOCATION:59270 BAILLEUL\, BAILLEUL\, 59270\, France
CATEGORIES:Fields Trials d'Automne
ATTACH;FMTTYPE=image/jpeg:https://www.chiendarret.fr/wp-content/uploads/2021/06/iamalaya.jpg
ORGANIZER;CN="C EPAGNEUL PICARD - M. BRUTELLE WILLIAM":MAILTO:william.brutelle@wanadoo.fr
END:VEVENT
BEGIN:VEVENT
DTSTART;VALUE=DATE:20211219
DTEND;VALUE=DATE:20211220
DTSTAMP:20260425T154312
CREATED:20210619T071344Z
LAST-MODIFIED:20210619T071344Z
UID:2071-1639872000-1639958399@www.chiendarret.fr
SUMMARY:TAURIAC DE CAMARES - CACT CONTINENTAUX - C EPAGNEUL FRANCAIS
DESCRIPTION:
URL:https://www.chiendarret.fr/les-concours/tauriac-de-camares-cact-continentaux-c-epagneul-francais/
LOCATION:12360 TAURIAC DE CAMARES\, TAURIAC DE CAMARES\, 12360\, France
CATEGORIES:Fields Trials Gibier Sauvage
ATTACH;FMTTYPE=image/jpeg:https://www.chiendarret.fr/wp-content/uploads/2021/07/setter_irlandais_field.jpg
ORGANIZER;CN="C EPAGNEUL FRANCAIS - M. THOUY ERIC":MAILTO:e.thouy@hotmail.fr
END:VEVENT
END:VCALENDAR