BEGIN:VCALENDAR
VERSION:2.0
PRODID:-//Chiens d&#039;arrêt - ECPv6.8.3//NONSGML v1.0//EN
CALSCALE:GREGORIAN
METHOD:PUBLISH
X-ORIGINAL-URL:https://www.chiendarret.fr
X-WR-CALDESC:Évènements pour Chiens d&#039;arrêt
REFRESH-INTERVAL;VALUE=DURATION:PT1H
X-Robots-Tag:noindex
X-PUBLISHED-TTL:PT1H
BEGIN:VTIMEZONE
TZID:Europe/Paris
BEGIN:DAYLIGHT
TZOFFSETFROM:+0100
TZOFFSETTO:+0200
TZNAME:CEST
DTSTART:20210328T010000
END:DAYLIGHT
BEGIN:STANDARD
TZOFFSETFROM:+0200
TZOFFSETTO:+0100
TZNAME:CET
DTSTART:20211031T010000
END:STANDARD
END:VTIMEZONE
BEGIN:VEVENT
DTSTART;VALUE=DATE:20211107
DTEND;VALUE=DATE:20211108
DTSTAMP:20260425T172010
CREATED:20210618T232725Z
LAST-MODIFIED:20210619T071632Z
UID:1777-1636243200-1636329599@www.chiendarret.fr
SUMMARY:CAGNICOURT - CACT CONTINENTAUX - CA BRAQUE DE WEIMAR
DESCRIPTION:
URL:https://www.chiendarret.fr/les-concours/cagnicourt-cact-continentaux-ca-braque-de-weimar/
LOCATION:62182 CAGNICOURT\, CAGNICOURT\, 62182\, France
CATEGORIES:Fields Trials Gibier Naturel
ATTACH;FMTTYPE=image/jpeg:https://www.chiendarret.fr/wp-content/uploads/2021/07/field-trial-griffon.jpg
ORGANIZER;CN="CA BRAQUE DE WEIMAR - M. SAGOT JEAN-CLAUDE":MAILTO:cabw@wanadoo.fr
END:VEVENT
BEGIN:VEVENT
DTSTART;VALUE=DATE:20211107
DTEND;VALUE=DATE:20211108
DTSTAMP:20260425T172010
CREATED:20210619T070524Z
LAST-MODIFIED:20210619T070524Z
UID:1945-1636243200-1636329599@www.chiendarret.fr
SUMMARY:VAL D AUGE - CACT CONTINENTAUX - C EPAGNEUL FRANCAIS
DESCRIPTION:RENDEZ VOUS RESTAURANT LA BELLE ETAPE.VERDILLE 16140
URL:https://www.chiendarret.fr/les-concours/val-d-auge-cact-continentaux-c-epagneul-francais/
LOCATION:16170 VAL D AUGE\, VAL D AUGE\, 16170\, France
CATEGORIES:Fields Trials d'Automne
ATTACH;FMTTYPE=image/jpeg:https://www.chiendarret.fr/wp-content/uploads/2021/06/iamalaya.jpg
ORGANIZER;CN="C EPAGNEUL FRANCAIS - M. MEUNIER GUY":MAILTO:guymeunier742882@aol.com
END:VEVENT
BEGIN:VEVENT
DTSTART;VALUE=DATE:20211107
DTEND;VALUE=DATE:20211108
DTSTAMP:20260425T172010
CREATED:20210619T070524Z
LAST-MODIFIED:20210619T070524Z
UID:1946-1636243200-1636329599@www.chiendarret.fr
SUMMARY:VAL D AUGE - CACT CONTINENTAUX - C GRIFFON KORTHALS
DESCRIPTION:
URL:https://www.chiendarret.fr/les-concours/val-d-auge-cact-continentaux-c-griffon-korthals/
LOCATION:16170 VAL D AUGE\, VAL D AUGE\, 16170\, France
CATEGORIES:Fields Trials d'Automne
ATTACH;FMTTYPE=image/jpeg:https://www.chiendarret.fr/wp-content/uploads/2021/06/iamalaya.jpg
ORGANIZER;CN="C GRIFFON KORTHALS - M. PICARD CHRISTIAN":MAILTO:picard_christ@live.fr
END:VEVENT
BEGIN:VEVENT
DTSTART;VALUE=DATE:20211107
DTEND;VALUE=DATE:20211108
DTSTAMP:20260425T172010
CREATED:20210619T070538Z
LAST-MODIFIED:20210619T070538Z
UID:1948-1636243200-1636329599@www.chiendarret.fr
SUMMARY:VAL D AUGE - CACT CONTINENTAUX - RA BRAQUE AUVERGNE
DESCRIPTION:
URL:https://www.chiendarret.fr/les-concours/val-d-auge-cact-continentaux-ra-braque-auvergne/
LOCATION:16170 VAL D AUGE\, VAL D AUGE\, 16170\, France
CATEGORIES:Fields Trials d'Automne
ATTACH;FMTTYPE=image/jpeg:https://www.chiendarret.fr/wp-content/uploads/2021/06/iamalaya.jpg
ORGANIZER;CN="RA BRAQUE AUVERGNE - M. VIAUD JEAN-LOUIS":MAILTO:jlviaud@gmail.com
END:VEVENT
BEGIN:VEVENT
DTSTART;VALUE=DATE:20211111
DTEND;VALUE=DATE:20211112
DTSTAMP:20260425T172010
CREATED:20210619T071228Z
LAST-MODIFIED:20210619T071228Z
UID:2043-1636588800-1636675199@www.chiendarret.fr
SUMMARY:MIOS 2 - CACT BRITANNIQUES - C SETTER ANGLAIS
DESCRIPTION:REGLEMENT UNIQUEMENT PAR CHEQUE A L ORDRE DU CSA
URL:https://www.chiendarret.fr/les-concours/mios-2-cact-britanniques-c-setter-anglais/
LOCATION:33380 MIOS\, MIOS\, 33380\, France
CATEGORIES:Fields Trials Gibier Sauvage
ATTACH;FMTTYPE=image/jpeg:https://www.chiendarret.fr/wp-content/uploads/2021/07/setter_irlandais_field.jpg
ORGANIZER;CN="C SETTER ANGLAIS - M. CARPENTEY JEAN":MAILTO:jean.carpentey@wanadoo.fr
END:VEVENT
BEGIN:VEVENT
DTSTART;VALUE=DATE:20211112
DTEND;VALUE=DATE:20211113
DTSTAMP:20260425T172010
CREATED:20210618T232216Z
LAST-MODIFIED:20210619T070728Z
UID:1697-1636675200-1636761599@www.chiendarret.fr
SUMMARY:BAUPTE - CACT CONTINENTAUX - C GRIFFON KORTHALS
DESCRIPTION:
URL:https://www.chiendarret.fr/les-concours/baupte-cact-continentaux-c-griffon-korthals-3/
LOCATION:50500 BAUPTE\, BAUPTE\, 50500\, France
CATEGORIES:Fields Trials Gibier Sauvage
ATTACH;FMTTYPE=image/jpeg:https://www.chiendarret.fr/wp-content/uploads/2021/07/setter_irlandais_field.jpg
ORGANIZER;CN="C GRIFFON KORTHALS - M. GAULTIER GILBERT":MAILTO:gaultier.gilbert@orange.fr
END:VEVENT
BEGIN:VEVENT
DTSTART;VALUE=DATE:20211122
DTEND;VALUE=DATE:20211123
DTSTAMP:20260425T172010
CREATED:20210618T232927Z
LAST-MODIFIED:20210619T071718Z
UID:1793-1637539200-1637625599@www.chiendarret.fr
SUMMARY:LANCOME - CACT CONTINENTAUX - C EPAGNEUL BRETON
DESCRIPTION:PAIEMENT ORDRE DU CUSCA 41
URL:https://www.chiendarret.fr/les-concours/lancome-cact-continentaux-c-epagneul-breton/
LOCATION:41190 LANCOME\, LANCOME\, 41190\, France
CATEGORIES:Fields Trials Gibier Naturel
ATTACH;FMTTYPE=image/jpeg:https://www.chiendarret.fr/wp-content/uploads/2021/07/field-trial-griffon.jpg
ORGANIZER;CN="C EPAGNEUL BRETON - M. MATHIEU JACQUES":MAILTO:jac.mathieu@outlook.com
END:VEVENT
BEGIN:VEVENT
DTSTART;VALUE=DATE:20211123
DTEND;VALUE=DATE:20211124
DTSTAMP:20260425T172010
CREATED:20210618T232943Z
LAST-MODIFIED:20210619T071733Z
UID:1796-1637625600-1637711999@www.chiendarret.fr
SUMMARY:LANCOME 2 - CACT CONTINENTAUX - C EPAGNEUL BRETON
DESCRIPTION:PAIEMENT ORDRE DU CUSCA 41
URL:https://www.chiendarret.fr/les-concours/lancome-2-cact-continentaux-c-epagneul-breton/
LOCATION:41190 LANCOME\, LANCOME\, 41190\, France
CATEGORIES:Fields Trials Gibier Naturel
ATTACH;FMTTYPE=image/jpeg:https://www.chiendarret.fr/wp-content/uploads/2021/07/field-trial-griffon.jpg
ORGANIZER;CN="C EPAGNEUL BRETON - M. MATHIEU JACQUES":MAILTO:jac.mathieu@outlook.com
END:VEVENT
BEGIN:VEVENT
DTSTART;VALUE=DATE:20211124
DTEND;VALUE=DATE:20211125
DTSTAMP:20260425T172010
CREATED:20210619T071043Z
LAST-MODIFIED:20210619T071043Z
UID:2008-1637712000-1637798399@www.chiendarret.fr
SUMMARY:INGUINIEL - CACT CONTINENTAUX - C GRIFFON KORTHALS
DESCRIPTION:
URL:https://www.chiendarret.fr/les-concours/inguiniel-cact-continentaux-c-griffon-korthals/
LOCATION:56240 INGUINIEL\, INGUINIEL\, 56240\, France
CATEGORIES:Fields Trials Gibier Sauvage
ATTACH;FMTTYPE=image/jpeg:https://www.chiendarret.fr/wp-content/uploads/2021/07/setter_irlandais_field.jpg
ORGANIZER;CN="C GRIFFON KORTHALS - M. ROUSSEAU YVON":MAILTO:yy.rousseau@orange.fr
END:VEVENT
BEGIN:VEVENT
DTSTART;VALUE=DATE:20211125
DTEND;VALUE=DATE:20211126
DTSTAMP:20260425T172010
CREATED:20210619T071044Z
LAST-MODIFIED:20210619T071044Z
UID:2009-1637798400-1637884799@www.chiendarret.fr
SUMMARY:INGUINIEL 2 - CACT CONTINENTAUX - C GRIFFON KORTHALS
DESCRIPTION:
URL:https://www.chiendarret.fr/les-concours/inguiniel-2-cact-continentaux-c-griffon-korthals/
LOCATION:56240 INGUINIEL\, INGUINIEL\, 56240\, France
CATEGORIES:Fields Trials Gibier Sauvage
ATTACH;FMTTYPE=image/jpeg:https://www.chiendarret.fr/wp-content/uploads/2021/07/setter_irlandais_field.jpg
ORGANIZER;CN="C GRIFFON KORTHALS - M. ROUSSEAU YVON":MAILTO:yy.rousseau@orange.fr
END:VEVENT
BEGIN:VEVENT
DTSTART;VALUE=DATE:20211126
DTEND;VALUE=DATE:20211127
DTSTAMP:20260425T172010
CREATED:20210619T071059Z
LAST-MODIFIED:20210619T071059Z
UID:2016-1637884800-1637971199@www.chiendarret.fr
SUMMARY:LANDEVANT - CACT CONTINENTAUX - RA BRAQUE AUVERGNE
DESCRIPTION:
URL:https://www.chiendarret.fr/les-concours/landevant-cact-continentaux-ra-braque-auvergne/
LOCATION:56690 LANDEVANT\, LANDEVANT\, 56690\, France
CATEGORIES:Fields Trials Gibier Sauvage
ATTACH;FMTTYPE=image/jpeg:https://www.chiendarret.fr/wp-content/uploads/2021/07/setter_irlandais_field.jpg
ORGANIZER;CN="RA BRAQUE AUVERGNE - M. CAVERNE DANIEL":MAILTO:daniel.caverne@wanadoo.fr
END:VEVENT
BEGIN:VEVENT
DTSTART;VALUE=DATE:20211127
DTEND;VALUE=DATE:20211128
DTSTAMP:20260425T172010
CREATED:20210618T232146Z
LAST-MODIFIED:20210619T070123Z
UID:1678-1637971200-1638057599@www.chiendarret.fr
SUMMARY:DEVROUZE - CACT CONTINENTAUX - C EPAGNEUL ST USUGE
DESCRIPTION:REGLEMENT ORDRE DE CESU
URL:https://www.chiendarret.fr/les-concours/devrouze-cact-continentaux-c-epagneul-st-usuge-2/
LOCATION:71330 DEVROUZE\, DEVROUZE\, 71330\, France
CATEGORIES:Fields Trials d'Automne
ATTACH;FMTTYPE=image/jpeg:https://www.chiendarret.fr/wp-content/uploads/2021/06/iamalaya.jpg
ORGANIZER;CN="C EPAGNEUL ST USUGE - M. HUMBERT YANNICK":MAILTO:yannickhumbertnormandie@orange.fr
END:VEVENT
BEGIN:VEVENT
DTSTART;VALUE=DATE:20211127
DTEND;VALUE=DATE:20211128
DTSTAMP:20260425T172010
CREATED:20210618T232146Z
LAST-MODIFIED:20210619T070123Z
UID:1679-1637971200-1638057599@www.chiendarret.fr
SUMMARY:DEVROUZE 2 - CACT CONTINENTAUX - C EPAGNEUL ST USUGE
DESCRIPTION:
URL:https://www.chiendarret.fr/les-concours/devrouze-2-cact-continentaux-c-epagneul-st-usuge-2/
LOCATION:71330 DEVROUZE\, DEVROUZE\, 71330\, France
CATEGORIES:Fields Trials d'Automne
ATTACH;FMTTYPE=image/jpeg:https://www.chiendarret.fr/wp-content/uploads/2021/06/iamalaya.jpg
ORGANIZER;CN="C EPAGNEUL ST USUGE - M. HUMBERT YANNICK":MAILTO:yannickhumbertnormandie@orange.fr
END:VEVENT
BEGIN:VEVENT
DTSTART;VALUE=DATE:20211127
DTEND;VALUE=DATE:20211128
DTSTAMP:20260425T172010
CREATED:20210619T070408Z
LAST-MODIFIED:20210619T070408Z
UID:1920-1637971200-1638057599@www.chiendarret.fr
SUMMARY:MOLLIENS DREUIL - CACT CONTINENTAUX - C EPAGNEUL PICARD
DESCRIPTION:CLÔTURE DES ENGAGEMENTS LE 17 NOVEMBRE
URL:https://www.chiendarret.fr/les-concours/molliens-dreuil-cact-continentaux-c-epagneul-picard/
LOCATION:80540 MOLLIENS DREUIL\, MOLLIENS DREUIL\, 80540\, France
CATEGORIES:Fields Trials d'Automne
ATTACH;FMTTYPE=image/jpeg:https://www.chiendarret.fr/wp-content/uploads/2021/06/iamalaya.jpg
ORGANIZER;CN="C EPAGNEUL PICARD - M. BRUTELLE WILLIAM":MAILTO:william.brutelle@wanadoo.fr
END:VEVENT
BEGIN:VEVENT
DTSTART;VALUE=DATE:20211127
DTEND;VALUE=DATE:20211128
DTSTAMP:20260425T172010
CREATED:20210619T071113Z
LAST-MODIFIED:20210619T071113Z
UID:2017-1637971200-1638057599@www.chiendarret.fr
SUMMARY:LANDEVANT 2 - CACT CONTINENTAUX - RA BRAQUE AUVERGNE
DESCRIPTION:
URL:https://www.chiendarret.fr/les-concours/landevant-2-cact-continentaux-ra-braque-auvergne/
LOCATION:56690 LANDEVANT\, LANDEVANT\, 56690\, France
CATEGORIES:Fields Trials Gibier Sauvage
ATTACH;FMTTYPE=image/jpeg:https://www.chiendarret.fr/wp-content/uploads/2021/07/setter_irlandais_field.jpg
ORGANIZER;CN="RA BRAQUE AUVERGNE - M. CAVERNE DANIEL":MAILTO:daniel.caverne@wanadoo.fr
END:VEVENT
END:VCALENDAR