BEGIN:VCALENDAR
VERSION:2.0
PRODID:-//Chiens d&#039;arrêt - ECPv6.8.3//NONSGML v1.0//EN
CALSCALE:GREGORIAN
METHOD:PUBLISH
X-ORIGINAL-URL:https://www.chiendarret.fr
X-WR-CALDESC:Évènements pour Chiens d&#039;arrêt
REFRESH-INTERVAL;VALUE=DURATION:PT1H
X-Robots-Tag:noindex
X-PUBLISHED-TTL:PT1H
BEGIN:VTIMEZONE
TZID:Europe/Paris
BEGIN:DAYLIGHT
TZOFFSETFROM:+0100
TZOFFSETTO:+0200
TZNAME:CEST
DTSTART:20210328T010000
END:DAYLIGHT
BEGIN:STANDARD
TZOFFSETFROM:+0200
TZOFFSETTO:+0100
TZNAME:CET
DTSTART:20211031T010000
END:STANDARD
END:VTIMEZONE
BEGIN:VEVENT
DTSTART;VALUE=DATE:20210901
DTEND;VALUE=DATE:20210902
DTSTAMP:20260424T113613
CREATED:20210619T071414Z
LAST-MODIFIED:20210619T071414Z
UID:2079-1630454400-1630540799@www.chiendarret.fr
SUMMARY:VALMEINIER - CACIT BRITANNIQUES - POINTER CF
DESCRIPTION:
URL:https://www.chiendarret.fr/les-concours/valmeinier-cacit-britanniques-pointer-cf/
LOCATION:73450 VALMEINIER\, VALMEINIER\, 73450\, France
CATEGORIES:Fields Trials Gibier Sauvage
ATTACH;FMTTYPE=image/jpeg:https://www.chiendarret.fr/wp-content/uploads/2021/07/setter_irlandais_field.jpg
ORGANIZER;CN="POINTER CF - M. DUPONT JEAN":MAILTO:dupont.lechane@orange.fr
END:VEVENT
BEGIN:VEVENT
DTSTART;VALUE=DATE:20210902
DTEND;VALUE=DATE:20210903
DTSTAMP:20260424T113613
CREATED:20210619T070914Z
LAST-MODIFIED:20210619T070914Z
UID:1978-1630540800-1630627199@www.chiendarret.fr
SUMMARY:CHAMPAGNY EN VANOISE - CACT CONTINENTAUX - C GRIFFON KORTHALS
DESCRIPTION:
URL:https://www.chiendarret.fr/les-concours/champagny-en-vanoise-cact-continentaux-c-griffon-korthals/
LOCATION:73350 CHAMPAGNY EN VANOISE\, CHAMPAGNY EN VANOISE\, 73350\, France
CATEGORIES:Fields Trials Gibier Sauvage
ATTACH;FMTTYPE=image/jpeg:https://www.chiendarret.fr/wp-content/uploads/2021/07/setter_irlandais_field.jpg
ORGANIZER;CN="C GRIFFON KORTHALS - M. GIL ROGER":MAILTO:gil-roger@wanadoo.fr
END:VEVENT
BEGIN:VEVENT
DTSTART;VALUE=DATE:20210902
DTEND;VALUE=DATE:20210903
DTSTAMP:20260424T113613
CREATED:20210619T071114Z
LAST-MODIFIED:20210622T110318Z
UID:2018-1630540800-1630627199@www.chiendarret.fr
SUMMARY:LANSLEBOURG MONT CENIS - CACIT BRITANNIQUES - C SETTER ANGLAIS
DESCRIPTION:
URL:https://www.chiendarret.fr/les-concours/lanslebourg-mont-cenis-cacit-britanniques-c-setter-anglais/
LOCATION:73480 VAL CENIS\, VAL CENIS\, 73480\, France
CATEGORIES:Fields Trials Gibier Sauvage
ATTACH;FMTTYPE=image/jpeg:https://www.chiendarret.fr/wp-content/uploads/2021/07/setter_irlandais_field.jpg
ORGANIZER;CN="C SETTER ANGLAIS - M. GIROLLET JEAN-PAUL":MAILTO:jpgmat@orange.fr
END:VEVENT
BEGIN:VEVENT
DTSTART;VALUE=DATE:20210903
DTEND;VALUE=DATE:20210904
DTSTAMP:20260424T113613
CREATED:20210618T232230Z
LAST-MODIFIED:20210619T070743Z
UID:1701-1630627200-1630713599@www.chiendarret.fr
SUMMARY:BEAUFORT - CACIT BRITANNIQUES - C SETTER ANGLAIS
DESCRIPTION:
URL:https://www.chiendarret.fr/les-concours/beaufort-cacit-britanniques-c-setter-anglais-3/
LOCATION:73270 BEAUFORT\, BEAUFORT\, 73270\, France
CATEGORIES:Fields Trials Gibier Sauvage
ATTACH;FMTTYPE=image/jpeg:https://www.chiendarret.fr/wp-content/uploads/2021/07/setter_irlandais_field.jpg
ORGANIZER;CN="C SETTER ANGLAIS - M. GIROLLET JEAN-PAUL":MAILTO:jpgmat@orange.fr
END:VEVENT
BEGIN:VEVENT
DTSTART;VALUE=DATE:20210903
DTEND;VALUE=DATE:20210904
DTSTAMP:20260424T113613
CREATED:20210619T070914Z
LAST-MODIFIED:20210619T070914Z
UID:1977-1630627200-1630713599@www.chiendarret.fr
SUMMARY:CHAMPAGNY EN VANOISE - CACIT CONTINENTAUX - C GRIFFON KORTHALS
DESCRIPTION:
URL:https://www.chiendarret.fr/les-concours/champagny-en-vanoise-cacit-continentaux-c-griffon-korthals/
LOCATION:73350 CHAMPAGNY EN VANOISE\, CHAMPAGNY EN VANOISE\, 73350\, France
CATEGORIES:Fields Trials Gibier Sauvage
ATTACH;FMTTYPE=image/jpeg:https://www.chiendarret.fr/wp-content/uploads/2021/07/setter_irlandais_field.jpg
ORGANIZER;CN="C GRIFFON KORTHALS - M. GIL ROGER":MAILTO:gil-roger@wanadoo.fr
END:VEVENT
BEGIN:VEVENT
DTSTART;VALUE=DATE:20210904
DTEND;VALUE=DATE:20210905
DTSTAMP:20260424T113613
CREATED:20210618T232212Z
LAST-MODIFIED:20210622T110916Z
UID:1690-1630713600-1630799999@www.chiendarret.fr
SUMMARY:ALLEMOND - CACIT CONTINENTAUX - C EPAGNEUL BRETON
DESCRIPTION:
URL:https://www.chiendarret.fr/les-concours/allemont-cacit-continentaux-c-epagneul-breton-2/
LOCATION:38114 ALLEMOND\, ALLEMOND\, 38114\, France
CATEGORIES:Fields Trials Gibier Sauvage
ATTACH;FMTTYPE=image/jpeg:https://www.chiendarret.fr/wp-content/uploads/2021/07/setter_irlandais_field.jpg
ORGANIZER;CN="C EPAGNEUL BRETON - M. POZO DOMINIQUE":MAILTO:dominique.pozo@orange.fr
END:VEVENT
BEGIN:VEVENT
DTSTART;VALUE=DATE:20210904
DTEND;VALUE=DATE:20210905
DTSTAMP:20260424T113613
CREATED:20210618T232230Z
LAST-MODIFIED:20210619T070743Z
UID:1702-1630713600-1630799999@www.chiendarret.fr
SUMMARY:BEAUFORT 2 - CACIT BRITANNIQUES - C SETTER ANGLAIS
DESCRIPTION:
URL:https://www.chiendarret.fr/les-concours/beaufort-2-cacit-britanniques-c-setter-anglais/
LOCATION:73270 BEAUFORT\, BEAUFORT\, 73270\, France
CATEGORIES:Fields Trials Gibier Sauvage
ATTACH;FMTTYPE=image/jpeg:https://www.chiendarret.fr/wp-content/uploads/2021/07/setter_irlandais_field.jpg
ORGANIZER;CN="C SETTER ANGLAIS - M. GIROLLET JEAN-PAUL":MAILTO:jpgmat@orange.fr
END:VEVENT
BEGIN:VEVENT
DTSTART;VALUE=DATE:20210904
DTEND;VALUE=DATE:20210905
DTSTAMP:20260424T113613
CREATED:20210619T070914Z
LAST-MODIFIED:20210619T070914Z
UID:1979-1630713600-1630799999@www.chiendarret.fr
SUMMARY:CHAMPAGNY EN VANOISE 2 - CACIT CONTINENTAUX - C GRIFFON KORTHALS
DESCRIPTION:COUPLES UNIQUEMENT
URL:https://www.chiendarret.fr/les-concours/champagny-en-vanoise-2-cacit-continentaux-c-griffon-korthals/
LOCATION:73350 CHAMPAGNY EN VANOISE\, CHAMPAGNY EN VANOISE\, 73350\, France
CATEGORIES:Fields Trials Gibier Sauvage
ATTACH;FMTTYPE=image/jpeg:https://www.chiendarret.fr/wp-content/uploads/2021/07/setter_irlandais_field.jpg
ORGANIZER;CN="C GRIFFON KORTHALS - M. GIL ROGER":MAILTO:gil-roger@wanadoo.fr
END:VEVENT
BEGIN:VEVENT
DTSTART;VALUE=DATE:20210905
DTEND;VALUE=DATE:20210906
DTSTAMP:20260424T113613
CREATED:20210619T071314Z
LAST-MODIFIED:20210619T071314Z
UID:2060-1630800000-1630886399@www.chiendarret.fr
SUMMARY:SEEZ - CACIT CONTINENTAUX - C GRIFFON KORTHALS
DESCRIPTION:COUPLES UNIQUEMENT
URL:https://www.chiendarret.fr/les-concours/seez-cacit-continentaux-c-griffon-korthals/
LOCATION:73700 SEEZ\, SEEZ\, 73700\, France
CATEGORIES:Fields Trials Gibier Sauvage
ATTACH;FMTTYPE=image/jpeg:https://www.chiendarret.fr/wp-content/uploads/2021/07/setter_irlandais_field.jpg
ORGANIZER;CN="C GRIFFON KORTHALS - M. GIL ROGER":MAILTO:gil-roger@wanadoo.fr
END:VEVENT
BEGIN:VEVENT
DTSTART;VALUE=DATE:20210905
DTEND;VALUE=DATE:20210906
DTSTAMP:20260424T113613
CREATED:20210619T071314Z
LAST-MODIFIED:20210619T071314Z
UID:2061-1630800000-1630886399@www.chiendarret.fr
SUMMARY:ST GERVAIS LES BAINS - CACIT BRITANNIQUES - C SETTER ANGLAIS
DESCRIPTION:
URL:https://www.chiendarret.fr/les-concours/st-gervais-les-bains-cacit-britanniques-c-setter-anglais/
LOCATION:74170 ST GERVAIS LES BAINS\, ST GERVAIS LES BAINS\, 74170\, France
CATEGORIES:Fields Trials Gibier Sauvage
ATTACH;FMTTYPE=image/jpeg:https://www.chiendarret.fr/wp-content/uploads/2021/07/setter_irlandais_field.jpg
ORGANIZER;CN="C SETTER ANGLAIS - M. GIROLLET JEAN-PAUL":MAILTO:jpgmat@orange.fr
END:VEVENT
BEGIN:VEVENT
DTSTART;VALUE=DATE:20210905
DTEND;VALUE=DATE:20210906
DTSTAMP:20260424T113613
CREATED:20210619T071329Z
LAST-MODIFIED:20210619T071329Z
UID:2065-1630800000-1630886399@www.chiendarret.fr
SUMMARY:ST SORLIN D ARVES - CACIT CONTINENTAUX - C EPAGNEUL BRETON
DESCRIPTION:
URL:https://www.chiendarret.fr/les-concours/st-sorlin-d-arves-cacit-continentaux-c-epagneul-breton/
LOCATION:73530 ST SORLIN D ARVES\, ST SORLIN D ARVES\, 73530\, France
CATEGORIES:Fields Trials Gibier Sauvage
ATTACH;FMTTYPE=image/jpeg:https://www.chiendarret.fr/wp-content/uploads/2021/07/setter_irlandais_field.jpg
ORGANIZER;CN="C EPAGNEUL BRETON - M. POZO DOMINIQUE":MAILTO:dominique.pozo@orange.fr
END:VEVENT
BEGIN:VEVENT
DTSTART;VALUE=DATE:20210906
DTEND;VALUE=DATE:20210907
DTSTAMP:20260424T113613
CREATED:20210619T071329Z
LAST-MODIFIED:20210619T071329Z
UID:2066-1630886400-1630972799@www.chiendarret.fr
SUMMARY:ST SORLIN D ARVES 2 - CACIT CONTINENTAUX - C EPAGNEUL BRETON
DESCRIPTION:
URL:https://www.chiendarret.fr/les-concours/st-sorlin-d-arves-2-cacit-continentaux-c-epagneul-breton/
LOCATION:73530 ST SORLIN D ARVES\, ST SORLIN D ARVES\, 73530\, France
CATEGORIES:Fields Trials Gibier Sauvage
ATTACH;FMTTYPE=image/jpeg:https://www.chiendarret.fr/wp-content/uploads/2021/07/setter_irlandais_field.jpg
ORGANIZER;CN="C EPAGNEUL BRETON - M. POZO DOMINIQUE":MAILTO:dominique.pozo@orange.fr
END:VEVENT
BEGIN:VEVENT
DTSTART;VALUE=DATE:20210907
DTEND;VALUE=DATE:20210908
DTSTAMP:20260424T113613
CREATED:20210618T232251Z
LAST-MODIFIED:20210619T070813Z
UID:1712-1630972800-1631059199@www.chiendarret.fr
SUMMARY:BOURG D OUEIL - CACIT BRITANNIQUES - C SETTER ANGLAIS
DESCRIPTION:
URL:https://www.chiendarret.fr/les-concours/bourg-d-oueil-cacit-britanniques-c-setter-anglais-5/
LOCATION:31110 BOURG D OUEIL\, BOURG D OUEIL\, 31110\, France
CATEGORIES:Fields Trials Gibier Sauvage
ATTACH;FMTTYPE=image/jpeg:https://www.chiendarret.fr/wp-content/uploads/2021/07/setter_irlandais_field.jpg
ORGANIZER;CN="C SETTER ANGLAIS - M. DUPERIER JEAN-LOUIS":MAILTO:jldcsa@gmail.com
END:VEVENT
BEGIN:VEVENT
DTSTART;VALUE=DATE:20210908
DTEND;VALUE=DATE:20210909
DTSTAMP:20260424T113613
CREATED:20210618T232212Z
LAST-MODIFIED:20210619T070725Z
UID:1691-1631059200-1631145599@www.chiendarret.fr
SUMMARY:ARACHES LA FRASSE - CACIT CONTINENTAUX - CF BRAQUE ALLEMAND
DESCRIPTION:
URL:https://www.chiendarret.fr/les-concours/araches-la-frasse-cacit-continentaux-cf-braque-allemand-4/
LOCATION:74300 ARACHES LA FRASSE\, ARACHES LA FRASSE\, 74300\, France
CATEGORIES:Fields Trials Gibier Sauvage
ATTACH;FMTTYPE=image/jpeg:https://www.chiendarret.fr/wp-content/uploads/2021/07/setter_irlandais_field.jpg
ORGANIZER;CN="CF BRAQUE ALLEMAND - M. BERTHON THOMAS":MAILTO:thomasberthon@orange.fr
END:VEVENT
BEGIN:VEVENT
DTSTART;VALUE=DATE:20210908
DTEND;VALUE=DATE:20210909
DTSTAMP:20260424T113613
CREATED:20210618T232251Z
LAST-MODIFIED:20210619T070814Z
UID:1713-1631059200-1631145599@www.chiendarret.fr
SUMMARY:BOURG D OUEIL 2 - CACIT BRITANNIQUES - C SETTER ANGLAIS
DESCRIPTION:
URL:https://www.chiendarret.fr/les-concours/bourg-d-oueil-2-cacit-britanniques-c-setter-anglais/
LOCATION:31110 BOURG D OUEIL\, BOURG D OUEIL\, 31110\, France
CATEGORIES:Fields Trials Gibier Sauvage
ATTACH;FMTTYPE=image/jpeg:https://www.chiendarret.fr/wp-content/uploads/2021/07/setter_irlandais_field.jpg
ORGANIZER;CN="C SETTER ANGLAIS - M. DUPERIER JEAN-LOUIS":MAILTO:jldcsa@gmail.com
END:VEVENT
BEGIN:VEVENT
DTSTART;VALUE=DATE:20210909
DTEND;VALUE=DATE:20210910
DTSTAMP:20260424T113613
CREATED:20210618T232212Z
LAST-MODIFIED:20210619T070725Z
UID:1692-1631145600-1631231999@www.chiendarret.fr
SUMMARY:ARACHES LA FRASSE 2 - CACIT CONTINENTAUX - CF BRAQUE ALLEMAND
DESCRIPTION:
URL:https://www.chiendarret.fr/les-concours/araches-la-frasse-2-cacit-continentaux-cf-braque-allemand/
LOCATION:74300 ARACHES LA FRASSE\, ARACHES LA FRASSE\, 74300\, France
CATEGORIES:Fields Trials Gibier Sauvage
ATTACH;FMTTYPE=image/jpeg:https://www.chiendarret.fr/wp-content/uploads/2021/07/setter_irlandais_field.jpg
ORGANIZER;CN="CF BRAQUE ALLEMAND - M. BERTHON THOMAS":MAILTO:thomasberthon@orange.fr
END:VEVENT
BEGIN:VEVENT
DTSTART;VALUE=DATE:20210909
DTEND;VALUE=DATE:20210910
DTSTAMP:20260424T113613
CREATED:20210618T232251Z
LAST-MODIFIED:20210619T070814Z
UID:1714-1631145600-1631231999@www.chiendarret.fr
SUMMARY:BOURG D OUEIL 3 - CACIT BRITANNIQUES - C SETTER ANGLAIS
DESCRIPTION:
URL:https://www.chiendarret.fr/les-concours/bourg-d-oueil-3-cacit-britanniques-c-setter-anglais/
LOCATION:31110 BOURG D OUEIL\, BOURG D OUEIL\, 31110\, France
CATEGORIES:Fields Trials Gibier Sauvage
ATTACH;FMTTYPE=image/jpeg:https://www.chiendarret.fr/wp-content/uploads/2021/07/setter_irlandais_field.jpg
ORGANIZER;CN="C SETTER ANGLAIS - M. DUPERIER JEAN-LOUIS":MAILTO:jldcsa@gmail.com
END:VEVENT
BEGIN:VEVENT
DTSTART;VALUE=DATE:20210910
DTEND;VALUE=DATE:20210911
DTSTAMP:20260424T113613
CREATED:20210618T232212Z
LAST-MODIFIED:20210619T070725Z
UID:1693-1631232000-1631318399@www.chiendarret.fr
SUMMARY:ARACHES LA FRASSE 3 - CACIT CONTINENTAUX - CF BRAQUE ALLEMAND
DESCRIPTION:
URL:https://www.chiendarret.fr/les-concours/araches-la-frasse-3-cacit-continentaux-cf-braque-allemand/
LOCATION:74300 ARACHES LA FRASSE\, ARACHES LA FRASSE\, 74300\, France
CATEGORIES:Fields Trials Gibier Sauvage
ATTACH;FMTTYPE=image/jpeg:https://www.chiendarret.fr/wp-content/uploads/2021/07/setter_irlandais_field.jpg
ORGANIZER;CN="CF BRAQUE ALLEMAND - M. BERTHON THOMAS":MAILTO:thomasberthon@orange.fr
END:VEVENT
BEGIN:VEVENT
DTSTART;VALUE=DATE:20210910
DTEND;VALUE=DATE:20210911
DTSTAMP:20260424T113613
CREATED:20210619T071159Z
LAST-MODIFIED:20210619T071159Z
UID:2036-1631232000-1631318399@www.chiendarret.fr
SUMMARY:LOUDENVIELLE - CACIT BRITANNIQUES - C SETTER ANGLAIS
DESCRIPTION:
URL:https://www.chiendarret.fr/les-concours/loudenvielle-cacit-britanniques-c-setter-anglais/
LOCATION:65240 LOUDENVIELLE\, LOUDENVIELLE\, 65240\, France
CATEGORIES:Fields Trials Gibier Sauvage
ATTACH;FMTTYPE=image/jpeg:https://www.chiendarret.fr/wp-content/uploads/2021/07/setter_irlandais_field.jpg
ORGANIZER;CN="C SETTER ANGLAIS - M. TROIETTO JEREMIE":MAILTO:troietto.jeremie@free.fr
END:VEVENT
BEGIN:VEVENT
DTSTART;VALUE=DATE:20210911
DTEND;VALUE=DATE:20210912
DTSTAMP:20260424T113613
CREATED:20210618T232252Z
LAST-MODIFIED:20210619T070814Z
UID:1715-1631318400-1631404799@www.chiendarret.fr
SUMMARY:BOURG D OUEIL 4 - CACIT BRITANNIQUES - C SETTER ANGLAIS
DESCRIPTION:
URL:https://www.chiendarret.fr/les-concours/bourg-d-oueil-4-cacit-britanniques-c-setter-anglais/
LOCATION:31110 BOURG D OUEIL\, BOURG D OUEIL\, 31110\, France
CATEGORIES:Fields Trials Gibier Sauvage
ATTACH;FMTTYPE=image/jpeg:https://www.chiendarret.fr/wp-content/uploads/2021/07/setter_irlandais_field.jpg
ORGANIZER;CN="C SETTER ANGLAIS - M. DUPERIER JEAN-LOUIS":MAILTO:jldcsa@gmail.com
END:VEVENT
BEGIN:VEVENT
DTSTART;VALUE=DATE:20210912
DTEND;VALUE=DATE:20210913
DTSTAMP:20260424T113613
CREATED:20210619T071213Z
LAST-MODIFIED:20210619T071213Z
UID:2037-1631404800-1631491199@www.chiendarret.fr
SUMMARY:LOUDENVIELLE 2 - CACIT BRITANNIQUES - C SETTER ANGLAIS
DESCRIPTION:
URL:https://www.chiendarret.fr/les-concours/loudenvielle-2-cacit-britanniques-c-setter-anglais/
LOCATION:65240 LOUDENVIELLE\, LOUDENVIELLE\, 65240\, France
CATEGORIES:Fields Trials Gibier Sauvage
ATTACH;FMTTYPE=image/jpeg:https://www.chiendarret.fr/wp-content/uploads/2021/07/setter_irlandais_field.jpg
ORGANIZER;CN="C SETTER ANGLAIS - M. TROIETTO JEREMIE":MAILTO:troietto.jeremie@free.fr
END:VEVENT
END:VCALENDAR