BEGIN:VCALENDAR
VERSION:2.0
PRODID:-//Chiens d&#039;arrêt - ECPv6.8.3//NONSGML v1.0//EN
CALSCALE:GREGORIAN
METHOD:PUBLISH
X-ORIGINAL-URL:https://www.chiendarret.fr
X-WR-CALDESC:Évènements pour Chiens d&#039;arrêt
REFRESH-INTERVAL;VALUE=DURATION:PT1H
X-Robots-Tag:noindex
X-PUBLISHED-TTL:PT1H
BEGIN:VTIMEZONE
TZID:Europe/Paris
BEGIN:DAYLIGHT
TZOFFSETFROM:+0100
TZOFFSETTO:+0200
TZNAME:CEST
DTSTART:20220327T010000
END:DAYLIGHT
BEGIN:STANDARD
TZOFFSETFROM:+0200
TZOFFSETTO:+0100
TZNAME:CET
DTSTART:20221030T010000
END:STANDARD
END:VTIMEZONE
BEGIN:VEVENT
DTSTART;VALUE=DATE:20220319
DTEND;VALUE=DATE:20220320
DTSTAMP:20260423T230801
CREATED:20220202T205133Z
LAST-MODIFIED:20220202T205133Z
UID:3633-1647648000-1647734399@www.chiendarret.fr
SUMMARY:ST ETIENNE D ORTHE - FTGS OUVERT CACT BRITANNIQUES
DESCRIPTION:
URL:https://www.chiendarret.fr/les-concours/st-etienne-d-orthe-ftgs-ouvert-cact-britanniques/
LOCATION:40300 ST ETIENNE D ORTHE\, ST ETIENNE D ORTHE\, 40300
CATEGORIES:Fields Trials Gibier Sauvage
ORGANIZER;CN="CUSCA-40 - M. CHAUVET JOEL":MAILTO:joel.chauvet@cusca40.fr
END:VEVENT
BEGIN:VEVENT
DTSTART;VALUE=DATE:20220319
DTEND;VALUE=DATE:20220320
DTSTAMP:20260423T230801
CREATED:20220202T205134Z
LAST-MODIFIED:20220202T205134Z
UID:3635-1647648000-1647734399@www.chiendarret.fr
SUMMARY:ST ETIENNE D ORTHE - FTGS OUVERT CACT CONTINENTAUX
DESCRIPTION:
URL:https://www.chiendarret.fr/les-concours/st-etienne-d-orthe-ftgs-ouvert-cact-continentaux/
LOCATION:40300 ST ETIENNE D ORTHE\, ST ETIENNE D ORTHE\, 40300
CATEGORIES:Fields Trials Gibier Sauvage
ORGANIZER;CN="CUSCA-40 - M. CHAUVET JOEL":MAILTO:joel.chauvet@cusca40.fr
END:VEVENT
END:VCALENDAR