BEGIN:VCALENDAR
VERSION:2.0
PRODID:-//Chiens d&#039;arrêt - ECPv6.8.3//NONSGML v1.0//EN
CALSCALE:GREGORIAN
METHOD:PUBLISH
X-WR-CALNAME:Chiens d&#039;arrêt
X-ORIGINAL-URL:https://www.chiendarret.fr
X-WR-CALDESC:Évènements pour Chiens d&#039;arrêt
REFRESH-INTERVAL;VALUE=DURATION:PT1H
X-Robots-Tag:noindex
X-PUBLISHED-TTL:PT1H
BEGIN:VTIMEZONE
TZID:Europe/Paris
BEGIN:DAYLIGHT
TZOFFSETFROM:+0100
TZOFFSETTO:+0200
TZNAME:CEST
DTSTART:20210328T010000
END:DAYLIGHT
BEGIN:STANDARD
TZOFFSETFROM:+0200
TZOFFSETTO:+0100
TZNAME:CET
DTSTART:20211031T010000
END:STANDARD
END:VTIMEZONE
BEGIN:VEVENT
DTSTART;VALUE=DATE:20211013
DTEND;VALUE=DATE:20211014
DTSTAMP:20260423T202523
CREATED:20210619T071343Z
LAST-MODIFIED:20210619T071343Z
UID:2068-1634083200-1634169599@www.chiendarret.fr
SUMMARY:ST VIGOR D YMONVILLE - CACT CONTINENTAUX - CUCC-76
DESCRIPTION:SOLO UNIQUEMENT
URL:https://www.chiendarret.fr/les-concours/st-vigor-d-ymonville-cact-continentaux-cucc-76/
LOCATION:76430 ST Vigor d Ymonville\, ST Vigor d Ymonville\, 76430\, France
CATEGORIES:Fields Trials Gibier Sauvage
ATTACH;FMTTYPE=image/jpeg:https://www.chiendarret.fr/wp-content/uploads/2021/07/setter_irlandais_field.jpg
ORGANIZER;CN="CUCC-76 - Mme GREFF VERONIQUE":MAILTO:v.greffboulitreau@gmail.com
END:VEVENT
BEGIN:VEVENT
DTSTART;VALUE=DATE:20211013
DTEND;VALUE=DATE:20211014
DTSTAMP:20260423T202523
CREATED:20210619T071343Z
LAST-MODIFIED:20210619T071343Z
UID:2067-1634083200-1634169599@www.chiendarret.fr
SUMMARY:ST VIGOR D YMONVILLE - CACT BRITANNIQUES - CUCC-76
DESCRIPTION:SOLO UNIQUEMENT
URL:https://www.chiendarret.fr/les-concours/st-vigor-d-ymonville-cact-britanniques-cucc-76/
LOCATION:76430 ST Vigor d Ymonville\, ST Vigor d Ymonville\, 76430\, France
CATEGORIES:Fields Trials Gibier Sauvage
ATTACH;FMTTYPE=image/jpeg:https://www.chiendarret.fr/wp-content/uploads/2021/07/setter_irlandais_field.jpg
ORGANIZER;CN="CUCC-76 - Mme GREFF VERONIQUE":MAILTO:v.greffboulitreau@gmail.com
END:VEVENT
BEGIN:VEVENT
DTSTART;VALUE=DATE:20211014
DTEND;VALUE=DATE:20211015
DTSTAMP:20260423T202523
CREATED:20210619T071344Z
LAST-MODIFIED:20210619T071344Z
UID:2070-1634169600-1634255999@www.chiendarret.fr
SUMMARY:ST VIGOR D YMONVILLE 2 - CACT CONTINENTAUX - CUCC-76
DESCRIPTION:SOL UNIQUEMENT
URL:https://www.chiendarret.fr/les-concours/st-vigor-d-ymonville-2-cact-continentaux-cucc-76/
LOCATION:76430 ST Vigor d Ymonville\, ST Vigor d Ymonville\, 76430\, France
CATEGORIES:Fields Trials Gibier Sauvage
ATTACH;FMTTYPE=image/jpeg:https://www.chiendarret.fr/wp-content/uploads/2021/07/setter_irlandais_field.jpg
ORGANIZER;CN="CUCC-76 - Mme GREFF VERONIQUE":MAILTO:v.greffboulitreau@gmail.com
END:VEVENT
BEGIN:VEVENT
DTSTART;VALUE=DATE:20211014
DTEND;VALUE=DATE:20211015
DTSTAMP:20260423T202523
CREATED:20210619T071344Z
LAST-MODIFIED:20210619T071344Z
UID:2069-1634169600-1634255999@www.chiendarret.fr
SUMMARY:ST VIGOR D YMONVILLE 2 - CACT BRITANNIQUES - CUCC-76
DESCRIPTION:SOLO UNIQUEMENT
URL:https://www.chiendarret.fr/les-concours/st-vigor-d-ymonville-2-cact-britanniques-cucc-76/
LOCATION:76430 ST Vigor d Ymonville\, ST Vigor d Ymonville\, 76430\, France
CATEGORIES:Fields Trials Gibier Sauvage
ATTACH;FMTTYPE=image/jpeg:https://www.chiendarret.fr/wp-content/uploads/2021/07/setter_irlandais_field.jpg
ORGANIZER;CN="CUCC-76 - Mme GREFF VERONIQUE":MAILTO:v.greffboulitreau@gmail.com
END:VEVENT
BEGIN:VEVENT
DTSTART;VALUE=DATE:20211016
DTEND;VALUE=DATE:20211017
DTSTAMP:20260423T202523
CREATED:20210619T070928Z
LAST-MODIFIED:20210619T070928Z
UID:1982-1634342400-1634428799@www.chiendarret.fr
SUMMARY:COUERON - CACIT BRITANNIQUES - C SETTER ANGLAIS
DESCRIPTION:
URL:https://www.chiendarret.fr/les-concours/coueron-cacit-britanniques-c-setter-anglais/
LOCATION:44220 COUERON\, COUERON\, 44220\, France
CATEGORIES:Fields Trials Gibier Sauvage
ATTACH;FMTTYPE=image/jpeg:https://www.chiendarret.fr/wp-content/uploads/2021/07/setter_irlandais_field.jpg
ORGANIZER;CN="C SETTER ANGLAIS - M. DE SORBAY THIERRY":MAILTO:aldo.hubert7r@orange.fr
END:VEVENT
BEGIN:VEVENT
DTSTART;VALUE=DATE:20211017
DTEND;VALUE=DATE:20211018
DTSTAMP:20260423T202523
CREATED:20210619T070928Z
LAST-MODIFIED:20210619T070928Z
UID:1983-1634428800-1634515199@www.chiendarret.fr
SUMMARY:COUERON 2 - CACIT BRITANNIQUES - C SETTER ANGLAIS
DESCRIPTION:
URL:https://www.chiendarret.fr/les-concours/coueron-2-cacit-britanniques-c-setter-anglais/
LOCATION:44220 COUERON\, COUERON\, 44220\, France
CATEGORIES:Fields Trials Gibier Sauvage
ATTACH;FMTTYPE=image/jpeg:https://www.chiendarret.fr/wp-content/uploads/2021/07/setter_irlandais_field.jpg
ORGANIZER;CN="C SETTER ANGLAIS - M. DE SORBAY THIERRY":MAILTO:aldo.hubert7r@orange.fr
END:VEVENT
BEGIN:VEVENT
DTSTART;VALUE=DATE:20211025
DTEND;VALUE=DATE:20211026
DTSTAMP:20260423T202523
CREATED:20210619T071014Z
LAST-MODIFIED:20210619T071014Z
UID:2000-1635120000-1635206399@www.chiendarret.fr
SUMMARY:GRAIGNES MESNIL ANGOT - CACIT BRITANNIQUES - AC R BASSE NORMANDIE
DESCRIPTION:
URL:https://www.chiendarret.fr/les-concours/graignes-mesnil-angot-cacit-britanniques-ac-r-basse-normandie/
LOCATION:50620 GRAIGNES MESNIL ANGOT\, GRAIGNES MESNIL ANGOT\, 50620\, France
CATEGORIES:Fields Trials Gibier Sauvage
ATTACH;FMTTYPE=image/jpeg:https://www.chiendarret.fr/wp-content/uploads/2021/07/setter_irlandais_field.jpg
ORGANIZER;CN="AC R BASSE NORMANDIE - M. BLEMUS LIONEL":MAILTO:lionelblemus1@gmail.com
END:VEVENT
BEGIN:VEVENT
DTSTART;VALUE=DATE:20211025
DTEND;VALUE=DATE:20211026
DTSTAMP:20260423T202523
CREATED:20210619T071244Z
LAST-MODIFIED:20210619T071244Z
UID:2051-1635120000-1635206399@www.chiendarret.fr
SUMMARY:PONT HEBERT - CACIT CONTINENTAUX - C EPAGNEUL BRETON
DESCRIPTION:
URL:https://www.chiendarret.fr/les-concours/pont-hebert-cacit-continentaux-c-epagneul-breton/
LOCATION:50880 PONT HEBERT\, PONT HEBERT\, 50880\, France
CATEGORIES:Fields Trials Gibier Sauvage
ATTACH;FMTTYPE=image/jpeg:https://www.chiendarret.fr/wp-content/uploads/2021/07/setter_irlandais_field.jpg
ORGANIZER;CN="C EPAGNEUL BRETON - M. DANIEL JACQUES":MAILTO:danieljacque@west-telecom.com
END:VEVENT
BEGIN:VEVENT
DTSTART;VALUE=DATE:20211026
DTEND;VALUE=DATE:20211027
DTSTAMP:20260423T202523
CREATED:20210619T071015Z
LAST-MODIFIED:20210619T071015Z
UID:2001-1635206400-1635292799@www.chiendarret.fr
SUMMARY:GRAIGNES MESNIL ANGOT - CACIT CONTINENTAUX - AC R BASSE NORMANDIE
DESCRIPTION:
URL:https://www.chiendarret.fr/les-concours/graignes-mesnil-angot-cacit-continentaux-ac-r-basse-normandie/
LOCATION:50620 GRAIGNES MESNIL ANGOT\, GRAIGNES MESNIL ANGOT\, 50620\, France
CATEGORIES:Fields Trials Gibier Sauvage
ATTACH;FMTTYPE=image/jpeg:https://www.chiendarret.fr/wp-content/uploads/2021/07/setter_irlandais_field.jpg
ORGANIZER;CN="AC R BASSE NORMANDIE - M. BLEMUS LIONEL":MAILTO:lionelblemus1@gmail.com
END:VEVENT
BEGIN:VEVENT
DTSTART;VALUE=DATE:20211026
DTEND;VALUE=DATE:20211027
DTSTAMP:20260423T202523
CREATED:20210619T071028Z
LAST-MODIFIED:20210619T071028Z
UID:2002-1635206400-1635292799@www.chiendarret.fr
SUMMARY:GRAIGNES MESNIL ANGOT 2 - CACIT BRITANNIQUES - AC R BASSE NORMANDIE
DESCRIPTION:
URL:https://www.chiendarret.fr/les-concours/graignes-mesnil-angot-2-cacit-britanniques-ac-r-basse-normandie/
LOCATION:50620 GRAIGNES MESNIL ANGOT\, GRAIGNES MESNIL ANGOT\, 50620\, France
CATEGORIES:Fields Trials Gibier Sauvage
ATTACH;FMTTYPE=image/jpeg:https://www.chiendarret.fr/wp-content/uploads/2021/07/setter_irlandais_field.jpg
ORGANIZER;CN="AC R BASSE NORMANDIE - M. BLEMUS LIONEL":MAILTO:lionelblemus1@gmail.com
END:VEVENT
BEGIN:VEVENT
DTSTART;VALUE=DATE:20211027
DTEND;VALUE=DATE:20211028
DTSTAMP:20260423T202523
CREATED:20210619T071028Z
LAST-MODIFIED:20210619T071028Z
UID:2003-1635292800-1635379199@www.chiendarret.fr
SUMMARY:GRAIGNES MESNIL ANGOT 2 - CACIT CONTINENTAUX - AC R BASSE NORMANDIE
DESCRIPTION:
URL:https://www.chiendarret.fr/les-concours/graignes-mesnil-angot-2-cacit-continentaux-ac-r-basse-normandie/
LOCATION:50620 GRAIGNES MESNIL ANGOT\, GRAIGNES MESNIL ANGOT\, 50620\, France
CATEGORIES:Fields Trials Gibier Sauvage
ATTACH;FMTTYPE=image/jpeg:https://www.chiendarret.fr/wp-content/uploads/2021/07/setter_irlandais_field.jpg
ORGANIZER;CN="AC R BASSE NORMANDIE - M. BLEMUS LIONEL":MAILTO:lionelblemus1@gmail.com
END:VEVENT
BEGIN:VEVENT
DTSTART;VALUE=DATE:20211027
DTEND;VALUE=DATE:20211028
DTSTAMP:20260423T202523
CREATED:20210619T071029Z
LAST-MODIFIED:20210619T071029Z
UID:2004-1635292800-1635379199@www.chiendarret.fr
SUMMARY:GRAIGNES MESNIL ANGOT 3 - CACIT BRITANNIQUES - AC R BASSE NORMANDIE
DESCRIPTION:
URL:https://www.chiendarret.fr/les-concours/graignes-mesnil-angot-3-cacit-britanniques-ac-r-basse-normandie/
LOCATION:50620 GRAIGNES MESNIL ANGOT\, GRAIGNES MESNIL ANGOT\, 50620\, France
CATEGORIES:Fields Trials Gibier Sauvage
ATTACH;FMTTYPE=image/jpeg:https://www.chiendarret.fr/wp-content/uploads/2021/07/setter_irlandais_field.jpg
ORGANIZER;CN="AC R BASSE NORMANDIE - M. BLEMUS LIONEL":MAILTO:lionelblemus1@gmail.com
END:VEVENT
BEGIN:VEVENT
DTSTART;VALUE=DATE:20211028
DTEND;VALUE=DATE:20211029
DTSTAMP:20260423T202523
CREATED:20210618T232215Z
LAST-MODIFIED:20210619T070728Z
UID:1695-1635379200-1635465599@www.chiendarret.fr
SUMMARY:BAUPTE - CACIT BRITANNIQUES - C ST LOIS CA
DESCRIPTION:
URL:https://www.chiendarret.fr/les-concours/baupte-cacit-britanniques-c-st-lois-ca-3/
LOCATION:50500 BAUPTE\, BAUPTE\, 50500\, France
CATEGORIES:Fields Trials Gibier Sauvage
ATTACH;FMTTYPE=image/jpeg:https://www.chiendarret.fr/wp-content/uploads/2021/07/setter_irlandais_field.jpg
ORGANIZER;CN="C ST LOIS CA - Mme LIOT MARTINE":MAILTO:liot.martine@9business.fr
END:VEVENT
BEGIN:VEVENT
DTSTART;VALUE=DATE:20211028
DTEND;VALUE=DATE:20211029
DTSTAMP:20260423T202523
CREATED:20210618T232215Z
LAST-MODIFIED:20210619T070728Z
UID:1696-1635379200-1635465599@www.chiendarret.fr
SUMMARY:BAUPTE - CACIT CONTINENTAUX - C ST LOIS CA
DESCRIPTION:
URL:https://www.chiendarret.fr/les-concours/baupte-cacit-continentaux-c-st-lois-ca-3/
LOCATION:50500 BAUPTE\, BAUPTE\, 50500\, France
CATEGORIES:Fields Trials Gibier Sauvage
ATTACH;FMTTYPE=image/jpeg:https://www.chiendarret.fr/wp-content/uploads/2021/07/setter_irlandais_field.jpg
ORGANIZER;CN="C ST LOIS CA - Mme LIOT MARTINE":MAILTO:liot.martine@9business.fr
END:VEVENT
BEGIN:VEVENT
DTSTART;VALUE=DATE:20211029
DTEND;VALUE=DATE:20211030
DTSTAMP:20260423T202523
CREATED:20210618T232216Z
LAST-MODIFIED:20210619T070728Z
UID:1699-1635465600-1635551999@www.chiendarret.fr
SUMMARY:BAUPTE 2 - CACIT CONTINENTAUX - C ST LOIS CA
DESCRIPTION:
URL:https://www.chiendarret.fr/les-concours/baupte-2-cacit-continentaux-c-st-lois-ca/
LOCATION:50500 BAUPTE\, BAUPTE\, 50500\, France
CATEGORIES:Fields Trials Gibier Sauvage
ATTACH;FMTTYPE=image/jpeg:https://www.chiendarret.fr/wp-content/uploads/2021/07/setter_irlandais_field.jpg
ORGANIZER;CN="C ST LOIS CA - Mme LIOT MARTINE":MAILTO:liot.martine@9business.fr
END:VEVENT
BEGIN:VEVENT
DTSTART;VALUE=DATE:20211029
DTEND;VALUE=DATE:20211030
DTSTAMP:20260423T202523
CREATED:20210618T232216Z
LAST-MODIFIED:20210619T070728Z
UID:1698-1635465600-1635551999@www.chiendarret.fr
SUMMARY:BAUPTE 2 - CACIT BRITANNIQUES - C ST LOIS CA
DESCRIPTION:
URL:https://www.chiendarret.fr/les-concours/baupte-2-cacit-britanniques-c-st-lois-ca/
LOCATION:50500 BAUPTE\, BAUPTE\, 50500\, France
CATEGORIES:Fields Trials Gibier Sauvage
ATTACH;FMTTYPE=image/jpeg:https://www.chiendarret.fr/wp-content/uploads/2021/07/setter_irlandais_field.jpg
ORGANIZER;CN="C ST LOIS CA - Mme LIOT MARTINE":MAILTO:liot.martine@9business.fr
END:VEVENT
BEGIN:VEVENT
DTSTART;VALUE=DATE:20211029
DTEND;VALUE=DATE:20211030
DTSTAMP:20260423T202523
CREATED:20210619T071144Z
LAST-MODIFIED:20210619T071144Z
UID:2028-1635465600-1635551999@www.chiendarret.fr
SUMMARY:LEVIER - CACT BRITANNIQUES - SC FRANCHE COMTE
DESCRIPTION:CHEQUE ORDRE ACTFC
URL:https://www.chiendarret.fr/les-concours/levier-cact-britanniques-sc-franche-comte/
LOCATION:25270 LEVIER\, LEVIER\, 25270\, France
CATEGORIES:Fields Trials Gibier Sauvage
ATTACH;FMTTYPE=image/jpeg:https://www.chiendarret.fr/wp-content/uploads/2021/07/setter_irlandais_field.jpg
ORGANIZER;CN="SC FRANCHE COMTE - M. MORIN MICHEL":MAILTO:Michel.morin15@free.fr
END:VEVENT
BEGIN:VEVENT
DTSTART;VALUE=DATE:20211029
DTEND;VALUE=DATE:20211030
DTSTAMP:20260423T202523
CREATED:20210619T071144Z
LAST-MODIFIED:20210619T071144Z
UID:2029-1635465600-1635551999@www.chiendarret.fr
SUMMARY:LEVIER - CACT CONTINENTAUX - SC FRANCHE COMTE
DESCRIPTION:CHEQUE ORDRE ACTFC
URL:https://www.chiendarret.fr/les-concours/levier-cact-continentaux-sc-franche-comte/
LOCATION:25270 LEVIER\, LEVIER\, 25270\, France
CATEGORIES:Fields Trials Gibier Sauvage
ATTACH;FMTTYPE=image/jpeg:https://www.chiendarret.fr/wp-content/uploads/2021/07/setter_irlandais_field.jpg
ORGANIZER;CN="SC FRANCHE COMTE - M. MORIN MICHEL":MAILTO:Michel.morin15@free.fr
END:VEVENT
END:VCALENDAR