BEGIN:VCALENDAR
VERSION:2.0
PRODID:-//Chiens d&#039;arrêt - ECPv6.8.3//NONSGML v1.0//EN
CALSCALE:GREGORIAN
METHOD:PUBLISH
X-WR-CALNAME:Chiens d&#039;arrêt
X-ORIGINAL-URL:https://www.chiendarret.fr
X-WR-CALDESC:Évènements pour Chiens d&#039;arrêt
REFRESH-INTERVAL;VALUE=DURATION:PT1H
X-Robots-Tag:noindex
X-PUBLISHED-TTL:PT1H
BEGIN:VTIMEZONE
TZID:Europe/Paris
BEGIN:DAYLIGHT
TZOFFSETFROM:+0100
TZOFFSETTO:+0200
TZNAME:CEST
DTSTART:20220327T010000
END:DAYLIGHT
BEGIN:STANDARD
TZOFFSETFROM:+0200
TZOFFSETTO:+0100
TZNAME:CET
DTSTART:20221030T010000
END:STANDARD
END:VTIMEZONE
BEGIN:VEVENT
DTSTART;VALUE=DATE:20221208
DTEND;VALUE=DATE:20221209
DTSTAMP:20260420T232523
CREATED:20220617T204313Z
LAST-MODIFIED:20220617T204313Z
UID:4127-1670457600-1670543999@www.chiendarret.fr
SUMMARY:MAGNY - FTGN C GRIFFON KORTHALS - 08/12/22
DESCRIPTION:CEB – CEF – CGK – APBW – CFBA – CFEML – VCF – CHEQUE CUSCA 28
URL:https://www.chiendarret.fr/les-concours/magny-ftgn-c-griffon-korthals-08-12-22/
LOCATION:28120 MAGNY\, MAGNY\, 28120\, France
CATEGORIES:Fields Trials Gibier Naturel
ORGANIZER;CN="C GRIFFON KORTHALS - M. BALLE JEAN PAUL":MAILTO:balle.jean-paul@orange.fr
END:VEVENT
END:VCALENDAR