BEGIN:VCALENDAR
VERSION:2.0
PRODID:-//Chiens d&#039;arrêt - ECPv6.8.3//NONSGML v1.0//EN
CALSCALE:GREGORIAN
METHOD:PUBLISH
X-ORIGINAL-URL:https://www.chiendarret.fr
X-WR-CALDESC:Évènements pour Chiens d&#039;arrêt
REFRESH-INTERVAL;VALUE=DURATION:PT1H
X-Robots-Tag:noindex
X-PUBLISHED-TTL:PT1H
BEGIN:VTIMEZONE
TZID:Europe/Paris
BEGIN:DAYLIGHT
TZOFFSETFROM:+0100
TZOFFSETTO:+0200
TZNAME:CEST
DTSTART:20210328T010000
END:DAYLIGHT
BEGIN:STANDARD
TZOFFSETFROM:+0200
TZOFFSETTO:+0100
TZNAME:CET
DTSTART:20211031T010000
END:STANDARD
END:VTIMEZONE
BEGIN:VEVENT
DTSTART;VALUE=DATE:20210704
DTEND;VALUE=DATE:20210705
DTSTAMP:20260422T080545
CREATED:20210628T075818Z
LAST-MODIFIED:20210628T075933Z
UID:3066-1625356800-1625443199@www.chiendarret.fr
SUMMARY:ST Germain Et Mons - TAN Setter Irlandais
DESCRIPTION:TAN Dordogne et Gironde
URL:https://www.chiendarret.fr/les-concours/st-germain-et-mons-tan-setter-irlandais/
LOCATION:24520 ST GERMAIN ET MONS\, ST GERMAIN ET MONS\, 24520
CATEGORIES:TAN Setter Irlandais
ATTACH;FMTTYPE=image/jpeg:https://www.chiendarret.fr/wp-content/uploads/2021/06/tan_SI.jpg
END:VEVENT
END:VCALENDAR