BEGIN:VCALENDAR
VERSION:2.0
PRODID:-//Chiens d&#039;arrêt - ECPv6.8.3//NONSGML v1.0//EN
CALSCALE:GREGORIAN
METHOD:PUBLISH
X-WR-CALNAME:Chiens d&#039;arrêt
X-ORIGINAL-URL:https://www.chiendarret.fr
X-WR-CALDESC:Évènements pour Chiens d&#039;arrêt
REFRESH-INTERVAL;VALUE=DURATION:PT1H
X-Robots-Tag:noindex
X-PUBLISHED-TTL:PT1H
BEGIN:VTIMEZONE
TZID:Europe/Paris
BEGIN:DAYLIGHT
TZOFFSETFROM:+0100
TZOFFSETTO:+0200
TZNAME:CEST
DTSTART:20210328T010000
END:DAYLIGHT
BEGIN:STANDARD
TZOFFSETFROM:+0200
TZOFFSETTO:+0100
TZNAME:CET
DTSTART:20211031T010000
END:STANDARD
END:VTIMEZONE
BEGIN:VEVENT
DTSTART;VALUE=DATE:20210816
DTEND;VALUE=DATE:20210817
DTSTAMP:20260422T143451
CREATED:20210628T075041Z
LAST-MODIFIED:20210628T075041Z
UID:3049-1629072000-1629158399@www.chiendarret.fr
SUMMARY:TAN & Selection Pointer - Limousin
DESCRIPTION:
URL:https://www.chiendarret.fr/les-concours/tan-selection-pointer-limousin/
LOCATION:19250 MEYMAC\, MEYMAC\, 19250\, France
CATEGORIES:TAN Pointer
ATTACH;FMTTYPE=image/jpeg:https://www.chiendarret.fr/wp-content/uploads/2021/06/cropped-oclock-du-gouyre-1.jpg
ORGANIZER;CN="Pointer Club Fran%C3%A7ais - M Combe":MAILTO:andrecombe@orange.fr
END:VEVENT
BEGIN:VEVENT
DTSTART;VALUE=DATE:20210816
DTEND;VALUE=DATE:20210817
DTSTAMP:20260422T143451
CREATED:20210628T075226Z
LAST-MODIFIED:20210628T075226Z
UID:3051-1629072000-1629158399@www.chiendarret.fr
SUMMARY:TAN & Selection Pointer - Champagne
DESCRIPTION:
URL:https://www.chiendarret.fr/les-concours/tan-selection-pointer-champagne/
LOCATION:51800 ELISE DAUCOURT\, ELISE DAUCOURT\, 51800
CATEGORIES:TAN Pointer
ATTACH;FMTTYPE=image/jpeg:https://www.chiendarret.fr/wp-content/uploads/2021/06/cropped-oclock-du-gouyre-1.jpg
ORGANIZER;CN="Pointer Club Fran%C3%A7ais - M Burlat":MAILTO:pascalburlat@gmail.com
END:VEVENT
END:VCALENDAR