BEGIN:VCALENDAR
VERSION:2.0
PRODID:-//Chiens d&#039;arrêt - ECPv6.8.3//NONSGML v1.0//EN
CALSCALE:GREGORIAN
METHOD:PUBLISH
X-WR-CALNAME:Chiens d&#039;arrêt
X-ORIGINAL-URL:https://www.chiendarret.fr
X-WR-CALDESC:Évènements pour Chiens d&#039;arrêt
REFRESH-INTERVAL;VALUE=DURATION:PT1H
X-Robots-Tag:noindex
X-PUBLISHED-TTL:PT1H
BEGIN:VTIMEZONE
TZID:Europe/Paris
BEGIN:DAYLIGHT
TZOFFSETFROM:+0100
TZOFFSETTO:+0200
TZNAME:CEST
DTSTART:20210328T010000
END:DAYLIGHT
BEGIN:STANDARD
TZOFFSETFROM:+0200
TZOFFSETTO:+0100
TZNAME:CET
DTSTART:20211031T010000
END:STANDARD
END:VTIMEZONE
BEGIN:VEVENT
DTSTART;VALUE=DATE:20210801
DTEND;VALUE=DATE:20210802
DTSTAMP:20260422T143451
CREATED:20210628T075035Z
LAST-MODIFIED:20210628T075035Z
UID:3043-1627776000-1627862399@www.chiendarret.fr
SUMMARY:TAN & Selection Pointer - Bretagne
DESCRIPTION:Rdv: 8h30 à la salle\, place de la Mairie de les BRULAIS 35330.
URL:https://www.chiendarret.fr/les-concours/tan-selection-pointer-bretagne/
LOCATION:35330 LES BRULAIS\, LES BRULAIS\, 35330
CATEGORIES:TAN Pointer
ATTACH;FMTTYPE=image/jpeg:https://www.chiendarret.fr/wp-content/uploads/2021/06/cropped-oclock-du-gouyre-1.jpg
ORGANIZER;CN="Pointer Club Fran%C3%A7ais - M Lorant":MAILTO:jackylorant@hotmail.com
END:VEVENT
BEGIN:VEVENT
DTSTART;VALUE=DATE:20210801
DTEND;VALUE=DATE:20210802
DTSTAMP:20260422T143451
CREATED:20210628T075040Z
LAST-MODIFIED:20210628T075040Z
UID:3047-1627776000-1627862399@www.chiendarret.fr
SUMMARY:TAN & Selection Pointer - Cote d'Azur
DESCRIPTION:
URL:https://www.chiendarret.fr/les-concours/tan-selection-pointer-cote-dazur/
LOCATION:83560 VINON SUR VERDON\, VINON SUR VERDON\, 83560
CATEGORIES:TAN Pointer
ATTACH;FMTTYPE=image/jpeg:https://www.chiendarret.fr/wp-content/uploads/2021/06/cropped-oclock-du-gouyre-1.jpg
ORGANIZER;CN="Pointer Club Fran%C3%A7ais - M Usai":MAILTO:jean.usai@neuf.fr
END:VEVENT
END:VCALENDAR