BEGIN:VCALENDAR
VERSION:2.0
PRODID:-//Chiens d&#039;arrêt - ECPv6.8.3//NONSGML v1.0//EN
CALSCALE:GREGORIAN
METHOD:PUBLISH
X-ORIGINAL-URL:https://www.chiendarret.fr
X-WR-CALDESC:Évènements pour Chiens d&#039;arrêt
REFRESH-INTERVAL;VALUE=DURATION:PT1H
X-Robots-Tag:noindex
X-PUBLISHED-TTL:PT1H
BEGIN:VTIMEZONE
TZID:Europe/Paris
BEGIN:DAYLIGHT
TZOFFSETFROM:+0100
TZOFFSETTO:+0200
TZNAME:CEST
DTSTART:20210328T010000
END:DAYLIGHT
BEGIN:STANDARD
TZOFFSETFROM:+0200
TZOFFSETTO:+0100
TZNAME:CET
DTSTART:20211031T010000
END:STANDARD
END:VTIMEZONE
BEGIN:VEVENT
DTSTART;VALUE=DATE:20210703
DTEND;VALUE=DATE:20210704
DTSTAMP:20260425T053134
CREATED:20210628T075818Z
LAST-MODIFIED:20210628T080028Z
UID:3067-1625270400-1625356799@www.chiendarret.fr
SUMMARY:Lanty - TAN Braque d'Auvergne
DESCRIPTION:TAN de la Nationale d’Elevage. Domaine du Champ Denot. RDV 7h45
URL:https://www.chiendarret.fr/les-concours/lanty-tan-braque-dauvergne/
LOCATION:28250 LANTY\, LANTY\, 28250
CATEGORIES:TAN Braque d'Auvergne
ORGANIZER;CN="C Braque d'Auvergne - M APPLENCOURT":MAILTO:michael.applencourt@orange.fr
END:VEVENT
END:VCALENDAR