BEGIN:VCALENDAR
VERSION:2.0
PRODID:-//Chiens d&#039;arrêt - ECPv6.8.3//NONSGML v1.0//EN
CALSCALE:GREGORIAN
METHOD:PUBLISH
X-WR-CALNAME:Chiens d&#039;arrêt
X-ORIGINAL-URL:https://www.chiendarret.fr
X-WR-CALDESC:Évènements pour Chiens d&#039;arrêt
REFRESH-INTERVAL;VALUE=DURATION:PT1H
X-Robots-Tag:noindex
X-PUBLISHED-TTL:PT1H
BEGIN:VTIMEZONE
TZID:Europe/Paris
BEGIN:DAYLIGHT
TZOFFSETFROM:+0100
TZOFFSETTO:+0200
TZNAME:CEST
DTSTART:20220327T010000
END:DAYLIGHT
BEGIN:STANDARD
TZOFFSETFROM:+0200
TZOFFSETTO:+0100
TZNAME:CET
DTSTART:20221030T010000
END:STANDARD
END:VTIMEZONE
BEGIN:VEVENT
DTSTART;VALUE=DATE:20221219
DTEND;VALUE=DATE:20221220
DTSTAMP:20260420T031406
CREATED:20220617T203152Z
LAST-MODIFIED:20220617T203152Z
UID:4027-1671408000-1671494399@www.chiendarret.fr
SUMMARY:ST FELIX SUR SORGUES - FTA C EPAGNEUL FRANCAIS - 19/12/22
DESCRIPTION:CEB – CEF – CEP – CGK – CFBA – CFEML – RABA – CBB – RDV SALLE DES FETES ST FELIX CONCOURS LIMITE A 2 SOLOS.
URL:https://www.chiendarret.fr/les-concours/st-felix-sur-sorgues-fta-c-epagneul-francais-19-12-22/
LOCATION:12400 ST FELIX DE SORGUES\, ST FELIX DE SORGUES\, 12400
CATEGORIES:Fields Trials d'Automne
ORGANIZER;CN="C EPAGNEUL FRANCAIS - M. THOUY ERIC":MAILTO:e.thouy@hotmail.fr
END:VEVENT
END:VCALENDAR