BEGIN:VCALENDAR
VERSION:2.0
PRODID:-//Chiens d&#039;arrêt - ECPv6.8.3//NONSGML v1.0//EN
CALSCALE:GREGORIAN
METHOD:PUBLISH
X-ORIGINAL-URL:https://www.chiendarret.fr
X-WR-CALDESC:Évènements pour Chiens d&#039;arrêt
REFRESH-INTERVAL;VALUE=DURATION:PT1H
X-Robots-Tag:noindex
X-PUBLISHED-TTL:PT1H
BEGIN:VTIMEZONE
TZID:Europe/Paris
BEGIN:DAYLIGHT
TZOFFSETFROM:+0100
TZOFFSETTO:+0200
TZNAME:CEST
DTSTART:20220327T010000
END:DAYLIGHT
BEGIN:STANDARD
TZOFFSETFROM:+0200
TZOFFSETTO:+0100
TZNAME:CET
DTSTART:20221030T010000
END:STANDARD
END:VTIMEZONE
BEGIN:VEVENT
DTSTART;VALUE=DATE:20221217
DTEND;VALUE=DATE:20221218
DTSTAMP:20260420T031559
CREATED:20220617T202217Z
LAST-MODIFIED:20220617T202217Z
UID:3997-1671235200-1671321599@www.chiendarret.fr
SUMMARY:LANTY - FTA C BRAQUE BOURBONNAIS - 17/12/22
DESCRIPTION:CBSG – CEB – CEF – CESU – CFBA – RABA – VCF – CBB –
URL:https://www.chiendarret.fr/les-concours/lanty-fta-c-braque-bourbonnais-17-12-22/
LOCATION:58250 LANTY\, LANTY\, 58250
CATEGORIES:Fields Trials d'Automne
ORGANIZER;CN="C BRAQUE BOURBONNAIS - M. BERNARD GARCIA":MAILTO:beniatga@hotmail.fr
END:VEVENT
BEGIN:VEVENT
DTSTART;VALUE=DATE:20221217
DTEND;VALUE=DATE:20221218
DTSTAMP:20260420T031559
CREATED:20220617T203840Z
LAST-MODIFIED:20220617T203840Z
UID:4049-1671235200-1671321599@www.chiendarret.fr
SUMMARY:BAILLEUL - FTA C EPAGNEUL PICARD - 17/12/22
DESCRIPTION:CLOTURE ENGAGEMENTS LE 7/12/2022
URL:https://www.chiendarret.fr/les-concours/bailleul-fta-c-epagneul-picard-17-12-22/
LOCATION:59270 BAILLEUL\, BAILLEUL\, 59270\, France
CATEGORIES:Fields Trials d'Automne
ORGANIZER;CN="C EPAGNEUL PICARD - M. BRUTELLE WILLIAM":MAILTO:william.brutelle@wanadoo.fr
END:VEVENT
END:VCALENDAR