BEGIN:VCALENDAR
VERSION:2.0
PRODID:-//Chiens d&#039;arrêt - ECPv6.8.3//NONSGML v1.0//EN
CALSCALE:GREGORIAN
METHOD:PUBLISH
X-ORIGINAL-URL:https://www.chiendarret.fr
X-WR-CALDESC:Évènements pour Chiens d&#039;arrêt
REFRESH-INTERVAL;VALUE=DURATION:PT1H
X-Robots-Tag:noindex
X-PUBLISHED-TTL:PT1H
BEGIN:VTIMEZONE
TZID:Europe/Paris
BEGIN:DAYLIGHT
TZOFFSETFROM:+0100
TZOFFSETTO:+0200
TZNAME:CEST
DTSTART:20220327T010000
END:DAYLIGHT
BEGIN:STANDARD
TZOFFSETFROM:+0200
TZOFFSETTO:+0100
TZNAME:CET
DTSTART:20221030T010000
END:STANDARD
END:VTIMEZONE
BEGIN:VEVENT
DTSTART;VALUE=DATE:20221216
DTEND;VALUE=DATE:20221217
DTSTAMP:20260420T031628
CREATED:20220615T215203Z
LAST-MODIFIED:20220617T201928Z
UID:3801-1671148800-1671235199@www.chiendarret.fr
SUMMARY:BOUISSE - FTA C BRAQUE FRANCAIS - 16/12/22
DESCRIPTION:CEB – CEF – CGK – APBW – CFBA – CFEML – VCF –
URL:https://www.chiendarret.fr/les-concours/bouisse-fta-c-braque-francais-16-12-22/
LOCATION:11330 BOUISSE\, BOUISSE\, 11330\, France
CATEGORIES:Fields Trials d'Automne
ORGANIZER;CN="C BRAQUE FRANCAIS - M. GASIOT PASCAL":MAILTO:gasiot.pascal@gmail.com
END:VEVENT
END:VCALENDAR