BEGIN:VCALENDAR
VERSION:2.0
PRODID:-//Chiens d&#039;arrêt - ECPv6.8.3//NONSGML v1.0//EN
CALSCALE:GREGORIAN
METHOD:PUBLISH
X-WR-CALNAME:Chiens d&#039;arrêt
X-ORIGINAL-URL:https://www.chiendarret.fr
X-WR-CALDESC:Évènements pour Chiens d&#039;arrêt
REFRESH-INTERVAL;VALUE=DURATION:PT1H
X-Robots-Tag:noindex
X-PUBLISHED-TTL:PT1H
BEGIN:VTIMEZONE
TZID:Europe/Paris
BEGIN:DAYLIGHT
TZOFFSETFROM:+0100
TZOFFSETTO:+0200
TZNAME:CEST
DTSTART:20220327T010000
END:DAYLIGHT
BEGIN:STANDARD
TZOFFSETFROM:+0200
TZOFFSETTO:+0100
TZNAME:CET
DTSTART:20221030T010000
END:STANDARD
END:VTIMEZONE
BEGIN:VEVENT
DTSTART;VALUE=DATE:20221214
DTEND;VALUE=DATE:20221215
DTSTAMP:20260420T031427
CREATED:20220615T215203Z
LAST-MODIFIED:20220617T201928Z
UID:3799-1670976000-1671062399@www.chiendarret.fr
SUMMARY:BOUISSE - FTA C BRAQUE FRANCAIS - 14/12/22
DESCRIPTION:CEB – CEF – CGK – APBW – CFBA – CFEML – VCF –
URL:https://www.chiendarret.fr/les-concours/bouisse-fta-c-braque-francais-14-12-22/
LOCATION:11330 BOUISSE\, BOUISSE\, 11330\, France
CATEGORIES:Fields Trials d'Automne
ORGANIZER;CN="C BRAQUE FRANCAIS - M. GASIOT PASCAL":MAILTO:gasiot.pascal@gmail.com
END:VEVENT
BEGIN:VEVENT
DTSTART;VALUE=DATE:20221214
DTEND;VALUE=DATE:20221215
DTSTAMP:20260420T031427
CREATED:20220617T211323Z
LAST-MODIFIED:20220617T211323Z
UID:4202-1670976000-1671062399@www.chiendarret.fr
SUMMARY:COINGS EX DEOLS - FTGN AMIC AMATEURS FT - 14/12/22
DESCRIPTION:ENGAGEMENTS APRES PAIEMENT AUCUN CHANGEMENT APRES LE 5/12/22
URL:https://www.chiendarret.fr/les-concours/coings-ex-deols-ftgn-amic-amateurs-ft-14-12-22/
LOCATION:36130 COINGS\, COINGS\, 36130
CATEGORIES:Fields Trials Gibier Naturel
ORGANIZER;CN="AMIC AMATEURS FT - Mme DUMAND EVELYNE":MAILTO:evelyne.dumand@sfr.fr
END:VEVENT
BEGIN:VEVENT
DTSTART;VALUE=DATE:20221214
DTEND;VALUE=DATE:20221215
DTSTAMP:20260420T031427
CREATED:20220617T211323Z
LAST-MODIFIED:20220617T211323Z
UID:4203-1670976000-1671062399@www.chiendarret.fr
SUMMARY:COINGS EX DEOLS - FTGN 2 AMIC AMATEURS FT - 14/12/22
DESCRIPTION:ENGAGEMENTS APRES PAIEMENT AUCUN CHANGEMENT APRES LE 5/12/22
URL:https://www.chiendarret.fr/les-concours/coings-ex-deols-ftgn-2-amic-amateurs-ft-14-12-22/
LOCATION:36130 COINGS\, COINGS\, 36130
CATEGORIES:Fields Trials Gibier Naturel
ORGANIZER;CN="AMIC AMATEURS FT - Mme DUMAND EVELYNE":MAILTO:evelyne.dumand@sfr.fr
END:VEVENT
END:VCALENDAR