BEGIN:VCALENDAR
VERSION:2.0
PRODID:-//Chiens d&#039;arrêt - ECPv6.8.3//NONSGML v1.0//EN
CALSCALE:GREGORIAN
METHOD:PUBLISH
X-ORIGINAL-URL:https://www.chiendarret.fr
X-WR-CALDESC:Évènements pour Chiens d&#039;arrêt
REFRESH-INTERVAL;VALUE=DURATION:PT1H
X-Robots-Tag:noindex
X-PUBLISHED-TTL:PT1H
BEGIN:VTIMEZONE
TZID:Europe/Paris
BEGIN:DAYLIGHT
TZOFFSETFROM:+0100
TZOFFSETTO:+0200
TZNAME:CEST
DTSTART:20220327T010000
END:DAYLIGHT
BEGIN:STANDARD
TZOFFSETFROM:+0200
TZOFFSETTO:+0100
TZNAME:CET
DTSTART:20221030T010000
END:STANDARD
END:VTIMEZONE
BEGIN:VEVENT
DTSTART;VALUE=DATE:20221210
DTEND;VALUE=DATE:20221211
DTSTAMP:20260420T031628
CREATED:20220617T202618Z
LAST-MODIFIED:20220617T202618Z
UID:4009-1670630400-1670716799@www.chiendarret.fr
SUMMARY:MOLLIENS DREUIL - FTA C EPAGNEUL FRANCAIS - 10/12/22
DESCRIPTION:CBSG – CEF – CEP – CESU – RABA – VCF – CBB – RDV PLACE DE L’EGLISE
URL:https://www.chiendarret.fr/les-concours/molliens-dreuil-fta-c-epagneul-francais-10-12-22/
LOCATION:80540 MOLLIENS DREUIL\, MOLLIENS DREUIL\, 80540\, France
CATEGORIES:Fields Trials d'Automne
ORGANIZER;CN="C EPAGNEUL FRANCAIS - Mme BULLERYAL VALERIE":MAILTO:vp.bulleryal@infonie.fr
END:VEVENT
END:VCALENDAR