BEGIN:VCALENDAR
VERSION:2.0
PRODID:-//Chiens d&#039;arrêt - ECPv6.8.3//NONSGML v1.0//EN
CALSCALE:GREGORIAN
METHOD:PUBLISH
X-WR-CALNAME:Chiens d&#039;arrêt
X-ORIGINAL-URL:https://www.chiendarret.fr
X-WR-CALDESC:Évènements pour Chiens d&#039;arrêt
REFRESH-INTERVAL;VALUE=DURATION:PT1H
X-Robots-Tag:noindex
X-PUBLISHED-TTL:PT1H
BEGIN:VTIMEZONE
TZID:Europe/Paris
BEGIN:DAYLIGHT
TZOFFSETFROM:+0100
TZOFFSETTO:+0200
TZNAME:CEST
DTSTART:20220327T010000
END:DAYLIGHT
BEGIN:STANDARD
TZOFFSETFROM:+0200
TZOFFSETTO:+0100
TZNAME:CET
DTSTART:20221030T010000
END:STANDARD
END:VTIMEZONE
BEGIN:VEVENT
DTSTART;VALUE=DATE:20221207
DTEND;VALUE=DATE:20221208
DTSTAMP:20260420T031359
CREATED:20220615T215337Z
LAST-MODIFIED:20220617T204300Z
UID:3820-1670371200-1670457599@www.chiendarret.fr
SUMMARY:MAGNY - FTGN RA SETTER GORDON - 07/12/22
DESCRIPTION:CSA – PCF – RASG – RED.CLUB – SOLOS UNIQUEMENT – CHEQUE CUSCA 28
URL:https://www.chiendarret.fr/les-concours/magny-ftgn-ra-setter-gordon-07-12-22/
LOCATION:28120 MAGNY\, MAGNY\, 28120\, France
CATEGORIES:Fields Trials Gibier Naturel
ORGANIZER;CN="RA SETTER GORDON - M. BALLE JEAN PAUL":MAILTO:balle.jean-paul@orange.fr
END:VEVENT
BEGIN:VEVENT
DTSTART;VALUE=DATE:20221207
DTEND;VALUE=DATE:20221208
DTSTAMP:20260420T031359
CREATED:20220615T215337Z
LAST-MODIFIED:20220617T204300Z
UID:3822-1670371200-1670457599@www.chiendarret.fr
SUMMARY:MAGNY - FTGN C EPAGNEUL BRETON - 07/12/22
DESCRIPTION:CBF –  CEB –  CEP –  APBW –  CFBA – DCF –  RABA – SOLO UNIQUEMENT CHEQUE: CUSCA28 8 CHIENS/CONDUCTEUR
URL:https://www.chiendarret.fr/les-concours/magny-ftgn-c-epagneul-breton-07-12-22/
LOCATION:28120 MAGNY\, MAGNY\, 28120\, France
CATEGORIES:Fields Trials Gibier Naturel
ORGANIZER;CN="C EPAGNEUL BRETON - M. BALLE JEAN PAUL":MAILTO:balle.jean-paul@orange.fr
END:VEVENT
BEGIN:VEVENT
DTSTART;VALUE=DATE:20221207
DTEND;VALUE=DATE:20221208
DTSTAMP:20260420T031359
CREATED:20220615T215337Z
LAST-MODIFIED:20220617T204300Z
UID:3823-1670371200-1670457599@www.chiendarret.fr
SUMMARY:MAGNY - FTGN C GRIFFON KORTHALS - 07/12/22
DESCRIPTION:CEB – CEF – CGK – APBW – CFBA – CFEML – VCF – CHEQUE CUSCA 28
URL:https://www.chiendarret.fr/les-concours/magny-ftgn-c-griffon-korthals-07-12-22/
LOCATION:28120 MAGNY\, MAGNY\, 28120\, France
CATEGORIES:Fields Trials Gibier Naturel
ORGANIZER;CN="C GRIFFON KORTHALS - M. BALLE JEAN PAUL":MAILTO:balle.jean-paul@orange.fr
END:VEVENT
BEGIN:VEVENT
DTSTART;VALUE=DATE:20221207
DTEND;VALUE=DATE:20221208
DTSTAMP:20260420T031359
CREATED:20220617T205400Z
LAST-MODIFIED:20220617T205400Z
UID:4160-1670371200-1670457599@www.chiendarret.fr
SUMMARY:MAGNY - FTGN CF EML - 07/12/22
DESCRIPTION:CHEQUE CUSCA 28
URL:https://www.chiendarret.fr/les-concours/magny-ftgn-cf-eml-07-12-22/
LOCATION:28120 MAGNY\, MAGNY\, 28120\, France
CATEGORIES:Fields Trials Gibier Naturel
ORGANIZER;CN="CF EML - M. BALLE JEAN PAUL":MAILTO:balle.jean-paul@orange.fr
END:VEVENT
BEGIN:VEVENT
DTSTART;VALUE=DATE:20221207
DTEND;VALUE=DATE:20221208
DTSTAMP:20260420T031359
CREATED:20220617T205600Z
LAST-MODIFIED:20220617T205600Z
UID:4162-1670371200-1670457599@www.chiendarret.fr
SUMMARY:MAGNY - FTGN C SETTER ANGLAIS - 07/12/22
DESCRIPTION:8 CHIENS MAX/CONCURRENT
URL:https://www.chiendarret.fr/les-concours/magny-ftgn-c-setter-anglais-07-12-22/
LOCATION:28120 MAGNY\, MAGNY\, 28120\, France
CATEGORIES:Fields Trials Gibier Naturel
ORGANIZER;CN="C SETTER ANGLAIS - M. BALLE JEAN PAUL":MAILTO:balle.jean-paul@orange.fr
END:VEVENT
END:VCALENDAR