BEGIN:VCALENDAR
VERSION:2.0
PRODID:-//Chiens d&#039;arrêt - ECPv6.8.3//NONSGML v1.0//EN
CALSCALE:GREGORIAN
METHOD:PUBLISH
X-WR-CALNAME:Chiens d&#039;arrêt
X-ORIGINAL-URL:https://www.chiendarret.fr
X-WR-CALDESC:Évènements pour Chiens d&#039;arrêt
REFRESH-INTERVAL;VALUE=DURATION:PT1H
X-Robots-Tag:noindex
X-PUBLISHED-TTL:PT1H
BEGIN:VTIMEZONE
TZID:Europe/Paris
BEGIN:DAYLIGHT
TZOFFSETFROM:+0100
TZOFFSETTO:+0200
TZNAME:CEST
DTSTART:20220327T010000
END:DAYLIGHT
BEGIN:STANDARD
TZOFFSETFROM:+0200
TZOFFSETTO:+0100
TZNAME:CET
DTSTART:20221030T010000
END:STANDARD
END:VTIMEZONE
BEGIN:VEVENT
DTSTART;VALUE=DATE:20221203
DTEND;VALUE=DATE:20221204
DTSTAMP:20260420T044502
CREATED:20220617T205221Z
LAST-MODIFIED:20220617T205221Z
UID:4155-1670025600-1670111999@www.chiendarret.fr
SUMMARY:ST CYR DU GAULT - FTGN RA SETTER GORDON - 03/12/22
DESCRIPTION:CSA – PCF – RASG – RED.CLUB – ENGAGEMENT DANS UN SEUL CONCOURS – CHEQUE CUSCA41
URL:https://www.chiendarret.fr/les-concours/st-cyr-du-gault-ftgn-ra-setter-gordon-03-12-22/
LOCATION:41190 ST CYR DU GAULT\, ST CYR DU GAULT\, 41190\, France
CATEGORIES:Fields Trials Gibier Naturel
ORGANIZER;CN="RA SETTER GORDON - M. MATHIEU JACQUES":MAILTO:jac.mathieu@outlook.com
END:VEVENT
BEGIN:VEVENT
DTSTART;VALUE=DATE:20221203
DTEND;VALUE=DATE:20221204
DTSTAMP:20260420T044502
CREATED:20220617T210429Z
LAST-MODIFIED:20220617T210429Z
UID:4183-1670025600-1670111999@www.chiendarret.fr
SUMMARY:ST CYR DU GAULT - FTGN C GRIFFON KORTHALS - 03/12/22
DESCRIPTION:CHEQUE CUSCA 41
URL:https://www.chiendarret.fr/les-concours/st-cyr-du-gault-ftgn-c-griffon-korthals-03-12-22/
LOCATION:41190 ST CYR DU GAULT\, ST CYR DU GAULT\, 41190\, France
CATEGORIES:Fields Trials Gibier Naturel
ORGANIZER;CN="C GRIFFON KORTHALS - M. MATHIEU JACQUES":MAILTO:jac.mathieu@outlook.com
END:VEVENT
END:VCALENDAR