BEGIN:VCALENDAR
VERSION:2.0
PRODID:-//Chiens d&#039;arrêt - ECPv6.8.3//NONSGML v1.0//EN
CALSCALE:GREGORIAN
METHOD:PUBLISH
X-WR-CALNAME:Chiens d&#039;arrêt
X-ORIGINAL-URL:https://www.chiendarret.fr
X-WR-CALDESC:Évènements pour Chiens d&#039;arrêt
REFRESH-INTERVAL;VALUE=DURATION:PT1H
X-Robots-Tag:noindex
X-PUBLISHED-TTL:PT1H
BEGIN:VTIMEZONE
TZID:Europe/Paris
BEGIN:DAYLIGHT
TZOFFSETFROM:+0100
TZOFFSETTO:+0200
TZNAME:CEST
DTSTART:20220327T010000
END:DAYLIGHT
BEGIN:STANDARD
TZOFFSETFROM:+0200
TZOFFSETTO:+0100
TZNAME:CET
DTSTART:20221030T010000
END:STANDARD
END:VTIMEZONE
BEGIN:VEVENT
DTSTART;VALUE=DATE:20221108
DTEND;VALUE=DATE:20221109
DTSTAMP:20260420T044400
CREATED:20220617T202819Z
LAST-MODIFIED:20220617T202819Z
UID:4013-1667865600-1667951999@www.chiendarret.fr
SUMMARY:AUGE ST MEDARD - FTA C GRIFFON KORTHALS - 08/11/22
DESCRIPTION:CEB – CEF – CGK – APBW – CFBA – CFEML – DCF – RABA –
URL:https://www.chiendarret.fr/les-concours/auge-st-medard-fta-c-griffon-korthals-08-11-22/
LOCATION:16170 VAL D AUGE\, VAL D AUGE\, 16170\, France
CATEGORIES:Fields Trials d'Automne
ORGANIZER;CN="C GRIFFON KORTHALS - M. PICARD CHRISTIAN":MAILTO:picard_christ@live.fr
END:VEVENT
END:VCALENDAR