BEGIN:VCALENDAR
VERSION:2.0
PRODID:-//Chiens d&#039;arrêt - ECPv6.8.3//NONSGML v1.0//EN
CALSCALE:GREGORIAN
METHOD:PUBLISH
X-ORIGINAL-URL:https://www.chiendarret.fr
X-WR-CALDESC:Évènements pour Chiens d&#039;arrêt
REFRESH-INTERVAL;VALUE=DURATION:PT1H
X-Robots-Tag:noindex
X-PUBLISHED-TTL:PT1H
BEGIN:VTIMEZONE
TZID:Europe/Paris
BEGIN:DAYLIGHT
TZOFFSETFROM:+0100
TZOFFSETTO:+0200
TZNAME:CEST
DTSTART:20220327T010000
END:DAYLIGHT
BEGIN:STANDARD
TZOFFSETFROM:+0200
TZOFFSETTO:+0100
TZNAME:CET
DTSTART:20221030T010000
END:STANDARD
END:VTIMEZONE
BEGIN:VEVENT
DTSTART;VALUE=DATE:20221107
DTEND;VALUE=DATE:20221108
DTSTAMP:20260420T044742
CREATED:20220617T203153Z
LAST-MODIFIED:20220617T203153Z
UID:4030-1667779200-1667865599@www.chiendarret.fr
SUMMARY:VAL D AUGE - FTA C EPAGNEUL FRANCAIS - 07/11/22
DESCRIPTION:RDV RESTAURANT LA BELLE ETAPE A VERDILLE
URL:https://www.chiendarret.fr/les-concours/val-d-auge-fta-c-epagneul-francais-07-11-22/
LOCATION:16170 VAL D AUGE\, VAL D AUGE\, 16170\, France
CATEGORIES:Fields Trials d'Automne
ORGANIZER;CN="C EPAGNEUL FRANCAIS - M. MEUNIER GUY":MAILTO:guymeunier742882@aol.com
END:VEVENT
END:VCALENDAR