BEGIN:VCALENDAR
VERSION:2.0
PRODID:-//Chiens d&#039;arrêt - ECPv6.8.3//NONSGML v1.0//EN
CALSCALE:GREGORIAN
METHOD:PUBLISH
X-WR-CALNAME:Chiens d&#039;arrêt
X-ORIGINAL-URL:https://www.chiendarret.fr
X-WR-CALDESC:Évènements pour Chiens d&#039;arrêt
REFRESH-INTERVAL;VALUE=DURATION:PT1H
X-Robots-Tag:noindex
X-PUBLISHED-TTL:PT1H
BEGIN:VTIMEZONE
TZID:Europe/Paris
BEGIN:DAYLIGHT
TZOFFSETFROM:+0100
TZOFFSETTO:+0200
TZNAME:CEST
DTSTART:20220327T010000
END:DAYLIGHT
BEGIN:STANDARD
TZOFFSETFROM:+0200
TZOFFSETTO:+0100
TZNAME:CET
DTSTART:20221030T010000
END:STANDARD
END:VTIMEZONE
BEGIN:VEVENT
DTSTART;VALUE=DATE:20221105
DTEND;VALUE=DATE:20221106
DTSTAMP:20260420T044539
CREATED:20220617T204019Z
LAST-MODIFIED:20220617T204019Z
UID:4073-1667606400-1667692799@www.chiendarret.fr
SUMMARY:VAL D AUGE - FTA CUSCA-16 - 05/11/22
DESCRIPTION:RDV : RESTAURANT « LA BELLE ETAPE » DE VERDILLE 16170
URL:https://www.chiendarret.fr/les-concours/val-d-auge-fta-cusca-16-05-11-22/
LOCATION:16170 VAL D AUGE\, VAL D AUGE\, 16170\, France
CATEGORIES:Fields Trials d'Automne
ORGANIZER;CN="CUSCA-16 - M. PICARD CHRISTIAN":MAILTO:picard_christ@live.fr
END:VEVENT
BEGIN:VEVENT
DTSTART;VALUE=DATE:20221105
DTEND;VALUE=DATE:20221106
DTSTAMP:20260420T044539
CREATED:20220617T204020Z
LAST-MODIFIED:20220617T204020Z
UID:4074-1667606400-1667692799@www.chiendarret.fr
SUMMARY:VAL D AUGE - FTA 2 CUSCA-16 - 05/11/22
DESCRIPTION:RDV : RESTAURANT « LA BELLE ETAPE » DE VERDILLE 16170
URL:https://www.chiendarret.fr/les-concours/val-d-auge-fta-2-cusca-16-05-11-22/
LOCATION:16170 VAL D AUGE\, VAL D AUGE\, 16170\, France
CATEGORIES:Fields Trials d'Automne
ORGANIZER;CN="CUSCA-16 - M. PICARD CHRISTIAN":MAILTO:picard_christ@live.fr
END:VEVENT
BEGIN:VEVENT
DTSTART;VALUE=DATE:20221105
DTEND;VALUE=DATE:20221106
DTSTAMP:20260420T044539
CREATED:20220617T210228Z
LAST-MODIFIED:20220617T210228Z
UID:4178-1667606400-1667692799@www.chiendarret.fr
SUMMARY:CAGNICOURT - FTGN C BRAQUE ST GERMAIN - 05/11/22
DESCRIPTION:
URL:https://www.chiendarret.fr/les-concours/cagnicourt-ftgn-c-braque-st-germain-05-11-22/
LOCATION:62182 CAGNICOURT\, CAGNICOURT\, 62182\, France
CATEGORIES:Fields Trials Gibier Naturel
ORGANIZER;CN="C BRAQUE ST GERMAIN - Mme FAUQUEMBERT CATHERINE":MAILTO:fauquembert.catherine@orange.fr
END:VEVENT
END:VCALENDAR