BEGIN:VCALENDAR
VERSION:2.0
PRODID:-//Chiens d&#039;arrêt - ECPv6.8.3//NONSGML v1.0//EN
CALSCALE:GREGORIAN
METHOD:PUBLISH
X-WR-CALNAME:Chiens d&#039;arrêt
X-ORIGINAL-URL:https://www.chiendarret.fr
X-WR-CALDESC:Évènements pour Chiens d&#039;arrêt
REFRESH-INTERVAL;VALUE=DURATION:PT1H
X-Robots-Tag:noindex
X-PUBLISHED-TTL:PT1H
BEGIN:VTIMEZONE
TZID:Europe/Paris
BEGIN:DAYLIGHT
TZOFFSETFROM:+0100
TZOFFSETTO:+0200
TZNAME:CEST
DTSTART:20220327T010000
END:DAYLIGHT
BEGIN:STANDARD
TZOFFSETFROM:+0200
TZOFFSETTO:+0100
TZNAME:CET
DTSTART:20221030T010000
END:STANDARD
END:VTIMEZONE
BEGIN:VEVENT
DTSTART;VALUE=DATE:20221103
DTEND;VALUE=DATE:20221104
DTSTAMP:20260420T044502
CREATED:20220617T204049Z
LAST-MODIFIED:20220617T204050Z
UID:4082-1667433600-1667519999@www.chiendarret.fr
SUMMARY:VILLETOUREIX - FTA SC DORDOGNE - 03/11/22
DESCRIPTION:
URL:https://www.chiendarret.fr/les-concours/villetoureix-fta-sc-dordogne-03-11-22/
LOCATION:24600 VILLETOUREIX\, VILLETOUREIX\, 24600\, France
CATEGORIES:Fields Trials d'Automne
ORGANIZER;CN="SC DORDOGNE - M. FOUCHE CLAUDE":MAILTO:claudius9696@orange.fr
END:VEVENT
END:VCALENDAR