BEGIN:VCALENDAR
VERSION:2.0
PRODID:-//Chiens d&#039;arrêt - ECPv6.8.3//NONSGML v1.0//EN
CALSCALE:GREGORIAN
METHOD:PUBLISH
X-WR-CALNAME:Chiens d&#039;arrêt
X-ORIGINAL-URL:https://www.chiendarret.fr
X-WR-CALDESC:Évènements pour Chiens d&#039;arrêt
REFRESH-INTERVAL;VALUE=DURATION:PT1H
X-Robots-Tag:noindex
X-PUBLISHED-TTL:PT1H
BEGIN:VTIMEZONE
TZID:Europe/Paris
BEGIN:DAYLIGHT
TZOFFSETFROM:+0100
TZOFFSETTO:+0200
TZNAME:CEST
DTSTART:20220327T010000
END:DAYLIGHT
BEGIN:STANDARD
TZOFFSETFROM:+0200
TZOFFSETTO:+0100
TZNAME:CET
DTSTART:20221030T010000
END:STANDARD
END:VTIMEZONE
BEGIN:VEVENT
DTSTART;VALUE=DATE:20221026
DTEND;VALUE=DATE:20221027
DTSTAMP:20260420T061639
CREATED:20220617T203950Z
LAST-MODIFIED:20220617T204005Z
UID:4066-1666742400-1666828799@www.chiendarret.fr
SUMMARY:MONTEILS - FTA SC TARN ET GARONNE - 26/10/22
DESCRIPTION:
URL:https://www.chiendarret.fr/les-concours/monteils-fta-sc-tarn-et-garonne-26-10-22/
LOCATION:12200 MONTEILS\, MONTEILS\, 12200
CATEGORIES:Fields Trials d'Automne
ORGANIZER;CN="SC TARN ET GARONNE - M. MARYE JEAN-PIERRE":MAILTO:jean-pierre.marye32@orange.fr
END:VEVENT
END:VCALENDAR