BEGIN:VCALENDAR
VERSION:2.0
PRODID:-//Chiens d&#039;arrêt - ECPv6.8.3//NONSGML v1.0//EN
CALSCALE:GREGORIAN
METHOD:PUBLISH
X-ORIGINAL-URL:https://www.chiendarret.fr
X-WR-CALDESC:Évènements pour Chiens d&#039;arrêt
REFRESH-INTERVAL;VALUE=DURATION:PT1H
X-Robots-Tag:noindex
X-PUBLISHED-TTL:PT1H
BEGIN:VTIMEZONE
TZID:Europe/Paris
BEGIN:DAYLIGHT
TZOFFSETFROM:+0100
TZOFFSETTO:+0200
TZNAME:CEST
DTSTART:20220327T010000
END:DAYLIGHT
BEGIN:STANDARD
TZOFFSETFROM:+0200
TZOFFSETTO:+0100
TZNAME:CET
DTSTART:20221030T010000
END:STANDARD
END:VTIMEZONE
BEGIN:VEVENT
DTSTART;VALUE=DATE:20221014
DTEND;VALUE=DATE:20221015
DTSTAMP:20260420T075238
CREATED:20220617T202619Z
LAST-MODIFIED:20220617T202619Z
UID:4011-1665705600-1665791999@www.chiendarret.fr
SUMMARY:CHIPILLY - FTA C EPAGNEUL PICARD - 14/10/22
DESCRIPTION:CBF – CEF – CEP – CGK – CFEML – DCF – RABA – VCF – CLOTURE ENGAGEMENTS 28/09
URL:https://www.chiendarret.fr/les-concours/chipilly-fta-c-epagneul-picard-14-10-22/
LOCATION:80800 CHIPILLY\, CHIPILLY\, 80800\, France
CATEGORIES:Fields Trials d'Automne
ORGANIZER;CN="C EPAGNEUL PICARD - M. BRUTELLE WILLIAM":MAILTO:william.brutelle@wanadoo.fr
END:VEVENT
BEGIN:VEVENT
DTSTART;VALUE=DATE:20221014
DTEND;VALUE=DATE:20221015
DTSTAMP:20260420T075238
CREATED:20220617T204105Z
LAST-MODIFIED:20220617T204105Z
UID:4089-1665705600-1665791999@www.chiendarret.fr
SUMMARY:HERM - FTA CUSCA-40 - 14/10/22
DESCRIPTION:
URL:https://www.chiendarret.fr/les-concours/herm-fta-cusca-40-14-10-22/
LOCATION:40990 HERM\, HERM\, 40990\, France
CATEGORIES:Fields Trials d'Automne
ORGANIZER;CN="CUSCA-40 - Mme PIAT SYLVIE":MAILTO:piatsylvie@orange.fr
END:VEVENT
END:VCALENDAR