BEGIN:VCALENDAR
VERSION:2.0
PRODID:-//Chiens d&#039;arrêt - ECPv6.8.3//NONSGML v1.0//EN
CALSCALE:GREGORIAN
METHOD:PUBLISH
X-WR-CALNAME:Chiens d&#039;arrêt
X-ORIGINAL-URL:https://www.chiendarret.fr
X-WR-CALDESC:Évènements pour Chiens d&#039;arrêt
REFRESH-INTERVAL;VALUE=DURATION:PT1H
X-Robots-Tag:noindex
X-PUBLISHED-TTL:PT1H
BEGIN:VTIMEZONE
TZID:Europe/Paris
BEGIN:DAYLIGHT
TZOFFSETFROM:+0100
TZOFFSETTO:+0200
TZNAME:CEST
DTSTART:20220327T010000
END:DAYLIGHT
BEGIN:STANDARD
TZOFFSETFROM:+0200
TZOFFSETTO:+0100
TZNAME:CET
DTSTART:20221030T010000
END:STANDARD
END:VTIMEZONE
BEGIN:VEVENT
DTSTART;VALUE=DATE:20221009
DTEND;VALUE=DATE:20221010
DTSTAMP:20260420T061809
CREATED:20220617T203555Z
LAST-MODIFIED:20220617T203555Z
UID:4040-1665273600-1665359999@www.chiendarret.fr
SUMMARY:ESCOURCE - FTA C BRAQUE FRANCAIS - 09/10/22
DESCRIPTION:
URL:https://www.chiendarret.fr/les-concours/escource-fta-c-braque-francais-09-10-22/
LOCATION:40210 ESCOURCE\, ESCOURCE\, 40210\, France
CATEGORIES:Fields Trials d'Automne
ORGANIZER;CN="C BRAQUE FRANCAIS - M. GASIOT PASCAL":MAILTO:gasiot.pascal@gmail.com
END:VEVENT
BEGIN:VEVENT
DTSTART;VALUE=DATE:20221009
DTEND;VALUE=DATE:20221010
DTSTAMP:20260420T061809
CREATED:20220617T203556Z
LAST-MODIFIED:20220617T203556Z
UID:4041-1665273600-1665359999@www.chiendarret.fr
SUMMARY:ESCOURCE - FTA C EPAGNEUL BRETON - 09/10/22
DESCRIPTION:FAISAN PERDRIX
URL:https://www.chiendarret.fr/les-concours/escource-fta-c-epagneul-breton-09-10-22/
LOCATION:40210 ESCOURCE\, ESCOURCE\, 40210\, France
CATEGORIES:Fields Trials d'Automne
ORGANIZER;CN="C EPAGNEUL BRETON - M. VERON BRUNO":MAILTO:veronbruno@wanadoo.fr
END:VEVENT
BEGIN:VEVENT
DTSTART;VALUE=DATE:20221009
DTEND;VALUE=DATE:20221010
DTSTAMP:20260420T061809
CREATED:20220617T203756Z
LAST-MODIFIED:20220617T203756Z
UID:4042-1665273600-1665359999@www.chiendarret.fr
SUMMARY:ESCOURCE - FTA CF BRAQUE ALLEMAND - 09/10/22
DESCRIPTION:
URL:https://www.chiendarret.fr/les-concours/escource-fta-cf-braque-allemand-09-10-22/
LOCATION:40210 ESCOURCE\, ESCOURCE\, 40210\, France
CATEGORIES:Fields Trials d'Automne
ORGANIZER;CN="CF BRAQUE ALLEMAND - Mme PIAT SYLVIE":MAILTO:piatsylvie@orange.fr
END:VEVENT
BEGIN:VEVENT
DTSTART;VALUE=DATE:20221009
DTEND;VALUE=DATE:20221010
DTSTAMP:20260420T061809
CREATED:20220617T203756Z
LAST-MODIFIED:20220617T203756Z
UID:4043-1665273600-1665359999@www.chiendarret.fr
SUMMARY:ESCOURCE - FTA RA BRAQUE AUVERGNE - 09/10/22
DESCRIPTION:
URL:https://www.chiendarret.fr/les-concours/escource-fta-ra-braque-auvergne-09-10-22/
LOCATION:40210 ESCOURCE\, ESCOURCE\, 40210\, France
CATEGORIES:Fields Trials d'Automne
ORGANIZER;CN="RA BRAQUE AUVERGNE - M. VIAUD JEAN-LOUIS":MAILTO:jlviaud@gmail.com
END:VEVENT
BEGIN:VEVENT
DTSTART;VALUE=DATE:20221009
DTEND;VALUE=DATE:20221010
DTSTAMP:20260420T061809
CREATED:20220617T203935Z
LAST-MODIFIED:20220617T203935Z
UID:4060-1665273600-1665359999@www.chiendarret.fr
SUMMARY:ESCOURCE ONESSE - FTA C GRIFFON KORTHALS - 09/10/22
DESCRIPTION:
URL:https://www.chiendarret.fr/les-concours/escource-onesse-fta-c-griffon-korthals-09-10-22/
LOCATION:40210 ESCOURCE\, ESCOURCE\, 40210\, France
CATEGORIES:Fields Trials d'Automne
ORGANIZER;CN="C GRIFFON KORTHALS - M. CHARDON PIERRE":MAILTO:pierre.chardon.iphone@gmail.com
END:VEVENT
END:VCALENDAR