BEGIN:VCALENDAR
VERSION:2.0
PRODID:-//Chiens d&#039;arrêt - ECPv6.8.3//NONSGML v1.0//EN
CALSCALE:GREGORIAN
METHOD:PUBLISH
X-ORIGINAL-URL:https://www.chiendarret.fr
X-WR-CALDESC:Évènements pour Chiens d&#039;arrêt
REFRESH-INTERVAL;VALUE=DURATION:PT1H
X-Robots-Tag:noindex
X-PUBLISHED-TTL:PT1H
BEGIN:VTIMEZONE
TZID:Europe/Paris
BEGIN:DAYLIGHT
TZOFFSETFROM:+0100
TZOFFSETTO:+0200
TZNAME:CEST
DTSTART:20220327T010000
END:DAYLIGHT
BEGIN:STANDARD
TZOFFSETFROM:+0200
TZOFFSETTO:+0100
TZNAME:CET
DTSTART:20221030T010000
END:STANDARD
END:VTIMEZONE
BEGIN:VEVENT
DTSTART;VALUE=DATE:20220927
DTEND;VALUE=DATE:20220928
DTSTAMP:20260420T062041
CREATED:20220615T215326Z
LAST-MODIFIED:20220617T202028Z
UID:3818-1664236800-1664323199@www.chiendarret.fr
SUMMARY:COOLUS - FTA C BRAQUE ST GERMAIN - 27/09/22
DESCRIPTION:CBSG – CEF – CEP – CGK – APBW – CFEML – DCF – RABA –
URL:https://www.chiendarret.fr/les-concours/coolus-fta-c-braque-st-germain-27-09-22/
LOCATION:51510 COOLUS\, COOLUS\, 51510\, France
CATEGORIES:Fields Trials d'Automne
ORGANIZER;CN="C BRAQUE ST GERMAIN - M. GOULOIS THIERRY":MAILTO:thierry.goulois@wanadoo.fr
END:VEVENT
BEGIN:VEVENT
DTSTART;VALUE=DATE:20220927
DTEND;VALUE=DATE:20220928
DTSTAMP:20260420T062041
CREATED:20220617T202951Z
LAST-MODIFIED:20220617T202951Z
UID:4022-1664236800-1664323199@www.chiendarret.fr
SUMMARY:PONTFAVERGER - FTA POINTER CF - 27/09/22
DESCRIPTION:CSA – PCF – RASG – RED.CLUB –
URL:https://www.chiendarret.fr/les-concours/pontfaverger-fta-pointer-cf-27-09-22/
LOCATION:51490 PONTFAVERGER MORONVILLIERS\, PONTFAVERGER MORONVILLIERS\, 51490\, France
CATEGORIES:Fields Trials d'Automne
ORGANIZER;CN="POINTER CF - M. BURLAT PASCAL":MAILTO:burlat.scca@gmail.com
END:VEVENT
BEGIN:VEVENT
DTSTART;VALUE=DATE:20220927
DTEND;VALUE=DATE:20220928
DTSTAMP:20260420T062041
CREATED:20220617T202951Z
LAST-MODIFIED:20220617T202951Z
UID:4024-1664236800-1664323199@www.chiendarret.fr
SUMMARY:SAGONE - FTA C SETTER ANGLAIS - 27/09/22
DESCRIPTION:CSA – PCF – RASG – RED.CLUB – CHEQUE ACT CORSE
URL:https://www.chiendarret.fr/les-concours/sagone-fta-c-setter-anglais-27-09-22/
LOCATION:20118 COGGIA\, COGGIA\, 20118
CATEGORIES:Fields Trials d'Automne
ORGANIZER;CN="C SETTER ANGLAIS - M. MIGNOT JEAN-CLAUDE":MAILTO:mignot.jeanclaude@wanadoo.fr
END:VEVENT
BEGIN:VEVENT
DTSTART;VALUE=DATE:20220927
DTEND;VALUE=DATE:20220928
DTSTAMP:20260420T062041
CREATED:20220617T202952Z
LAST-MODIFIED:20220617T202952Z
UID:4026-1664236800-1664323199@www.chiendarret.fr
SUMMARY:SAGONE - FTA CF BRAQUE ALLEMAND - 27/09/22
DESCRIPTION:CBF – CBSG – CEB – CEF – CGK – APBW – CFBA – CBB – CHEQUE ACT CORSE
URL:https://www.chiendarret.fr/les-concours/sagone-fta-cf-braque-allemand-27-09-22/
LOCATION:20118 COGGIA\, COGGIA\, 20118
CATEGORIES:Fields Trials d'Automne
ORGANIZER;CN="CF BRAQUE ALLEMAND - M. MIGNOT JEAN-CLAUDE":MAILTO:mignot.jeanclaude@wanadoo.fr
END:VEVENT
BEGIN:VEVENT
DTSTART;VALUE=DATE:20220927
DTEND;VALUE=DATE:20220928
DTSTAMP:20260420T062041
CREATED:20220617T204235Z
LAST-MODIFIED:20220617T204236Z
UID:4118-1664236800-1664323199@www.chiendarret.fr
SUMMARY:PONTFAVERGER - FTA ACT CHAMPAGNE ARDENNES - 27/09/22
DESCRIPTION:
URL:https://www.chiendarret.fr/les-concours/pontfaverger-fta-act-champagne-ardennes-27-09-22/
LOCATION:51490 PONTFAVERGER MORONVILLIERS\, PONTFAVERGER MORONVILLIERS\, 51490\, France
CATEGORIES:Fields Trials d'Automne
ORGANIZER;CN="ACT CHAMPAGNE ARDENNES - M. BURLAT PASCAL":MAILTO:burlat.scca@gmail.com
END:VEVENT
END:VCALENDAR