BEGIN:VCALENDAR
VERSION:2.0
PRODID:-//Chiens d&#039;arrêt - ECPv6.8.3//NONSGML v1.0//EN
CALSCALE:GREGORIAN
METHOD:PUBLISH
X-WR-CALNAME:Chiens d&#039;arrêt
X-ORIGINAL-URL:https://www.chiendarret.fr
X-WR-CALDESC:Évènements pour Chiens d&#039;arrêt
REFRESH-INTERVAL;VALUE=DURATION:PT1H
X-Robots-Tag:noindex
X-PUBLISHED-TTL:PT1H
BEGIN:VTIMEZONE
TZID:Europe/Paris
BEGIN:DAYLIGHT
TZOFFSETFROM:+0100
TZOFFSETTO:+0200
TZNAME:CEST
DTSTART:20220327T010000
END:DAYLIGHT
BEGIN:STANDARD
TZOFFSETFROM:+0200
TZOFFSETTO:+0100
TZNAME:CET
DTSTART:20221030T010000
END:STANDARD
END:VTIMEZONE
BEGIN:VEVENT
DTSTART;VALUE=DATE:20220924
DTEND;VALUE=DATE:20220925
DTSTAMP:20260420T075005
CREATED:20220615T215202Z
LAST-MODIFIED:20220617T201927Z
UID:3798-1663977600-1664063999@www.chiendarret.fr
SUMMARY:RIBEMONT - FTA C EPAGNEUL FRANCAIS - 24/09/22
DESCRIPTION:CBF – CEB – CEF – CEP – APBW – CFBA – DCF – RABA – RENDEZ VOUS SALLE DES FETES
URL:https://www.chiendarret.fr/les-concours/ribemont-fta-c-epagneul-francais-24-09-22/
LOCATION:2240 RIBEMONT\, RIBEMONT\, 2240
CATEGORIES:Fields Trials d'Automne
ORGANIZER;CN="C EPAGNEUL FRANCAIS - M. BLEUSE MICHEL":MAILTO:christine.bleuse@cegetel.net
END:VEVENT
BEGIN:VEVENT
DTSTART;VALUE=DATE:20220924
DTEND;VALUE=DATE:20220925
DTSTAMP:20260420T075005
CREATED:20220617T202419Z
LAST-MODIFIED:20220617T202419Z
UID:4006-1663977600-1664063999@www.chiendarret.fr
SUMMARY:COULOMMIERS - FTA VIZSLA CF - 24/09/22
DESCRIPTION:CBF – CEF – CGK – APBW – CFEML – DCF – RABA – VCF –
URL:https://www.chiendarret.fr/les-concours/coulommiers-fta-vizsla-cf-24-09-22/
LOCATION:77120 COULOMMIERS\, COULOMMIERS\, 77120
CATEGORIES:Fields Trials d'Automne
ORGANIZER;CN="VIZSLA CF - Mme PARENT NATHALIE":MAILTO:presidente.vcf@gmail.com
END:VEVENT
BEGIN:VEVENT
DTSTART;VALUE=DATE:20220924
DTEND;VALUE=DATE:20220925
DTSTAMP:20260420T075005
CREATED:20220617T202617Z
LAST-MODIFIED:20220617T202617Z
UID:4007-1663977600-1664063999@www.chiendarret.fr
SUMMARY:BERNY EN SANTERRE - FTA C GRIFFON KORTHALS - 24/09/22
DESCRIPTION:CEB – CEP – CGK – APBW – CFEML – DCF – RABA – VCF –
URL:https://www.chiendarret.fr/les-concours/berny-en-santerre-fta-c-griffon-korthals-24-09-22/
LOCATION:80200 BERNY EN SANTERRE\, BERNY EN SANTERRE\, 80200\, France
CATEGORIES:Fields Trials d'Automne
ORGANIZER;CN="C GRIFFON KORTHALS - M. DEBRET PIERRE":MAILTO:pierre.debret@wanadoo.fr
END:VEVENT
BEGIN:VEVENT
DTSTART;VALUE=DATE:20220924
DTEND;VALUE=DATE:20220925
DTSTAMP:20260420T075005
CREATED:20220617T204034Z
LAST-MODIFIED:20220617T204035Z
UID:4077-1663977600-1664063999@www.chiendarret.fr
SUMMARY:LETIA - FTA SC CORSE - 24/09/22
DESCRIPTION:
URL:https://www.chiendarret.fr/les-concours/letia-fta-sc-corse-24-09-22/
LOCATION:20160 LETIA\, LETIA\, 20160\, France
CATEGORIES:Fields Trials d'Automne
ORGANIZER;CN="SC CORSE - M. MIGNOT JEAN-CLAUDE":MAILTO:mignot.jeanclaude@wanadoo.fr
END:VEVENT
BEGIN:VEVENT
DTSTART;VALUE=DATE:20220924
DTEND;VALUE=DATE:20220925
DTSTAMP:20260420T075005
CREATED:20220617T204205Z
LAST-MODIFIED:20220617T204205Z
UID:4110-1663977600-1664063999@www.chiendarret.fr
SUMMARY:COULOMMIERS - FTA SC ILE DE FRANCE - 24/09/22
DESCRIPTION:
URL:https://www.chiendarret.fr/les-concours/coulommiers-fta-sc-ile-de-france-24-09-22/
LOCATION:77120 COULOMMIERS\, COULOMMIERS\, 77120
CATEGORIES:Fields Trials d'Automne
ORGANIZER;CN="SC ILE DE FRANCE - Mme HARDY-BEAUCHOT MARIE-LAURENCE":MAILTO:mlhdecinqasept@club-internet.fr
END:VEVENT
END:VCALENDAR