BEGIN:VCALENDAR
VERSION:2.0
PRODID:-//Chiens d&#039;arrêt - ECPv6.8.3//NONSGML v1.0//EN
CALSCALE:GREGORIAN
METHOD:PUBLISH
X-ORIGINAL-URL:https://www.chiendarret.fr
X-WR-CALDESC:Évènements pour Chiens d&#039;arrêt
REFRESH-INTERVAL;VALUE=DURATION:PT1H
X-Robots-Tag:noindex
X-PUBLISHED-TTL:PT1H
BEGIN:VTIMEZONE
TZID:Europe/Paris
BEGIN:DAYLIGHT
TZOFFSETFROM:+0100
TZOFFSETTO:+0200
TZNAME:CEST
DTSTART:20220327T010000
END:DAYLIGHT
BEGIN:STANDARD
TZOFFSETFROM:+0200
TZOFFSETTO:+0100
TZNAME:CET
DTSTART:20221030T010000
END:STANDARD
END:VTIMEZONE
BEGIN:VEVENT
DTSTART;VALUE=DATE:20220825
DTEND;VALUE=DATE:20220826
DTSTAMP:20260420T093101
CREATED:20220615T215506Z
LAST-MODIFIED:20220617T204618Z
UID:3839-1661385600-1661471999@www.chiendarret.fr
SUMMARY:AUDINGHEN - FTGN RA SETTER GORDON - 25/08/22
DESCRIPTION:CSA – PCF – RASG – RED.CLUB – CHEQUE CUSCA 62 UNIQUEMENT SOLO
URL:https://www.chiendarret.fr/les-concours/audinghen-ftgn-ra-setter-gordon-25-08-22/
LOCATION:62179 AUDINGHEN\, AUDINGHEN\, 62179\, France
CATEGORIES:Fields Trials Gibier Naturel
ORGANIZER;CN="RA SETTER GORDON - M. TASTET YVES":MAILTO:yves.tastet@orange.fr
END:VEVENT
BEGIN:VEVENT
DTSTART;VALUE=DATE:20220825
DTEND;VALUE=DATE:20220826
DTSTAMP:20260420T093101
CREATED:20220617T204820Z
LAST-MODIFIED:20220617T204820Z
UID:4145-1661385600-1661471999@www.chiendarret.fr
SUMMARY:AUDINGHEN - FTGN C BRAQUE ST GERMAIN - 25/08/22
DESCRIPTION:CBF – CBSG – CEB – CGK – APBW – CFBA – DCF – RABA –
URL:https://www.chiendarret.fr/les-concours/audinghen-ftgn-c-braque-st-germain-25-08-22/
LOCATION:62179 AUDINGHEN\, AUDINGHEN\, 62179\, France
CATEGORIES:Fields Trials Gibier Naturel
ORGANIZER;CN="C BRAQUE ST GERMAIN - M. TASTET YVES":MAILTO:yves.tastet@orange.fr
END:VEVENT
BEGIN:VEVENT
DTSTART;VALUE=DATE:20220825
DTEND;VALUE=DATE:20220826
DTSTAMP:20260420T093101
CREATED:20220617T210831Z
LAST-MODIFIED:20220617T210831Z
UID:4194-1661385600-1661471999@www.chiendarret.fr
SUMMARY:AUDINGHEN - FTGN CUSCA-62 - 25/08/22
DESCRIPTION:
URL:https://www.chiendarret.fr/les-concours/audinghen-ftgn-cusca-62-25-08-22/
LOCATION:62179 AUDINGHEN\, AUDINGHEN\, 62179\, France
CATEGORIES:Fields Trials Gibier Naturel
ORGANIZER;CN="CUSCA-62 - M. TASTET YVES":MAILTO:yves.tastet@orange.fr
END:VEVENT
END:VCALENDAR