BEGIN:VCALENDAR
VERSION:2.0
PRODID:-//Chiens d&#039;arrêt - ECPv6.8.3//NONSGML v1.0//EN
CALSCALE:GREGORIAN
METHOD:PUBLISH
X-ORIGINAL-URL:https://www.chiendarret.fr
X-WR-CALDESC:Évènements pour Chiens d&#039;arrêt
REFRESH-INTERVAL;VALUE=DURATION:PT1H
X-Robots-Tag:noindex
X-PUBLISHED-TTL:PT1H
BEGIN:VTIMEZONE
TZID:Europe/Paris
BEGIN:DAYLIGHT
TZOFFSETFROM:+0100
TZOFFSETTO:+0200
TZNAME:CEST
DTSTART:20220327T010000
END:DAYLIGHT
BEGIN:STANDARD
TZOFFSETFROM:+0200
TZOFFSETTO:+0100
TZNAME:CET
DTSTART:20221030T010000
END:STANDARD
END:VTIMEZONE
BEGIN:VEVENT
DTSTART;VALUE=DATE:20220823
DTEND;VALUE=DATE:20220824
DTSTAMP:20260420T093103
CREATED:20220617T205221Z
LAST-MODIFIED:20220617T205221Z
UID:4153-1661212800-1661299199@www.chiendarret.fr
SUMMARY:GOUY ST ANDRE - FTGN DRAHTHAAR CF - 23/08/22
DESCRIPTION:CBF – CBSG – CEF – CEP – CGK – APBW – DCF – RABA – LIMITE A DEUX CONCOURS
URL:https://www.chiendarret.fr/les-concours/gouy-st-andre-ftgn-drahthaar-cf-23-08-22/
LOCATION:62123 GOUY EN ARTOIS\, GOUY EN ARTOIS\, 62123\, France
CATEGORIES:Fields Trials Gibier Naturel
ORGANIZER;CN="DRAHTHAAR CF - M. BEUVAIN STEPHANE":MAILTO:stephanebeuvain-dcf@orange.fr
END:VEVENT
BEGIN:VEVENT
DTSTART;VALUE=DATE:20220823
DTEND;VALUE=DATE:20220824
DTSTAMP:20260420T093103
CREATED:20220617T211323Z
LAST-MODIFIED:20220617T211524Z
UID:4205-1661212800-1661299199@www.chiendarret.fr
SUMMARY:LA-POMAREDE - FTGN CUSCA-LR - 23/08/22
DESCRIPTION:
URL:https://www.chiendarret.fr/les-concours/la-pomarede-ftgn-cusca-lr-23-08-22/
LOCATION:11400 LA POMAREDE\, LA POMAREDE\, 11400\, France
CATEGORIES:Fields Trials Gibier Naturel
ORGANIZER;CN="CUSCA-LR - M. GASIOT PASCAL":MAILTO:gasiot.pascal@gmail.com
END:VEVENT
END:VCALENDAR