BEGIN:VCALENDAR
VERSION:2.0
PRODID:-//Chiens d&#039;arrêt - ECPv6.8.3//NONSGML v1.0//EN
CALSCALE:GREGORIAN
METHOD:PUBLISH
X-ORIGINAL-URL:https://www.chiendarret.fr
X-WR-CALDESC:Évènements pour Chiens d&#039;arrêt
REFRESH-INTERVAL;VALUE=DURATION:PT1H
X-Robots-Tag:noindex
X-PUBLISHED-TTL:PT1H
BEGIN:VTIMEZONE
TZID:Europe/Paris
BEGIN:DAYLIGHT
TZOFFSETFROM:+0100
TZOFFSETTO:+0200
TZNAME:CEST
DTSTART:20220327T010000
END:DAYLIGHT
BEGIN:STANDARD
TZOFFSETFROM:+0200
TZOFFSETTO:+0100
TZNAME:CET
DTSTART:20221030T010000
END:STANDARD
END:VTIMEZONE
BEGIN:VEVENT
DTSTART;VALUE=DATE:20220822
DTEND;VALUE=DATE:20220823
DTSTAMP:20260420T093104
CREATED:20220615T215506Z
LAST-MODIFIED:20220617T204618Z
UID:3837-1661126400-1661212799@www.chiendarret.fr
SUMMARY:AIX EN ISSART - FTGN C BRAQUE ST GERMAIN - 22/08/22
DESCRIPTION:CBF – CBSG – CEF – CEP – CGK – APBW – DCF – RABA – LIMITE A 2 BATTERIES. CONDITIONS SUR SITE CBSG
URL:https://www.chiendarret.fr/les-concours/aix-en-issart-ftgn-c-braque-st-germain-22-08-22/
LOCATION:62170 AIX EN ISSART\, AIX EN ISSART\, 62170\, France
CATEGORIES:Fields Trials Gibier Naturel
ORGANIZER;CN="C BRAQUE ST GERMAIN - Mme FAUQUEMBERT CATHERINE":MAILTO:fauquembert.catherine@orange.fr
END:VEVENT
BEGIN:VEVENT
DTSTART;VALUE=DATE:20220822
DTEND;VALUE=DATE:20220823
DTSTAMP:20260420T093104
CREATED:20220617T210831Z
LAST-MODIFIED:20220617T210831Z
UID:4192-1661126400-1661212799@www.chiendarret.fr
SUMMARY:SUIPPES - FTGN ACT CHAMPAGNE ARDENNES - 22/08/22
DESCRIPTION:
URL:https://www.chiendarret.fr/les-concours/suippes-ftgn-act-champagne-ardennes-22-08-22/
LOCATION:51600 SUIPPES\, SUIPPES\, 51600\, France
CATEGORIES:Fields Trials Gibier Naturel
ORGANIZER;CN="ACT CHAMPAGNE ARDENNES - M. BURLAT PASCAL":MAILTO:burlat.scca@gmail.com
END:VEVENT
BEGIN:VEVENT
DTSTART;VALUE=DATE:20220822
DTEND;VALUE=DATE:20220823
DTSTAMP:20260420T093104
CREATED:20220617T211323Z
LAST-MODIFIED:20220617T211324Z
UID:4204-1661126400-1661212799@www.chiendarret.fr
SUMMARY:LA-POMAREDE - FTGN CUSCA-LR - 22/08/22
DESCRIPTION:
URL:https://www.chiendarret.fr/les-concours/la-pomarede-ftgn-cusca-lr-22-08-22/
LOCATION:11400 LA POMAREDE\, LA POMAREDE\, 11400\, France
CATEGORIES:Fields Trials Gibier Naturel
ORGANIZER;CN="CUSCA-LR - M. GASIOT PASCAL":MAILTO:gasiot.pascal@gmail.com
END:VEVENT
END:VCALENDAR