BEGIN:VCALENDAR
VERSION:2.0
PRODID:-//Chiens d&#039;arrêt - ECPv6.8.3//NONSGML v1.0//EN
CALSCALE:GREGORIAN
METHOD:PUBLISH
X-WR-CALNAME:Chiens d&#039;arrêt
X-ORIGINAL-URL:https://www.chiendarret.fr
X-WR-CALDESC:Évènements pour Chiens d&#039;arrêt
REFRESH-INTERVAL;VALUE=DURATION:PT1H
X-Robots-Tag:noindex
X-PUBLISHED-TTL:PT1H
BEGIN:VTIMEZONE
TZID:Europe/Paris
BEGIN:DAYLIGHT
TZOFFSETFROM:+0100
TZOFFSETTO:+0200
TZNAME:CEST
DTSTART:20220327T010000
END:DAYLIGHT
BEGIN:STANDARD
TZOFFSETFROM:+0200
TZOFFSETTO:+0100
TZNAME:CET
DTSTART:20221030T010000
END:STANDARD
END:VTIMEZONE
BEGIN:VEVENT
DTSTART;VALUE=DATE:20220820
DTEND;VALUE=DATE:20220821
DTSTAMP:20260420T092857
CREATED:20220617T210216Z
LAST-MODIFIED:20220617T210216Z
UID:4175-1660953600-1661039999@www.chiendarret.fr
SUMMARY:NUISEMENT SUR COOLE - FTGN C SETTER ANGLAIS - 20/08/22
DESCRIPTION:
URL:https://www.chiendarret.fr/les-concours/nuisement-sur-coole-ftgn-c-setter-anglais-20-08-22/
LOCATION:51240 NUISEMENT SUR COOLE\, NUISEMENT SUR COOLE\, 51240\, France
CATEGORIES:Fields Trials Gibier Naturel
ORGANIZER;CN="C SETTER ANGLAIS - M. BERBE DOMINIQUE":MAILTO:dominique.berbe@wanadoo.fr
END:VEVENT
END:VCALENDAR