BEGIN:VCALENDAR
VERSION:2.0
PRODID:-//Chiens d&#039;arrêt - ECPv6.8.3//NONSGML v1.0//EN
CALSCALE:GREGORIAN
METHOD:PUBLISH
X-WR-CALNAME:Chiens d&#039;arrêt
X-ORIGINAL-URL:https://www.chiendarret.fr
X-WR-CALDESC:Évènements pour Chiens d&#039;arrêt
REFRESH-INTERVAL;VALUE=DURATION:PT1H
X-Robots-Tag:noindex
X-PUBLISHED-TTL:PT1H
BEGIN:VTIMEZONE
TZID:Europe/Paris
BEGIN:DAYLIGHT
TZOFFSETFROM:+0100
TZOFFSETTO:+0200
TZNAME:CEST
DTSTART:20220327T010000
END:DAYLIGHT
BEGIN:STANDARD
TZOFFSETFROM:+0200
TZOFFSETTO:+0100
TZNAME:CET
DTSTART:20221030T010000
END:STANDARD
END:VTIMEZONE
BEGIN:VEVENT
DTSTART;VALUE=DATE:20220407
DTEND;VALUE=DATE:20220408
DTSTAMP:20260420T153703
CREATED:20220202T172008Z
LAST-MODIFIED:20220202T173044Z
UID:3442-1649289600-1649375999@www.chiendarret.fr
SUMMARY:PARVILLIERS - FTGQ OUVERT CACIT BRITANNIQUES
DESCRIPTION:2 BATTERIES
URL:https://www.chiendarret.fr/les-concours/parvilliers-ftgq-ouvert-cacit-britanniques/
LOCATION:60400 SEMPIGNY\, SEMPIGNY\, 60400
CATEGORIES:Fields Trials Grande Quête
ORGANIZER;CN="AMIC AMATEURS FT - M. LEBRUN DOMINIQUE":MAILTO:dominique-lebrun@orange.fr
END:VEVENT
BEGIN:VEVENT
DTSTART;VALUE=DATE:20220407
DTEND;VALUE=DATE:20220408
DTSTAMP:20260420T153703
CREATED:20220202T195745Z
LAST-MODIFIED:20220202T195745Z
UID:3516-1649289600-1649375999@www.chiendarret.fr
SUMMARY:HENENCOURT - FTP ICP CACT CONTINENTAUX
DESCRIPTION:CEF – CEP – CGK – CABW – CFEML – DCF – RABA – VCF –
URL:https://www.chiendarret.fr/les-concours/henencourt-ftp-icp-cact-continentaux/
LOCATION:80300 HENENCOURT\, HENENCOURT\, 80300
CATEGORIES:Fields Trials de Printemps
ORGANIZER;CN="C EPAGNEUL PICARD - M. BRUTELLE WILLIAM":MAILTO:william.brutelle@wanadoo.fr
END:VEVENT
END:VCALENDAR