BEGIN:VCALENDAR
VERSION:2.0
PRODID:-//Chiens d&#039;arrêt - ECPv6.8.3//NONSGML v1.0//EN
CALSCALE:GREGORIAN
METHOD:PUBLISH
X-WR-CALNAME:Chiens d&#039;arrêt
X-ORIGINAL-URL:https://www.chiendarret.fr
X-WR-CALDESC:Évènements pour Chiens d&#039;arrêt
REFRESH-INTERVAL;VALUE=DURATION:PT1H
X-Robots-Tag:noindex
X-PUBLISHED-TTL:PT1H
BEGIN:VTIMEZONE
TZID:Europe/Paris
BEGIN:DAYLIGHT
TZOFFSETFROM:+0100
TZOFFSETTO:+0200
TZNAME:CEST
DTSTART:20220327T010000
END:DAYLIGHT
BEGIN:STANDARD
TZOFFSETFROM:+0200
TZOFFSETTO:+0100
TZNAME:CET
DTSTART:20221030T010000
END:STANDARD
END:VTIMEZONE
BEGIN:VEVENT
DTSTART;VALUE=DATE:20220404
DTEND;VALUE=DATE:20220405
DTSTAMP:20260420T153625
CREATED:20220202T171959Z
LAST-MODIFIED:20220202T173037Z
UID:3439-1649030400-1649116799@www.chiendarret.fr
SUMMARY:VAULX VRAUCOURT - FTGQ ICVO CACIT BRITANNIQUES
DESCRIPTION:
URL:https://www.chiendarret.fr/les-concours/vaulx-vraucourt-ftgq-icvo-cacit-britanniques/
LOCATION:62159 VAULX VRAUCOURT\, VAULX VRAUCOURT\, 62159
CATEGORIES:Fields Trials Grande Quête
ORGANIZER;CN="C SETTER ANGLAIS - M. GUILHEMJOUAN JEAN YVES":MAILTO:secretariat@club-setter-anglais.com
END:VEVENT
BEGIN:VEVENT
DTSTART;VALUE=DATE:20220404
DTEND;VALUE=DATE:20220405
DTSTAMP:20260420T153625
CREATED:20220202T195715Z
LAST-MODIFIED:20220202T195715Z
UID:3504-1649030400-1649116799@www.chiendarret.fr
SUMMARY:FICHEUX - FTP ICP CACT CONTINENTAUX
DESCRIPTION:CBSG – CEF – CEP – CESU – DCF – RABA – VCF – CBB – LIMITE A 2 BATTERIES.4 CHIENS MAXI PAR CONDUCTEUR.
URL:https://www.chiendarret.fr/les-concours/ficheux-ftp-icp-cact-continentaux/
LOCATION:62173 FICHEUX\, FICHEUX\, 62173
CATEGORIES:Fields Trials de Printemps
ORGANIZER;CN="C EPAGNEUL FRANCAIS - M. BLEUSE MICHEL":MAILTO:christine.bleuse@cegetel.net
END:VEVENT
BEGIN:VEVENT
DTSTART;VALUE=DATE:20220404
DTEND;VALUE=DATE:20220405
DTSTAMP:20260420T153625
CREATED:20220202T195715Z
LAST-MODIFIED:20220202T195715Z
UID:3505-1649030400-1649116799@www.chiendarret.fr
SUMMARY:FICHEUX - FTP ICP CACT CONTINENTAUX 2
DESCRIPTION:CBF – CEB – CGK – CABW – CFBA – CFEML – 2 BATTERIES 4 CHIENS / CONDUCTEUR
URL:https://www.chiendarret.fr/les-concours/ficheux-ftp-icp-cact-continentaux-2/
LOCATION:62173 FICHEUX\, FICHEUX\, 62173
CATEGORIES:Fields Trials de Printemps
ORGANIZER;CN="C GRIFFON KORTHALS - M. BLEUSE MICHEL":MAILTO:christine.bleuse@cegetel.net
END:VEVENT
BEGIN:VEVENT
DTSTART;VALUE=DATE:20220404
DTEND;VALUE=DATE:20220405
DTSTAMP:20260420T153625
CREATED:20220202T200114Z
LAST-MODIFIED:20220202T200114Z
UID:3584-1649030400-1649116799@www.chiendarret.fr
SUMMARY:VAULX VRAUCOURT - FTP ICVO CACIT BRITANNIQUES
DESCRIPTION:
URL:https://www.chiendarret.fr/les-concours/vaulx-vraucourt-ftp-icvo-cacit-britanniques/
LOCATION:62159 VAULX VRAUCOURT\, VAULX VRAUCOURT\, 62159
CATEGORIES:Fields Trials de Printemps
ORGANIZER;CN="C SETTER ANGLAIS - M. GUILHEMJOUAN JEAN YVES":MAILTO:secretariat@club-setter-anglais.com
END:VEVENT
BEGIN:VEVENT
DTSTART;VALUE=DATE:20220404
DTEND;VALUE=DATE:20220405
DTSTAMP:20260420T153625
CREATED:20220202T200115Z
LAST-MODIFIED:20220202T200115Z
UID:3586-1649030400-1649116799@www.chiendarret.fr
SUMMARY:VAULX VRAUCOURT - FTP SPEC CACT BRITANNIQUES
DESCRIPTION:SOLO UNIQUEMENT
URL:https://www.chiendarret.fr/les-concours/vaulx-vraucourt-ftp-spec-cact-britanniques/
LOCATION:62159 VAULX VRAUCOURT\, VAULX VRAUCOURT\, 62159
CATEGORIES:Fields Trials de Printemps
ORGANIZER;CN="C SETTER ANGLAIS - M. GUILHEMJOUAN JEAN YVES":MAILTO:secretariat@club-setter-anglais.com
END:VEVENT
END:VCALENDAR