BEGIN:VCALENDAR
VERSION:2.0
PRODID:-//Chiens d&#039;arrêt - ECPv6.8.3//NONSGML v1.0//EN
CALSCALE:GREGORIAN
METHOD:PUBLISH
X-WR-CALNAME:Chiens d&#039;arrêt
X-ORIGINAL-URL:https://www.chiendarret.fr
X-WR-CALDESC:Évènements pour Chiens d&#039;arrêt
REFRESH-INTERVAL;VALUE=DURATION:PT1H
X-Robots-Tag:noindex
X-PUBLISHED-TTL:PT1H
BEGIN:VTIMEZONE
TZID:Europe/Paris
BEGIN:DAYLIGHT
TZOFFSETFROM:+0100
TZOFFSETTO:+0200
TZNAME:CEST
DTSTART:20220327T010000
END:DAYLIGHT
BEGIN:STANDARD
TZOFFSETFROM:+0200
TZOFFSETTO:+0100
TZNAME:CET
DTSTART:20221030T010000
END:STANDARD
END:VTIMEZONE
BEGIN:VEVENT
DTSTART;VALUE=DATE:20220402
DTEND;VALUE=DATE:20220403
DTSTAMP:20260420T153750
CREATED:20220202T171959Z
LAST-MODIFIED:20220202T173037Z
UID:3438-1648857600-1648943999@www.chiendarret.fr
SUMMARY:ST MARTIN DE BOSSENAY - FTGQ ICVO CACIT BRITANNIQUES
DESCRIPTION:PRIX MAIRESSE
URL:https://www.chiendarret.fr/les-concours/st-martin-de-bossenay-ftgq-icvo-cacit-britanniques-2/
LOCATION:10100 ST MARTIN DE BOSSENAY\, ST MARTIN DE BOSSENAY\, 10100\, France
CATEGORIES:Fields Trials Grande Quête
ORGANIZER;CN="POINTER CF - M. TASTET YVES":MAILTO:yves.tastet@orange.fr
END:VEVENT
BEGIN:VEVENT
DTSTART;VALUE=DATE:20220402
DTEND;VALUE=DATE:20220403
DTSTAMP:20260420T153750
CREATED:20220202T195900Z
LAST-MODIFIED:20220202T195900Z
UID:3539-1648857600-1648943999@www.chiendarret.fr
SUMMARY:NURLU - FTP OUVERT CACIT BRITANNIQUES
DESCRIPTION:PAIEMENT OBLIGATOIRE AVEC L’INSCRIPTION POUR VALIDATION. AUCUNE EXCEPTION.
URL:https://www.chiendarret.fr/les-concours/nurlu-ftp-ouvert-cacit-britanniques/
LOCATION:80240 NURLU\, NURLU\, 80240
CATEGORIES:Fields Trials de Printemps
ORGANIZER;CN="AMIC AMATEURS FT - M. LEICKMAN DOMINIQUE":MAILTO:dominique.leickman@wanadoo.fr
END:VEVENT
END:VCALENDAR