BEGIN:VCALENDAR
VERSION:2.0
PRODID:-//Chiens d&#039;arrêt - ECPv6.8.3//NONSGML v1.0//EN
CALSCALE:GREGORIAN
METHOD:PUBLISH
X-ORIGINAL-URL:https://www.chiendarret.fr
X-WR-CALDESC:Évènements pour Chiens d&#039;arrêt
REFRESH-INTERVAL;VALUE=DURATION:PT1H
X-Robots-Tag:noindex
X-PUBLISHED-TTL:PT1H
BEGIN:VTIMEZONE
TZID:Europe/Paris
BEGIN:DAYLIGHT
TZOFFSETFROM:+0100
TZOFFSETTO:+0200
TZNAME:CEST
DTSTART:20220327T010000
END:DAYLIGHT
BEGIN:STANDARD
TZOFFSETFROM:+0200
TZOFFSETTO:+0100
TZNAME:CET
DTSTART:20221030T010000
END:STANDARD
END:VTIMEZONE
BEGIN:VEVENT
DTSTART;VALUE=DATE:20220401
DTEND;VALUE=DATE:20220402
DTSTAMP:20260420T153846
CREATED:20220202T171958Z
LAST-MODIFIED:20220202T173036Z
UID:3436-1648771200-1648857599@www.chiendarret.fr
SUMMARY:ST MARTIN DE BOSSENAY - FTGQ ICVO CACT BRITANNIQUES
DESCRIPTION:PRIX NAVETTE
URL:https://www.chiendarret.fr/les-concours/st-martin-de-bossenay-ftgq-icvo-cact-britanniques/
LOCATION:10100 ST MARTIN DE BOSSENAY\, ST MARTIN DE BOSSENAY\, 10100\, France
CATEGORIES:Fields Trials Grande Quête
ORGANIZER;CN="POINTER CF - M. TASTET YVES":MAILTO:yves.tastet@orange.fr
END:VEVENT
BEGIN:VEVENT
DTSTART;VALUE=DATE:20220401
DTEND;VALUE=DATE:20220402
DTSTAMP:20260420T153846
CREATED:20220202T171958Z
LAST-MODIFIED:20220202T173037Z
UID:3437-1648771200-1648857599@www.chiendarret.fr
SUMMARY:ST MARTIN DE BOSSENAY - FTGQ ICVO CACIT BRITANNIQUES
DESCRIPTION:SPECIALE GRANDE QUETE FEMELLE
URL:https://www.chiendarret.fr/les-concours/st-martin-de-bossenay-ftgq-icvo-cacit-britanniques/
LOCATION:10100 ST MARTIN DE BOSSENAY\, ST MARTIN DE BOSSENAY\, 10100\, France
CATEGORIES:Fields Trials Grande Quête
ORGANIZER;CN="POINTER CF - M. TASTET YVES":MAILTO:yves.tastet@orange.fr
END:VEVENT
BEGIN:VEVENT
DTSTART;VALUE=DATE:20220401
DTEND;VALUE=DATE:20220402
DTSTAMP:20260420T153846
CREATED:20220202T200045Z
LAST-MODIFIED:20220202T200045Z
UID:3577-1648771200-1648857599@www.chiendarret.fr
SUMMARY:THERDONNE - FTP OUVERT CACIT BRITANNIQUES
DESCRIPTION:VALIDATION DES ENGAGEMENTS APRES REGLEMENT
URL:https://www.chiendarret.fr/les-concours/therdonne-ftp-ouvert-cacit-britanniques/
LOCATION:60510 THERDONNE\, THERDONNE\, 60510\, France
CATEGORIES:Fields Trials de Printemps
ORGANIZER;CN="CUSCC-60 - M. LEBRUN DOMINIQUE":MAILTO:dominique-lebrun@orange.fr
END:VEVENT
END:VCALENDAR