BEGIN:VCALENDAR
VERSION:2.0
PRODID:-//Chiens d&#039;arrêt - ECPv6.8.3//NONSGML v1.0//EN
CALSCALE:GREGORIAN
METHOD:PUBLISH
X-WR-CALNAME:Chiens d&#039;arrêt
X-ORIGINAL-URL:https://www.chiendarret.fr
X-WR-CALDESC:Évènements pour Chiens d&#039;arrêt
REFRESH-INTERVAL;VALUE=DURATION:PT1H
X-Robots-Tag:noindex
X-PUBLISHED-TTL:PT1H
BEGIN:VTIMEZONE
TZID:Europe/Paris
BEGIN:DAYLIGHT
TZOFFSETFROM:+0100
TZOFFSETTO:+0200
TZNAME:CEST
DTSTART:20220327T010000
END:DAYLIGHT
BEGIN:STANDARD
TZOFFSETFROM:+0200
TZOFFSETTO:+0100
TZNAME:CET
DTSTART:20221030T010000
END:STANDARD
END:VTIMEZONE
BEGIN:VEVENT
DTSTART;VALUE=DATE:20220328
DTEND;VALUE=DATE:20220329
DTSTAMP:20260420T154629
CREATED:20220202T200030Z
LAST-MODIFIED:20220202T200030Z
UID:3572-1648425600-1648511999@www.chiendarret.fr
SUMMARY:ROSIERES EN SANTERRE - FTP ICVO CACIT BRITANNIQUES
DESCRIPTION:
URL:https://www.chiendarret.fr/les-concours/rosieres-en-santerre-ftp-icvo-cacit-britanniques/
LOCATION:80170 ROSIERES EN SANTERRE\, ROSIERES EN SANTERRE\, 80170
CATEGORIES:Fields Trials de Printemps
ORGANIZER;CN="C SETTER ANGLAIS - Mme HENOCQUE SYLVIE":MAILTO:champ.bocquillon@free.fr
END:VEVENT
BEGIN:VEVENT
DTSTART;VALUE=DATE:20220328
DTEND;VALUE=DATE:20220329
DTSTAMP:20260420T154629
CREATED:20220202T200044Z
LAST-MODIFIED:20220202T200044Z
UID:3574-1648425600-1648511999@www.chiendarret.fr
SUMMARY:ROSIERES EN SANTERRE - FTP SPEC CACT BRITANNIQUES
DESCRIPTION:SOLO UNIQUEMENT
URL:https://www.chiendarret.fr/les-concours/rosieres-en-santerre-ftp-spec-cact-britanniques/
LOCATION:80170 ROSIERES EN SANTERRE\, ROSIERES EN SANTERRE\, 80170
CATEGORIES:Fields Trials de Printemps
ORGANIZER;CN="C SETTER ANGLAIS - Mme HENOCQUE SYLVIE":MAILTO:champ.bocquillon@free.fr
END:VEVENT
END:VCALENDAR