BEGIN:VCALENDAR
VERSION:2.0
PRODID:-//Chiens d&#039;arrêt - ECPv6.8.3//NONSGML v1.0//EN
CALSCALE:GREGORIAN
METHOD:PUBLISH
X-WR-CALNAME:Chiens d&#039;arrêt
X-ORIGINAL-URL:https://www.chiendarret.fr
X-WR-CALDESC:Évènements pour Chiens d&#039;arrêt
REFRESH-INTERVAL;VALUE=DURATION:PT1H
X-Robots-Tag:noindex
X-PUBLISHED-TTL:PT1H
BEGIN:VTIMEZONE
TZID:Europe/Paris
BEGIN:DAYLIGHT
TZOFFSETFROM:+0100
TZOFFSETTO:+0200
TZNAME:CEST
DTSTART:20220327T010000
END:DAYLIGHT
BEGIN:STANDARD
TZOFFSETFROM:+0200
TZOFFSETTO:+0100
TZNAME:CET
DTSTART:20221030T010000
END:STANDARD
END:VTIMEZONE
BEGIN:VEVENT
DTSTART;VALUE=DATE:20220327
DTEND;VALUE=DATE:20220328
DTSTAMP:20260420T183817
CREATED:20220202T195715Z
LAST-MODIFIED:20220202T195715Z
UID:3507-1648339200-1648425599@www.chiendarret.fr
SUMMARY:FIENVILLERS - FTP ICP CACT CONTINENTAUX
DESCRIPTION:CEF – CEP – CGK – CABW – CFEML – DCF – RABA – VCF –
URL:https://www.chiendarret.fr/les-concours/fienvillers-ftp-icp-cact-continentaux/
LOCATION:80750 FIENVILLERS\, FIENVILLERS\, 80750
CATEGORIES:Fields Trials de Printemps
ORGANIZER;CN="C EPAGNEUL PICARD - M. BRUTELLE WILLIAM":MAILTO:william.brutelle@wanadoo.fr
END:VEVENT
BEGIN:VEVENT
DTSTART;VALUE=DATE:20220327
DTEND;VALUE=DATE:20220328
DTSTAMP:20260420T183817
CREATED:20220202T200030Z
LAST-MODIFIED:20220202T200030Z
UID:3571-1648339200-1648425599@www.chiendarret.fr
SUMMARY:ROSIERES EN SANTERRE - FTP ICP CACT BRITANNIQUES
DESCRIPTION:PCF – RASG – RED.CLUB – CHEQUES ORDRE CSA
URL:https://www.chiendarret.fr/les-concours/rosieres-en-santerre-ftp-icp-cact-britanniques/
LOCATION:80170 ROSIERES EN SANTERRE\, ROSIERES EN SANTERRE\, 80170
CATEGORIES:Fields Trials de Printemps
ORGANIZER;CN="POINTER CF - Mme HENOCQUE SYLVIE":MAILTO:champ.bocquillon@free.fr
END:VEVENT
BEGIN:VEVENT
DTSTART;VALUE=DATE:20220327
DTEND;VALUE=DATE:20220328
DTSTAMP:20260420T183817
CREATED:20220202T200044Z
LAST-MODIFIED:20220202T200044Z
UID:3573-1648339200-1648425599@www.chiendarret.fr
SUMMARY:ROSIERES EN SANTERRE - FTP SPEC CACIT BRITANNIQUES
DESCRIPTION:SOLO ET COUPLE DERBY
URL:https://www.chiendarret.fr/les-concours/rosieres-en-santerre-ftp-spec-cacit-britanniques/
LOCATION:80170 ROSIERES EN SANTERRE\, ROSIERES EN SANTERRE\, 80170
CATEGORIES:Fields Trials de Printemps
ORGANIZER;CN="C SETTER ANGLAIS - Mme HENOCQUE SYLVIE":MAILTO:champ.bocquillon@free.fr
END:VEVENT
BEGIN:VEVENT
DTSTART;VALUE=DATE:20220327
DTEND;VALUE=DATE:20220328
DTSTAMP:20260420T183817
CREATED:20220202T204128Z
LAST-MODIFIED:20220202T204128Z
UID:3608-1648339200-1648425599@www.chiendarret.fr
SUMMARY:EGLISENEUVE D ENTRAIGUES - FTGS ICVO CACT BRITANNIQUES
DESCRIPTION:
URL:https://www.chiendarret.fr/les-concours/egliseneuve-d-entraigues-ftgs-icvo-cact-britanniques/
LOCATION:63850 EGLISENEUVE D ENTRAIGUES\, EGLISENEUVE D ENTRAIGUES\, 63850\, France
CATEGORIES:Fields Trials Gibier Sauvage
ORGANIZER;CN="RED CLUB - M. TRUBUILT BERNARD":MAILTO:bt.redclub@hotmail.fr
END:VEVENT
BEGIN:VEVENT
DTSTART;VALUE=DATE:20220327
DTEND;VALUE=DATE:20220328
DTSTAMP:20260420T183817
CREATED:20220202T204329Z
LAST-MODIFIED:20220202T204329Z
UID:3612-1648339200-1648425599@www.chiendarret.fr
SUMMARY:EGLISENEUVE D ENTRAIGUES - FTGS OUVERT CACT CONTINENTAUX
DESCRIPTION:
URL:https://www.chiendarret.fr/les-concours/egliseneuve-d-entraigues-ftgs-ouvert-cact-continentaux/
LOCATION:63850 EGLISENEUVE D ENTRAIGUES\, EGLISENEUVE D ENTRAIGUES\, 63850\, France
CATEGORIES:Fields Trials Gibier Sauvage
ORGANIZER;CN="ADACAS-63 - M. CHAMPAGNAT LAURENT":MAILTO:laurent.champagnat@wanadoo.fr
END:VEVENT
END:VCALENDAR