BEGIN:VCALENDAR
VERSION:2.0
PRODID:-//Chiens d&#039;arrêt - ECPv6.8.3//NONSGML v1.0//EN
CALSCALE:GREGORIAN
METHOD:PUBLISH
X-ORIGINAL-URL:https://www.chiendarret.fr
X-WR-CALDESC:Évènements pour Chiens d&#039;arrêt
REFRESH-INTERVAL;VALUE=DURATION:PT1H
X-Robots-Tag:noindex
X-PUBLISHED-TTL:PT1H
BEGIN:VTIMEZONE
TZID:Europe/Paris
BEGIN:DAYLIGHT
TZOFFSETFROM:+0100
TZOFFSETTO:+0200
TZNAME:CEST
DTSTART:20220327T010000
END:DAYLIGHT
BEGIN:STANDARD
TZOFFSETFROM:+0200
TZOFFSETTO:+0100
TZNAME:CET
DTSTART:20221030T010000
END:STANDARD
END:VTIMEZONE
BEGIN:VEVENT
DTSTART;VALUE=DATE:20220323
DTEND;VALUE=DATE:20220324
DTSTAMP:20260420T171351
CREATED:20220202T200000Z
LAST-MODIFIED:20220202T200000Z
UID:3559-1647993600-1648079999@www.chiendarret.fr
SUMMARY:PONTFAVERGER - FTP OUVERT CACIT CONTINENTAUX
DESCRIPTION:
URL:https://www.chiendarret.fr/les-concours/pontfaverger-ftp-ouvert-cacit-continentaux/
LOCATION:51490 PONTFAVERGER MORONVILLIERS\, PONTFAVERGER MORONVILLIERS\, 51490\, France
CATEGORIES:Fields Trials de Printemps
ORGANIZER;CN="ACT CHAMPAGNE ARDENNES - M. BURLAT PASCAL":MAILTO:burlat.scca@gmail.com
END:VEVENT
BEGIN:VEVENT
DTSTART;VALUE=DATE:20220323
DTEND;VALUE=DATE:20220324
DTSTAMP:20260420T171351
CREATED:20220202T204531Z
LAST-MODIFIED:20220202T204531Z
UID:3621-1647993600-1648079999@www.chiendarret.fr
SUMMARY:LE LIMON - FTGS ICVO CACIT BRITANNIQUES
DESCRIPTION:CHEQUES ORDRE ACTC 15
URL:https://www.chiendarret.fr/les-concours/le-limon-ftgs-icvo-cacit-britanniques/
LOCATION:15400 LE CLAUX\, LE CLAUX\, 15400
CATEGORIES:Fields Trials Gibier Sauvage
ORGANIZER;CN="POINTER CF - M. BESSIERES CHRISTOPHE":MAILTO:portocantal@aol.com
END:VEVENT
BEGIN:VEVENT
DTSTART;VALUE=DATE:20220323
DTEND;VALUE=DATE:20220324
DTSTAMP:20260420T171351
CREATED:20220202T204932Z
LAST-MODIFIED:20220202T204932Z
UID:3627-1647993600-1648079999@www.chiendarret.fr
SUMMARY:LE LIMON - FTGS OUVERT CACT CONTINENTAUX 3
DESCRIPTION:CHEQUES ORDRE ACT CANTAL
URL:https://www.chiendarret.fr/les-concours/le-limon-ftgs-ouvert-cact-continentaux-3/
LOCATION:15400 LE CLAUX\, LE CLAUX\, 15400
CATEGORIES:Fields Trials Gibier Sauvage
ORGANIZER;CN="SC HTE AUVERGNE - M. BESSIERES CHRISTOPHE":MAILTO:portocantal@aol.com
END:VEVENT
END:VCALENDAR