BEGIN:VCALENDAR
VERSION:2.0
PRODID:-//Chiens d&#039;arrêt - ECPv6.8.3//NONSGML v1.0//EN
CALSCALE:GREGORIAN
METHOD:PUBLISH
X-WR-CALNAME:Chiens d&#039;arrêt
X-ORIGINAL-URL:https://www.chiendarret.fr
X-WR-CALDESC:Évènements pour Chiens d&#039;arrêt
REFRESH-INTERVAL;VALUE=DURATION:PT1H
X-Robots-Tag:noindex
X-PUBLISHED-TTL:PT1H
BEGIN:VTIMEZONE
TZID:Europe/Paris
BEGIN:DAYLIGHT
TZOFFSETFROM:+0100
TZOFFSETTO:+0200
TZNAME:CEST
DTSTART:20220327T010000
END:DAYLIGHT
BEGIN:STANDARD
TZOFFSETFROM:+0200
TZOFFSETTO:+0100
TZNAME:CET
DTSTART:20221030T010000
END:STANDARD
END:VTIMEZONE
BEGIN:VEVENT
DTSTART;VALUE=DATE:20220321
DTEND;VALUE=DATE:20220322
DTSTAMP:20260420T171155
CREATED:20220202T200045Z
LAST-MODIFIED:20220202T200045Z
UID:3576-1647820800-1647907199@www.chiendarret.fr
SUMMARY:SOMME SUIPPE - FTP SPEC CACT BRITANNIQUES
DESCRIPTION:
URL:https://www.chiendarret.fr/les-concours/somme-suippe-ftp-spec-cact-britanniques/
LOCATION:51600 SOMME SUIPPE\, SOMME SUIPPE\, 51600
CATEGORIES:Fields Trials de Printemps
ORGANIZER;CN="POINTER CF - M. BURLAT PASCAL":MAILTO:burlat.scca@gmail.com
END:VEVENT
BEGIN:VEVENT
DTSTART;VALUE=DATE:20220321
DTEND;VALUE=DATE:20220322
DTSTAMP:20260420T171155
CREATED:20220202T204731Z
LAST-MODIFIED:20220202T204731Z
UID:3622-1647820800-1647907199@www.chiendarret.fr
SUMMARY:LE LIMON - FTGS OUVERT CACIT BRITANNIQUES
DESCRIPTION:CHEQUES ORDRE ACT CANTAL
URL:https://www.chiendarret.fr/les-concours/le-limon-ftgs-ouvert-cacit-britanniques/
LOCATION:15400 LE CLAUX\, LE CLAUX\, 15400
CATEGORIES:Fields Trials Gibier Sauvage
ORGANIZER;CN="SC HTE AUVERGNE - M. BESSIERES CHRISTOPHE":MAILTO:portocantal@aol.com
END:VEVENT
BEGIN:VEVENT
DTSTART;VALUE=DATE:20220321
DTEND;VALUE=DATE:20220322
DTSTAMP:20260420T171155
CREATED:20220202T204732Z
LAST-MODIFIED:20220202T204732Z
UID:3625-1647820800-1647907199@www.chiendarret.fr
SUMMARY:LE LIMON - FTGS OUVERT CACT CONTINENTAUX
DESCRIPTION:CHEQUES ORDRE ACT CANTAL
URL:https://www.chiendarret.fr/les-concours/le-limon-ftgs-ouvert-cact-continentaux/
LOCATION:15400 LE CLAUX\, LE CLAUX\, 15400
CATEGORIES:Fields Trials Gibier Sauvage
ORGANIZER;CN="SC HTE AUVERGNE - M. BESSIERES CHRISTOPHE":MAILTO:portocantal@aol.com
END:VEVENT
END:VCALENDAR