BEGIN:VCALENDAR
VERSION:2.0
PRODID:-//Chiens d&#039;arrêt - ECPv6.8.3//NONSGML v1.0//EN
CALSCALE:GREGORIAN
METHOD:PUBLISH
X-WR-CALNAME:Chiens d&#039;arrêt
X-ORIGINAL-URL:https://www.chiendarret.fr
X-WR-CALDESC:Évènements pour Chiens d&#039;arrêt
REFRESH-INTERVAL;VALUE=DURATION:PT1H
X-Robots-Tag:noindex
X-PUBLISHED-TTL:PT1H
BEGIN:VTIMEZONE
TZID:Europe/Paris
BEGIN:DAYLIGHT
TZOFFSETFROM:+0100
TZOFFSETTO:+0200
TZNAME:CEST
DTSTART:20220327T010000
END:DAYLIGHT
BEGIN:STANDARD
TZOFFSETFROM:+0200
TZOFFSETTO:+0100
TZNAME:CET
DTSTART:20221030T010000
END:STANDARD
END:VTIMEZONE
BEGIN:VEVENT
DTSTART;VALUE=DATE:20220320
DTEND;VALUE=DATE:20220321
DTSTAMP:20260420T171114
CREATED:20220202T195715Z
LAST-MODIFIED:20220202T195715Z
UID:3503-1647734400-1647820799@www.chiendarret.fr
SUMMARY:FEUGES - FTP SPEC CACT BRITANNIQUES
DESCRIPTION:R-V SALLE AUBETERRE
URL:https://www.chiendarret.fr/les-concours/feuges-ftp-spec-cact-britanniques/
LOCATION:10150 FEUGES\, FEUGES\, 10150
CATEGORIES:Fields Trials de Printemps
ORGANIZER;CN="RA SETTER GORDON - M. GUILBERT YVES":MAILTO:guilbertyv@wanadoo.fr
END:VEVENT
BEGIN:VEVENT
DTSTART;VALUE=DATE:20220320
DTEND;VALUE=DATE:20220321
DTSTAMP:20260420T171114
CREATED:20220202T195745Z
LAST-MODIFIED:20220202T195745Z
UID:3513-1647734400-1647820799@www.chiendarret.fr
SUMMARY:GOUY EN ARTOIS - FTP SPEC CACT CONTINENTAUX
DESCRIPTION:
URL:https://www.chiendarret.fr/les-concours/gouy-en-artois-ftp-spec-cact-continentaux/
LOCATION:62123 GOUY EN ARTOIS\, GOUY EN ARTOIS\, 62123\, France
CATEGORIES:Fields Trials de Printemps
ORGANIZER;CN="CA BRAQUE DE WEIMAR - M. SAGOT JEAN-CLAUDE":MAILTO:cabw@wanadoo.fr
END:VEVENT
BEGIN:VEVENT
DTSTART;VALUE=DATE:20220320
DTEND;VALUE=DATE:20220321
DTSTAMP:20260420T171114
CREATED:20220202T195746Z
LAST-MODIFIED:20220202T195746Z
UID:3517-1647734400-1647820799@www.chiendarret.fr
SUMMARY:HEUDICOURT - FTP ICP CACT CONTINENTAUX
DESCRIPTION:CBSG – CEF – CEP – CGK – CFBA – DCF – RABA – VCF –
URL:https://www.chiendarret.fr/les-concours/heudicourt-ftp-icp-cact-continentaux/
LOCATION:27860 HEUDICOURT\, HEUDICOURT\, 27860
CATEGORIES:Fields Trials de Printemps
ORGANIZER;CN="C GRIFFON KORTHALS - M. DEBRET PIERRE":MAILTO:pierre.debret@wanadoo.fr
END:VEVENT
BEGIN:VEVENT
DTSTART;VALUE=DATE:20220320
DTEND;VALUE=DATE:20220321
DTSTAMP:20260420T171114
CREATED:20220202T195845Z
LAST-MODIFIED:20220202T195845Z
UID:3536-1647734400-1647820799@www.chiendarret.fr
SUMMARY:MONCETZ-LONGEV - FTP SPEC CACIT BRITANNIQUES 2
DESCRIPTION:SOLO ET COUPLE CHAMPIONNAT D EUROPE
URL:https://www.chiendarret.fr/les-concours/moncetz-longev-ftp-spec-cacit-britanniques-2/
LOCATION:51470 MONCETZ LONGEVAS\, MONCETZ LONGEVAS\, 51470
CATEGORIES:Fields Trials de Printemps
ORGANIZER;CN="RED CLUB - M. TRUBUILT BERNARD":MAILTO:bt.redclub@hotmail.fr
END:VEVENT
BEGIN:VEVENT
DTSTART;VALUE=DATE:20220320
DTEND;VALUE=DATE:20220321
DTSTAMP:20260420T171114
CREATED:20220202T200030Z
LAST-MODIFIED:20220202T200030Z
UID:3570-1647734400-1647820799@www.chiendarret.fr
SUMMARY:RIVIERE DE CORPS - FTP SPEC CACIT CONTINENTAUX 2
DESCRIPTION:DERBY SUR LES 2 JOURNÉES AVEC FINALE LE DIMANCHE ENGAGEMENT JM BINET
URL:https://www.chiendarret.fr/les-concours/riviere-de-corps-ftp-spec-cacit-continentaux-2/
LOCATION:10440 LA RIVIERE DE CORPS\, LA RIVIERE DE CORPS\, 10440
CATEGORIES:Fields Trials de Printemps
ORGANIZER;CN="C EPAGNEUL BRETON - Mme PIAT SYLVIE":MAILTO:piatsylvie@orange.fr
END:VEVENT
BEGIN:VEVENT
DTSTART;VALUE=DATE:20220320
DTEND;VALUE=DATE:20220321
DTSTAMP:20260420T171114
CREATED:20220202T200045Z
LAST-MODIFIED:20220202T200045Z
UID:3575-1647734400-1647820799@www.chiendarret.fr
SUMMARY:SOMME SUIPPE - FTP SPEC CACIT BRITANNIQUES
DESCRIPTION:TROPHEE JP BOUIN
URL:https://www.chiendarret.fr/les-concours/somme-suippe-ftp-spec-cacit-britanniques/
LOCATION:51600 SOMME SUIPPE\, SOMME SUIPPE\, 51600
CATEGORIES:Fields Trials de Printemps
ORGANIZER;CN="POINTER CF - M. BOLLOCH JEAN-CHRISTOPHE":MAILTO:jc.bolloch@orange.fr
END:VEVENT
BEGIN:VEVENT
DTSTART;VALUE=DATE:20220320
DTEND;VALUE=DATE:20220321
DTSTAMP:20260420T171114
CREATED:20220202T205133Z
LAST-MODIFIED:20220202T205133Z
UID:3634-1647734400-1647820799@www.chiendarret.fr
SUMMARY:ST ETIENNE D ORTHE - FTGS OUVERT CACT BRITANNIQUES 2
DESCRIPTION:
URL:https://www.chiendarret.fr/les-concours/st-etienne-d-orthe-ftgs-ouvert-cact-britanniques-2/
LOCATION:40300 ST ETIENNE D ORTHE\, ST ETIENNE D ORTHE\, 40300
CATEGORIES:Fields Trials Gibier Sauvage
ORGANIZER;CN="CUSCA-40 - M. CHAUVET JOEL":MAILTO:joel.chauvet@cusca40.fr
END:VEVENT
BEGIN:VEVENT
DTSTART;VALUE=DATE:20220320
DTEND;VALUE=DATE:20220321
DTSTAMP:20260420T171114
CREATED:20220202T205134Z
LAST-MODIFIED:20220202T205134Z
UID:3636-1647734400-1647820799@www.chiendarret.fr
SUMMARY:ST ETIENNE D ORTHE - FTGS OUVERT CACT CONTINENTAUX 2
DESCRIPTION:
URL:https://www.chiendarret.fr/les-concours/st-etienne-d-orthe-ftgs-ouvert-cact-continentaux-2/
LOCATION:40300 ST ETIENNE D ORTHE\, ST ETIENNE D ORTHE\, 40300
CATEGORIES:Fields Trials Gibier Sauvage
ORGANIZER;CN="CUSCA-40 - M. CHAUVET JOEL":MAILTO:joel.chauvet@cusca40.fr
END:VEVENT
END:VCALENDAR