BEGIN:VCALENDAR
VERSION:2.0
PRODID:-//Chiens d&#039;arrêt - ECPv6.8.3//NONSGML v1.0//EN
CALSCALE:GREGORIAN
METHOD:PUBLISH
X-ORIGINAL-URL:https://www.chiendarret.fr
X-WR-CALDESC:Évènements pour Chiens d&#039;arrêt
REFRESH-INTERVAL;VALUE=DURATION:PT1H
X-Robots-Tag:noindex
X-PUBLISHED-TTL:PT1H
BEGIN:VTIMEZONE
TZID:Europe/Paris
BEGIN:DAYLIGHT
TZOFFSETFROM:+0100
TZOFFSETTO:+0200
TZNAME:CEST
DTSTART:20220327T010000
END:DAYLIGHT
BEGIN:STANDARD
TZOFFSETFROM:+0200
TZOFFSETTO:+0100
TZNAME:CET
DTSTART:20221030T010000
END:STANDARD
END:VTIMEZONE
BEGIN:VEVENT
DTSTART;VALUE=DATE:20220317
DTEND;VALUE=DATE:20220318
DTSTAMP:20260420T171315
CREATED:20220202T195700Z
LAST-MODIFIED:20220202T195700Z
UID:3500-1647475200-1647561599@www.chiendarret.fr
SUMMARY:FAUMONT - FTP ICVO CACIT CONTINENTAUX
DESCRIPTION:OUVERTURE CONCOURS 01/02
URL:https://www.chiendarret.fr/les-concours/faumont-ftp-icvo-cacit-continentaux/
LOCATION:59310 FAUMONT\, FAUMONT\, 59310
CATEGORIES:Fields Trials de Printemps
ORGANIZER;CN="RA BRAQUE AUVERGNE - M. LONGUEPEE DENIS":MAILTO:denislonguepee@hotmail.fr
END:VEVENT
BEGIN:VEVENT
DTSTART;VALUE=DATE:20220317
DTEND;VALUE=DATE:20220318
DTSTAMP:20260420T171315
CREATED:20220202T195914Z
LAST-MODIFIED:20220202T195914Z
UID:3543-1647475200-1647561599@www.chiendarret.fr
SUMMARY:ORMES - FTP ICP CACT BRITANNIQUES 3
DESCRIPTION:PCF – RASG – RED.CLUB – R-V SALLE AUBETERRE
URL:https://www.chiendarret.fr/les-concours/ormes-ftp-icp-cact-britanniques-3/
LOCATION:10700 ORMES\, ORMES\, 10700
CATEGORIES:Fields Trials de Printemps
ORGANIZER;CN="RA SETTER GORDON - M. GUILBERT YVES":MAILTO:guilbertyv@wanadoo.fr
END:VEVENT
BEGIN:VEVENT
DTSTART;VALUE=DATE:20220317
DTEND;VALUE=DATE:20220318
DTSTAMP:20260420T171315
CREATED:20220202T195914Z
LAST-MODIFIED:20220202T195914Z
UID:3544-1647475200-1647561599@www.chiendarret.fr
SUMMARY:ORMES - FTP ICP CACT BRITANNIQUES 4
DESCRIPTION:CSA – RED.CLUB – CHEQUE ORDRE RASG
URL:https://www.chiendarret.fr/les-concours/ormes-ftp-icp-cact-britanniques-4/
LOCATION:10700 ORMES\, ORMES\, 10700
CATEGORIES:Fields Trials de Printemps
ORGANIZER;CN="RED CLUB - M. GUILBERT YVES":MAILTO:guilbertyv@wanadoo.fr
END:VEVENT
END:VCALENDAR