BEGIN:VCALENDAR
VERSION:2.0
PRODID:-//Chiens d&#039;arrêt - ECPv6.8.3//NONSGML v1.0//EN
CALSCALE:GREGORIAN
METHOD:PUBLISH
X-WR-CALNAME:Chiens d&#039;arrêt
X-ORIGINAL-URL:https://www.chiendarret.fr
X-WR-CALDESC:Évènements pour Chiens d&#039;arrêt
REFRESH-INTERVAL;VALUE=DURATION:PT1H
X-Robots-Tag:noindex
X-PUBLISHED-TTL:PT1H
BEGIN:VTIMEZONE
TZID:Europe/Paris
BEGIN:DAYLIGHT
TZOFFSETFROM:+0100
TZOFFSETTO:+0200
TZNAME:CEST
DTSTART:20220327T010000
END:DAYLIGHT
BEGIN:STANDARD
TZOFFSETFROM:+0200
TZOFFSETTO:+0100
TZNAME:CET
DTSTART:20221030T010000
END:STANDARD
END:VTIMEZONE
BEGIN:VEVENT
DTSTART;VALUE=DATE:20220312
DTEND;VALUE=DATE:20220313
DTSTAMP:20260420T171155
CREATED:20220202T195814Z
LAST-MODIFIED:20220202T195814Z
UID:3524-1647043200-1647129599@www.chiendarret.fr
SUMMARY:LE CASTELET - FTP ICP CACT CONTINENTAUX
DESCRIPTION:CEB – CEF – CGK – CFBA – CFEML – DCF – RABA – VCF –
URL:https://www.chiendarret.fr/les-concours/le-castelet-ftp-icp-cact-continentaux/
LOCATION:14540 LE CASTELET\, LE CASTELET\, 14540
CATEGORIES:Fields Trials de Printemps
ORGANIZER;CN="C EPAGNEUL BRETON - M. BINET JEAN-MARC":MAILTO:je-marc.binet@wanadoo.fr
END:VEVENT
BEGIN:VEVENT
DTSTART;VALUE=DATE:20220312
DTEND;VALUE=DATE:20220313
DTSTAMP:20260420T171155
CREATED:20220202T195815Z
LAST-MODIFIED:20220202T195815Z
UID:3526-1647043200-1647129599@www.chiendarret.fr
SUMMARY:LE CASTELET - FTP ICVO CACIT CONTINENTAUX
DESCRIPTION:
URL:https://www.chiendarret.fr/les-concours/le-castelet-ftp-icvo-cacit-continentaux/
LOCATION:14540 LE CASTELET\, LE CASTELET\, 14540
CATEGORIES:Fields Trials de Printemps
ORGANIZER;CN="C EPAGNEUL BRETON - M. BINET JEAN-MARC":MAILTO:je-marc.binet@wanadoo.fr
END:VEVENT
BEGIN:VEVENT
DTSTART;VALUE=DATE:20220312
DTEND;VALUE=DATE:20220313
DTSTAMP:20260420T171155
CREATED:20220202T195830Z
LAST-MODIFIED:20220202T195830Z
UID:3531-1647043200-1647129599@www.chiendarret.fr
SUMMARY:MESSAS - FTP ICP CACT BRITANNIQUES
DESCRIPTION:CSA – PCF – RASG –
URL:https://www.chiendarret.fr/les-concours/messas-ftp-icp-cact-britanniques/
LOCATION:45190 MESSAS\, MESSAS\, 45190
CATEGORIES:Fields Trials de Printemps
ORGANIZER;CN="RA SETTER GORDON - M. PIEDVACHE YVES":MAILTO:yves.piedvache@wanadoo.fr
END:VEVENT
BEGIN:VEVENT
DTSTART;VALUE=DATE:20220312
DTEND;VALUE=DATE:20220313
DTSTAMP:20260420T171155
CREATED:20220202T195844Z
LAST-MODIFIED:20220202T195844Z
UID:3533-1647043200-1647129599@www.chiendarret.fr
SUMMARY:MESSAS - FTP ICVO CACIT BRITANNIQUES
DESCRIPTION:CHEQUES ORDRE RASG
URL:https://www.chiendarret.fr/les-concours/messas-ftp-icvo-cacit-britanniques/
LOCATION:45190 MESSAS\, MESSAS\, 45190
CATEGORIES:Fields Trials de Printemps
ORGANIZER;CN="POINTER CF - M. PIEDVACHE YVES":MAILTO:yves.piedvache@wanadoo.fr
END:VEVENT
BEGIN:VEVENT
DTSTART;VALUE=DATE:20220312
DTEND;VALUE=DATE:20220313
DTSTAMP:20260420T171155
CREATED:20220202T200001Z
LAST-MODIFIED:20220202T200001Z
UID:3561-1647043200-1647129599@www.chiendarret.fr
SUMMARY:POUDIS - FTP OUVERT CACT CONTINENTAUX
DESCRIPTION:
URL:https://www.chiendarret.fr/les-concours/poudis-ftp-ouvert-cact-continentaux/
LOCATION:81700 POUDIS\, POUDIS\, 81700
CATEGORIES:Fields Trials de Printemps
ORGANIZER;CN="AC TARN - M. BURATTO ROBERT":MAILTO:robertburatto81@wanadoo.fr
END:VEVENT
BEGIN:VEVENT
DTSTART;VALUE=DATE:20220312
DTEND;VALUE=DATE:20220313
DTSTAMP:20260420T171155
CREATED:20220202T200014Z
LAST-MODIFIED:20220202T200014Z
UID:3563-1647043200-1647129599@www.chiendarret.fr
SUMMARY:PUYLAURENS - FTP ICP CACT BRITANNIQUES 2
DESCRIPTION:CSA – PCF – RASG –
URL:https://www.chiendarret.fr/les-concours/puylaurens-ftp-icp-cact-britanniques-2/
LOCATION:81700 PUYLAURENS\, PUYLAURENS\, 81700\, France
CATEGORIES:Fields Trials de Printemps
ORGANIZER;CN="POINTER CF - M. FAUGERE PIERRE":MAILTO:triangledelorbleu@gmail.com
END:VEVENT
BEGIN:VEVENT
DTSTART;VALUE=DATE:20220312
DTEND;VALUE=DATE:20220313
DTSTAMP:20260420T171155
CREATED:20220202T205133Z
LAST-MODIFIED:20220202T205133Z
UID:3632-1647043200-1647129599@www.chiendarret.fr
SUMMARY:SAIGNEVILLE - FTGS ICVO CACT BRITANNIQUES 2
DESCRIPTION:CHEQUE ORDRE CSA
URL:https://www.chiendarret.fr/les-concours/saigneville-ftgs-icvo-cact-britanniques-2/
LOCATION:80230 SAIGNEVILLE\, SAIGNEVILLE\, 80230
CATEGORIES:Fields Trials Gibier Sauvage
ORGANIZER;CN="RA SETTER GORDON - M. FOLLIOT JACQUES":MAILTO:jacquesfolliot0608@gmail.com
END:VEVENT
END:VCALENDAR