BEGIN:VCALENDAR
VERSION:2.0
PRODID:-//Chiens d&#039;arrêt - ECPv6.8.3//NONSGML v1.0//EN
CALSCALE:GREGORIAN
METHOD:PUBLISH
X-WR-CALNAME:Chiens d&#039;arrêt
X-ORIGINAL-URL:https://www.chiendarret.fr
X-WR-CALDESC:Évènements pour Chiens d&#039;arrêt
REFRESH-INTERVAL;VALUE=DURATION:PT1H
X-Robots-Tag:noindex
X-PUBLISHED-TTL:PT1H
BEGIN:VTIMEZONE
TZID:Europe/Paris
BEGIN:DAYLIGHT
TZOFFSETFROM:+0100
TZOFFSETTO:+0200
TZNAME:CEST
DTSTART:20220327T010000
END:DAYLIGHT
BEGIN:STANDARD
TZOFFSETFROM:+0200
TZOFFSETTO:+0100
TZNAME:CET
DTSTART:20221030T010000
END:STANDARD
END:VTIMEZONE
BEGIN:VEVENT
DTSTART;VALUE=DATE:20220305
DTEND;VALUE=DATE:20220306
DTSTAMP:20260420T171223
CREATED:20220202T195929Z
LAST-MODIFIED:20220202T195929Z
UID:3548-1646438400-1646524799@www.chiendarret.fr
SUMMARY:PAYS BIGOUDEN - FTP ICP CACT BRITANNIQUES
DESCRIPTION:CSA – PCF – RED.CLUB – CHEQUE ORDRE CUSCA BREIZH
URL:https://www.chiendarret.fr/les-concours/pays-bigouden-ftp-icp-cact-britanniques/
LOCATION:29140 MELGVEN\, MELGVEN\, 29140
CATEGORIES:Fields Trials de Printemps
ORGANIZER;CN="RED CLUB - M. BOLLOCH JEAN-CHRISTOPHE":MAILTO:jc.bolloch@orange.fr
END:VEVENT
BEGIN:VEVENT
DTSTART;VALUE=DATE:20220305
DTEND;VALUE=DATE:20220306
DTSTAMP:20260420T171223
CREATED:20220202T195930Z
LAST-MODIFIED:20220202T195930Z
UID:3550-1646438400-1646524799@www.chiendarret.fr
SUMMARY:PAYS BIGOUDEN - FTP ICP CACT CONTINENTAUX
DESCRIPTION:CBF – CBSG – CEB – CEF – CGK – CFBA – CFEML – DCF –
URL:https://www.chiendarret.fr/les-concours/pays-bigouden-ftp-icp-cact-continentaux/
LOCATION:29140 MELGVEN\, MELGVEN\, 29140
CATEGORIES:Fields Trials de Printemps
ORGANIZER;CN="C EPAGNEUL BRETON - M. BOLLOCH JEAN-CHRISTOPHE":MAILTO:jc.bolloch@orange.fr
END:VEVENT
BEGIN:VEVENT
DTSTART;VALUE=DATE:20220305
DTEND;VALUE=DATE:20220306
DTSTAMP:20260420T171223
CREATED:20220202T195930Z
LAST-MODIFIED:20220202T195930Z
UID:3552-1646438400-1646524799@www.chiendarret.fr
SUMMARY:PAYS BIGOUDEN - FTP OUVERT CACIT BRITANNIQUES
DESCRIPTION:
URL:https://www.chiendarret.fr/les-concours/pays-bigouden-ftp-ouvert-cacit-britanniques/
LOCATION:29140 MELGVEN\, MELGVEN\, 29140
CATEGORIES:Fields Trials de Printemps
ORGANIZER;CN="CUSCA-BREIZH - M. BOLLOCH JEAN-CHRISTOPHE":MAILTO:jc.bolloch@orange.fr
END:VEVENT
BEGIN:VEVENT
DTSTART;VALUE=DATE:20220305
DTEND;VALUE=DATE:20220306
DTSTAMP:20260420T171223
CREATED:20220202T195944Z
LAST-MODIFIED:20220202T195944Z
UID:3554-1646438400-1646524799@www.chiendarret.fr
SUMMARY:PAYS BIGOUDEN - FTP OUVERT CACT CONTINENTAUX
DESCRIPTION:
URL:https://www.chiendarret.fr/les-concours/pays-bigouden-ftp-ouvert-cact-continentaux/
LOCATION:29140 MELGVEN\, MELGVEN\, 29140
CATEGORIES:Fields Trials de Printemps
ORGANIZER;CN="CUSCA-BREIZH - M. BOLLOCH JEAN-CHRISTOPHE":MAILTO:jc.bolloch@orange.fr
END:VEVENT
BEGIN:VEVENT
DTSTART;VALUE=DATE:20220305
DTEND;VALUE=DATE:20220306
DTSTAMP:20260420T171223
CREATED:20220202T204330Z
LAST-MODIFIED:20220202T204330Z
UID:3614-1646438400-1646524799@www.chiendarret.fr
SUMMARY:GRAIGNES - FTGS OUVERT CACIT BRITANNIQUES 2
DESCRIPTION:
URL:https://www.chiendarret.fr/les-concours/graignes-ftgs-ouvert-cacit-britanniques-2/
LOCATION:50620 GRAIGNES MESNIL ANGOT\, GRAIGNES MESNIL ANGOT\, 50620\, France
CATEGORIES:Fields Trials Gibier Sauvage
ORGANIZER;CN="AC R BASSE NORMANDIE - M. BLEMUS LIONEL":MAILTO:lionelblemus1@gmail.com
END:VEVENT
BEGIN:VEVENT
DTSTART;VALUE=DATE:20220305
DTEND;VALUE=DATE:20220306
DTSTAMP:20260420T171223
CREATED:20220202T204330Z
LAST-MODIFIED:20220202T204330Z
UID:3616-1646438400-1646524799@www.chiendarret.fr
SUMMARY:GRAIGNES - FTGS OUVERT CACIT CONTINENTAUX
DESCRIPTION:
URL:https://www.chiendarret.fr/les-concours/graignes-ftgs-ouvert-cacit-continentaux/
LOCATION:50620 GRAIGNES MESNIL ANGOT\, GRAIGNES MESNIL ANGOT\, 50620\, France
CATEGORIES:Fields Trials Gibier Sauvage
ORGANIZER;CN="AC R BASSE NORMANDIE - M. BLEMUS LIONEL":MAILTO:lionelblemus1@gmail.com
END:VEVENT
BEGIN:VEVENT
DTSTART;VALUE=DATE:20220305
DTEND;VALUE=DATE:20220306
DTSTAMP:20260420T171223
CREATED:20220202T204531Z
LAST-MODIFIED:20220202T204531Z
UID:3619-1646438400-1646524799@www.chiendarret.fr
SUMMARY:LA FERMETE - FTGS OUVERT CACT CONTINENTAUX 2
DESCRIPTION:
URL:https://www.chiendarret.fr/les-concours/la-fermete-ftgs-ouvert-cact-continentaux-2/
LOCATION:58160 LA FERMETE\, LA FERMETE\, 58160
CATEGORIES:Fields Trials Gibier Sauvage
ORGANIZER;CN="CF BRAQUE ALLEMAND - M. BERTHON THOMAS":MAILTO:thomasberthon@orange.fr
END:VEVENT
END:VCALENDAR