BEGIN:VCALENDAR
VERSION:2.0
PRODID:-//Chiens d&#039;arrêt - ECPv6.8.3//NONSGML v1.0//EN
CALSCALE:GREGORIAN
METHOD:PUBLISH
X-WR-CALNAME:Chiens d&#039;arrêt
X-ORIGINAL-URL:https://www.chiendarret.fr
X-WR-CALDESC:Évènements pour Chiens d&#039;arrêt
REFRESH-INTERVAL;VALUE=DURATION:PT1H
X-Robots-Tag:noindex
X-PUBLISHED-TTL:PT1H
BEGIN:VTIMEZONE
TZID:Europe/Paris
BEGIN:DAYLIGHT
TZOFFSETFROM:+0100
TZOFFSETTO:+0200
TZNAME:CEST
DTSTART:20220327T010000
END:DAYLIGHT
BEGIN:STANDARD
TZOFFSETFROM:+0200
TZOFFSETTO:+0100
TZNAME:CET
DTSTART:20221030T010000
END:STANDARD
END:VTIMEZONE
BEGIN:VEVENT
DTSTART;VALUE=DATE:20220219
DTEND;VALUE=DATE:20220220
DTSTAMP:20260420T183857
CREATED:20220202T205334Z
LAST-MODIFIED:20220202T205334Z
UID:3638-1645228800-1645315199@www.chiendarret.fr
SUMMARY:TROARN - FTGS OUVERT CACT BRITANNIQUES
DESCRIPTION:SOLO UNIQUEMENT
URL:https://www.chiendarret.fr/les-concours/troarn-ftgs-ouvert-cact-britanniques/
LOCATION:14670 TROARN\, TROARN\, 14670\, France
CATEGORIES:Fields Trials Gibier Sauvage
ORGANIZER;CN="ACC-14 - M. MERET JEAN-FRANCOIS":MAILTO:jmeret@perrigo.com
END:VEVENT
BEGIN:VEVENT
DTSTART;VALUE=DATE:20220219
DTEND;VALUE=DATE:20220220
DTSTAMP:20260420T183857
CREATED:20220202T205335Z
LAST-MODIFIED:20220202T205335Z
UID:3640-1645228800-1645315199@www.chiendarret.fr
SUMMARY:TROARN - FTGS OUVERT CACT CONTINENTAUX
DESCRIPTION:SOLO UNIQUEMENT
URL:https://www.chiendarret.fr/les-concours/troarn-ftgs-ouvert-cact-continentaux/
LOCATION:14670 TROARN\, TROARN\, 14670\, France
CATEGORIES:Fields Trials Gibier Sauvage
ORGANIZER;CN="ACC-14 - M. CARDIN PHILIPPE":MAILTO:florence.lemiere50@gmail.com
END:VEVENT
END:VCALENDAR