BEGIN:VCALENDAR
VERSION:2.0
PRODID:-//Chiens d&#039;arrêt - ECPv6.8.3//NONSGML v1.0//EN
CALSCALE:GREGORIAN
METHOD:PUBLISH
X-ORIGINAL-URL:https://www.chiendarret.fr
X-WR-CALDESC:Évènements pour Chiens d&#039;arrêt
REFRESH-INTERVAL;VALUE=DURATION:PT1H
X-Robots-Tag:noindex
X-PUBLISHED-TTL:PT1H
BEGIN:VTIMEZONE
TZID:Europe/Paris
BEGIN:DAYLIGHT
TZOFFSETFROM:+0100
TZOFFSETTO:+0200
TZNAME:CEST
DTSTART:20210328T010000
END:DAYLIGHT
BEGIN:STANDARD
TZOFFSETFROM:+0200
TZOFFSETTO:+0100
TZNAME:CET
DTSTART:20211031T010000
END:STANDARD
END:VTIMEZONE
BEGIN:VEVENT
DTSTART;VALUE=DATE:20211219
DTEND;VALUE=DATE:20211220
DTSTAMP:20260420T231232
CREATED:20210618T232009Z
LAST-MODIFIED:20210619T065938Z
UID:1643-1639872000-1639958399@www.chiendarret.fr
SUMMARY:BOUISSE 5 - CACT CONTINENTAUX - C BRAQUE FRANCAIS
DESCRIPTION:CBF – CEB – CGK – CABW – CFBA – VCF –
URL:https://www.chiendarret.fr/les-concours/bouisse-5-cact-continentaux-c-braque-francais/
LOCATION:11330 BOUISSE\, BOUISSE\, 11330\, France
CATEGORIES:Fields Trials d'Automne
ATTACH;FMTTYPE=image/jpeg:https://www.chiendarret.fr/wp-content/uploads/2021/06/iamalaya.jpg
ORGANIZER;CN="C BRAQUE FRANCAIS - M. GASIOT PASCAL":MAILTO:gasiot.pascal@gmail.com
END:VEVENT
BEGIN:VEVENT
DTSTART;VALUE=DATE:20211219
DTEND;VALUE=DATE:20211220
DTSTAMP:20260420T231232
CREATED:20210618T232251Z
LAST-MODIFIED:20210619T070813Z
UID:1711-1639872000-1639958399@www.chiendarret.fr
SUMMARY:BOUISSE 6 - CACT CONTINENTAUX - C BRAQUE FRANCAIS
DESCRIPTION:
URL:https://www.chiendarret.fr/les-concours/bouisse-6-cact-continentaux-c-braque-francais/
LOCATION:11330 BOUISSE\, BOUISSE\, 11330\, France
CATEGORIES:Fields Trials Gibier Sauvage
ATTACH;FMTTYPE=image/jpeg:https://www.chiendarret.fr/wp-content/uploads/2021/07/setter_irlandais_field.jpg
ORGANIZER;CN="C BRAQUE FRANCAIS - M. GASIOT PASCAL":MAILTO:gasiot.pascal@gmail.com
END:VEVENT
BEGIN:VEVENT
DTSTART;VALUE=DATE:20211219
DTEND;VALUE=DATE:20211220
DTSTAMP:20260420T231232
CREATED:20210619T070914Z
LAST-MODIFIED:20210619T070914Z
UID:1980-1639872000-1639958399@www.chiendarret.fr
SUMMARY:CHARRAS - CACT BRITANNIQUES - SC CHARENTE
DESCRIPTION:FORET DE LA MOTTE CLÉDOU
URL:https://www.chiendarret.fr/les-concours/charras-cact-britanniques-sc-charente/
LOCATION:16380 CHARRAS\, CHARRAS\, 16380\, France
CATEGORIES:Fields Trials Gibier Sauvage
ATTACH;FMTTYPE=image/jpeg:https://www.chiendarret.fr/wp-content/uploads/2021/07/setter_irlandais_field.jpg
ORGANIZER;CN="SC CHARENTE - M. TREVISAN FRANCOIS":MAILTO:francoistrevisan@free.fr
END:VEVENT
BEGIN:VEVENT
DTSTART;VALUE=DATE:20211219
DTEND;VALUE=DATE:20211220
DTSTAMP:20260420T231232
CREATED:20210619T070914Z
LAST-MODIFIED:20210619T070914Z
UID:1981-1639872000-1639958399@www.chiendarret.fr
SUMMARY:CHARRAS - CACT CONTINENTAUX - SC CHARENTE
DESCRIPTION:FORET DE LA MOTTE CLÉDOU
URL:https://www.chiendarret.fr/les-concours/charras-cact-continentaux-sc-charente/
LOCATION:16380 CHARRAS\, CHARRAS\, 16380\, France
CATEGORIES:Fields Trials Gibier Sauvage
ATTACH;FMTTYPE=image/jpeg:https://www.chiendarret.fr/wp-content/uploads/2021/07/setter_irlandais_field.jpg
ORGANIZER;CN="SC CHARENTE - M. TREVISAN FRANCOIS":MAILTO:francoistrevisan@free.fr
END:VEVENT
BEGIN:VEVENT
DTSTART;VALUE=DATE:20211219
DTEND;VALUE=DATE:20211220
DTSTAMP:20260420T231232
CREATED:20210619T071344Z
LAST-MODIFIED:20210619T071344Z
UID:2071-1639872000-1639958399@www.chiendarret.fr
SUMMARY:TAURIAC DE CAMARES - CACT CONTINENTAUX - C EPAGNEUL FRANCAIS
DESCRIPTION:
URL:https://www.chiendarret.fr/les-concours/tauriac-de-camares-cact-continentaux-c-epagneul-francais/
LOCATION:12360 TAURIAC DE CAMARES\, TAURIAC DE CAMARES\, 12360\, France
CATEGORIES:Fields Trials Gibier Sauvage
ATTACH;FMTTYPE=image/jpeg:https://www.chiendarret.fr/wp-content/uploads/2021/07/setter_irlandais_field.jpg
ORGANIZER;CN="C EPAGNEUL FRANCAIS - M. THOUY ERIC":MAILTO:e.thouy@hotmail.fr
END:VEVENT
END:VCALENDAR