BEGIN:VCALENDAR
VERSION:2.0
PRODID:-//Chiens d&#039;arrêt - ECPv6.8.3//NONSGML v1.0//EN
CALSCALE:GREGORIAN
METHOD:PUBLISH
X-ORIGINAL-URL:https://www.chiendarret.fr
X-WR-CALDESC:Évènements pour Chiens d&#039;arrêt
REFRESH-INTERVAL;VALUE=DURATION:PT1H
X-Robots-Tag:noindex
X-PUBLISHED-TTL:PT1H
BEGIN:VTIMEZONE
TZID:Europe/Paris
BEGIN:DAYLIGHT
TZOFFSETFROM:+0100
TZOFFSETTO:+0200
TZNAME:CEST
DTSTART:20210328T010000
END:DAYLIGHT
BEGIN:STANDARD
TZOFFSETFROM:+0200
TZOFFSETTO:+0100
TZNAME:CET
DTSTART:20211031T010000
END:STANDARD
END:VTIMEZONE
BEGIN:VEVENT
DTSTART;VALUE=DATE:20211218
DTEND;VALUE=DATE:20211219
DTSTAMP:20260420T213709
CREATED:20210618T231953Z
LAST-MODIFIED:20210619T065923Z
UID:1637-1639785600-1639871999@www.chiendarret.fr
SUMMARY:BAILLEUL 2 - CACT CONTINENTAUX - C EPAGNEUL PICARD
DESCRIPTION:CLÔTURE DES ENGAGEMENTS LE 8 DECEMBRE
URL:https://www.chiendarret.fr/les-concours/bailleul-2-cact-continentaux-c-epagneul-picard/
LOCATION:59270 BAILLEUL\, BAILLEUL\, 59270\, France
CATEGORIES:Fields Trials d'Automne
ATTACH;FMTTYPE=image/jpeg:https://www.chiendarret.fr/wp-content/uploads/2021/06/iamalaya.jpg
ORGANIZER;CN="C EPAGNEUL PICARD - M. BRUTELLE WILLIAM":MAILTO:william.brutelle@wanadoo.fr
END:VEVENT
BEGIN:VEVENT
DTSTART;VALUE=DATE:20211218
DTEND;VALUE=DATE:20211219
DTSTAMP:20260420T213709
CREATED:20210618T232008Z
LAST-MODIFIED:20210619T065938Z
UID:1642-1639785600-1639871999@www.chiendarret.fr
SUMMARY:BOUISSE 3 - CACT CONTINENTAUX - C BRAQUE FRANCAIS
DESCRIPTION:CBF – CEB – CGK – CABW – CFBA – VCF –
URL:https://www.chiendarret.fr/les-concours/bouisse-3-cact-continentaux-c-braque-francais/
LOCATION:11330 BOUISSE\, BOUISSE\, 11330\, France
CATEGORIES:Fields Trials d'Automne
ATTACH;FMTTYPE=image/jpeg:https://www.chiendarret.fr/wp-content/uploads/2021/06/iamalaya.jpg
ORGANIZER;CN="C BRAQUE FRANCAIS - M. GASIOT PASCAL":MAILTO:gasiot.pascal@gmail.com
END:VEVENT
BEGIN:VEVENT
DTSTART;VALUE=DATE:20211218
DTEND;VALUE=DATE:20211219
DTSTAMP:20260420T213709
CREATED:20210618T232246Z
LAST-MODIFIED:20210619T070758Z
UID:1710-1639785600-1639871999@www.chiendarret.fr
SUMMARY:BOUISSE 4 - CACT CONTINENTAUX - C BRAQUE FRANCAIS
DESCRIPTION:
URL:https://www.chiendarret.fr/les-concours/bouisse-4-cact-continentaux-c-braque-francais/
LOCATION:11330 BOUISSE\, BOUISSE\, 11330\, France
CATEGORIES:Fields Trials Gibier Sauvage
ATTACH;FMTTYPE=image/jpeg:https://www.chiendarret.fr/wp-content/uploads/2021/07/setter_irlandais_field.jpg
ORGANIZER;CN="C BRAQUE FRANCAIS - M. GASIOT PASCAL":MAILTO:gasiot.pascal@gmail.com
END:VEVENT
BEGIN:VEVENT
DTSTART;VALUE=DATE:20211218
DTEND;VALUE=DATE:20211219
DTSTAMP:20260420T213709
CREATED:20210618T232431Z
LAST-MODIFIED:20210619T070828Z
UID:1746-1639785600-1639871999@www.chiendarret.fr
SUMMARY:BOURGUEIL 2 - CACT BRITANNIQUES - CUCC-37
DESCRIPTION:
URL:https://www.chiendarret.fr/les-concours/bourgueil-2-cact-britanniques-cucc-37/
LOCATION:37140 BOURGUEIL\, BOURGUEIL\, 37140\, France
CATEGORIES:Fields Trials Gibier Sauvage
ATTACH;FMTTYPE=image/jpeg:https://www.chiendarret.fr/wp-content/uploads/2021/07/setter_irlandais_field.jpg
ORGANIZER;CN="CUCC-37 - M. DUCHESNE DENIS":MAILTO:duchesnedenis@yahoo.fr
END:VEVENT
BEGIN:VEVENT
DTSTART;VALUE=DATE:20211218
DTEND;VALUE=DATE:20211219
DTSTAMP:20260420T213709
CREATED:20210618T232431Z
LAST-MODIFIED:20210619T070828Z
UID:1747-1639785600-1639871999@www.chiendarret.fr
SUMMARY:BOURGUEIL 2 - CACT CONTINENTAUX - CUCC-37
DESCRIPTION:
URL:https://www.chiendarret.fr/les-concours/bourgueil-2-cact-continentaux-cucc-37/
LOCATION:37140 BOURGUEIL\, BOURGUEIL\, 37140\, France
CATEGORIES:Fields Trials Gibier Sauvage
ATTACH;FMTTYPE=image/jpeg:https://www.chiendarret.fr/wp-content/uploads/2021/07/setter_irlandais_field.jpg
ORGANIZER;CN="CUCC-37 - M. DUCHESNE DENIS":MAILTO:duchesnedenis@yahoo.fr
END:VEVENT
BEGIN:VEVENT
DTSTART;VALUE=DATE:20211218
DTEND;VALUE=DATE:20211219
DTSTAMP:20260420T213709
CREATED:20210618T232501Z
LAST-MODIFIED:20210622T110721Z
UID:1756-1639785600-1639871999@www.chiendarret.fr
SUMMARY:CERISY LA FORET - CACT CONTINENTAUX - C EPAGNEUL BRETON
DESCRIPTION:
URL:https://www.chiendarret.fr/les-concours/cerisy-la-foret-cact-continentaux-c-epagneul-breton-2/
LOCATION:50680 St Georges d Elle\, St Georges d'Elle\, 50680\, France
CATEGORIES:Fields Trials Gibier Sauvage
ATTACH;FMTTYPE=image/jpeg:https://www.chiendarret.fr/wp-content/uploads/2021/07/setter_irlandais_field.jpg
ORGANIZER;CN="C EPAGNEUL BRETON - M. DANIEL JACQUES":MAILTO:danieljacque@west-telecom.com
END:VEVENT
END:VCALENDAR