BEGIN:VCALENDAR
VERSION:2.0
PRODID:-//Chiens d&#039;arrêt - ECPv6.8.3//NONSGML v1.0//EN
CALSCALE:GREGORIAN
METHOD:PUBLISH
X-ORIGINAL-URL:https://www.chiendarret.fr
X-WR-CALDESC:Évènements pour Chiens d&#039;arrêt
REFRESH-INTERVAL;VALUE=DURATION:PT1H
X-Robots-Tag:noindex
X-PUBLISHED-TTL:PT1H
BEGIN:VTIMEZONE
TZID:Europe/Paris
BEGIN:DAYLIGHT
TZOFFSETFROM:+0100
TZOFFSETTO:+0200
TZNAME:CEST
DTSTART:20210328T010000
END:DAYLIGHT
BEGIN:STANDARD
TZOFFSETFROM:+0200
TZOFFSETTO:+0100
TZNAME:CET
DTSTART:20211031T010000
END:STANDARD
END:VTIMEZONE
BEGIN:VEVENT
DTSTART;VALUE=DATE:20211211
DTEND;VALUE=DATE:20211212
DTSTAMP:20260420T213709
CREATED:20210619T070408Z
LAST-MODIFIED:20210619T070408Z
UID:1918-1639180800-1639267199@www.chiendarret.fr
SUMMARY:MARTIGNY - CACT CONTINENTAUX - C EPAGNEUL PICARD
DESCRIPTION:CBSG – CEF – CGK – CABW – CFEML – RABA – VCF – CBB – CLÔTURE DES ENGAGEMENTS LE 1ER DECEMBRE
URL:https://www.chiendarret.fr/les-concours/martigny-cact-continentaux-c-epagneul-picard/
LOCATION:02500 MARTIGNY\, MARTIGNY\, 2500\, France
CATEGORIES:Fields Trials d'Automne
ATTACH;FMTTYPE=image/jpeg:https://www.chiendarret.fr/wp-content/uploads/2021/06/iamalaya.jpg
ORGANIZER;CN="C EPAGNEUL PICARD - M. BRUTELLE WILLIAM":MAILTO:william.brutelle@wanadoo.fr
END:VEVENT
BEGIN:VEVENT
DTSTART;VALUE=DATE:20211211
DTEND;VALUE=DATE:20211212
DTSTAMP:20260420T213709
CREATED:20210619T070408Z
LAST-MODIFIED:20210619T070408Z
UID:1919-1639180800-1639267199@www.chiendarret.fr
SUMMARY:MOLLIENS DREUIL - CACT CONTINENTAUX - C EPAGNEUL FRANCAIS
DESCRIPTION:
URL:https://www.chiendarret.fr/les-concours/molliens-dreuil-cact-continentaux-c-epagneul-francais/
LOCATION:80540 MOLLIENS DREUIL\, MOLLIENS DREUIL\, 80540\, France
CATEGORIES:Fields Trials d'Automne
ATTACH;FMTTYPE=image/jpeg:https://www.chiendarret.fr/wp-content/uploads/2021/06/iamalaya.jpg
ORGANIZER;CN="C EPAGNEUL FRANCAIS - Mme BULLERYAL VALERIE":MAILTO:vp.bulleryal@infonie.fr
END:VEVENT
BEGIN:VEVENT
DTSTART;VALUE=DATE:20211211
DTEND;VALUE=DATE:20211212
DTSTAMP:20260420T213709
CREATED:20210619T070928Z
LAST-MODIFIED:20210619T070928Z
UID:1984-1639180800-1639267199@www.chiendarret.fr
SUMMARY:CROZON - CACT BRITANNIQUES - RA SETTER GORDON
DESCRIPTION:PCF – RASG – RED.CLUB – CHÈQUE À L’ORDRE DE LA RASG
URL:https://www.chiendarret.fr/les-concours/crozon-cact-britanniques-ra-setter-gordon/
LOCATION:29160 CROZON\, CROZON\, 29160\, France
CATEGORIES:Fields Trials Gibier Sauvage
ATTACH;FMTTYPE=image/jpeg:https://www.chiendarret.fr/wp-content/uploads/2021/07/setter_irlandais_field.jpg
ORGANIZER;CN="RA SETTER GORDON - M. RIVOAL JEAN-PIERRE":MAILTO:toulbroch@aol.com
END:VEVENT
BEGIN:VEVENT
DTSTART;VALUE=DATE:20211211
DTEND;VALUE=DATE:20211212
DTSTAMP:20260420T213709
CREATED:20210619T071128Z
LAST-MODIFIED:20210619T071128Z
UID:2022-1639180800-1639267199@www.chiendarret.fr
SUMMARY:le buisson de cadouin - CACIT CONTINENTAUX - CF BRAQUE ALLEMAND
DESCRIPTION:
URL:https://www.chiendarret.fr/les-concours/le-buisson-de-cadouin-cacit-continentaux-cf-braque-allemand/
LOCATION:24480 LE BUISSON DE CADOUIN\, LE BUISSON DE CADOUIN\, 24480\, France
CATEGORIES:Fields Trials Gibier Sauvage
ATTACH;FMTTYPE=image/jpeg:https://www.chiendarret.fr/wp-content/uploads/2021/07/setter_irlandais_field.jpg
ORGANIZER;CN="CF BRAQUE ALLEMAND - M. WOLTERS GERARD":MAILTO:fg.wolters@orange.fr
END:VEVENT
BEGIN:VEVENT
DTSTART;VALUE=DATE:20211211
DTEND;VALUE=DATE:20211212
DTSTAMP:20260420T213709
CREATED:20210619T071228Z
LAST-MODIFIED:20210619T071228Z
UID:2044-1639180800-1639267199@www.chiendarret.fr
SUMMARY:MIOS 2 - CACT BRITANNIQUES - POINTER CF
DESCRIPTION:CHEQUES A L ORDRE DU CUSCA 33
URL:https://www.chiendarret.fr/les-concours/mios-2-cact-britanniques-pointer-cf/
LOCATION:33380 MIOS\, MIOS\, 33380\, France
CATEGORIES:Fields Trials Gibier Sauvage
ATTACH;FMTTYPE=image/jpeg:https://www.chiendarret.fr/wp-content/uploads/2021/07/setter_irlandais_field.jpg
ORGANIZER;CN="POINTER CF - M. CARPENTEY JEAN":MAILTO:jean.carpentey@wanadoo.fr
END:VEVENT
BEGIN:VEVENT
DTSTART;VALUE=DATE:20211211
DTEND;VALUE=DATE:20211212
DTSTAMP:20260420T213709
CREATED:20210619T071229Z
LAST-MODIFIED:20210619T071229Z
UID:2046-1639180800-1639267199@www.chiendarret.fr
SUMMARY:OLLIERES - CACT BRITANNIQUES - ACT-SCMCA
DESCRIPTION:
URL:https://www.chiendarret.fr/les-concours/ollieres-cact-britanniques-act-scmca/
LOCATION:83470 OLLIERES\, OLLIERES\, 83470\, France
CATEGORIES:Fields Trials Gibier Sauvage
ATTACH;FMTTYPE=image/jpeg:https://www.chiendarret.fr/wp-content/uploads/2021/07/setter_irlandais_field.jpg
ORGANIZER;CN="ACT-SCMCA - M. JUIF DANIEL":MAILTO:daniel.juif@wanadoo.fr
END:VEVENT
BEGIN:VEVENT
DTSTART;VALUE=DATE:20211211
DTEND;VALUE=DATE:20211212
DTSTAMP:20260420T213709
CREATED:20210619T071243Z
LAST-MODIFIED:20210619T071243Z
UID:2047-1639180800-1639267199@www.chiendarret.fr
SUMMARY:OLLIERES - CACT CONTINENTAUX - ACT-SCMCA
DESCRIPTION:
URL:https://www.chiendarret.fr/les-concours/ollieres-cact-continentaux-act-scmca/
LOCATION:83470 OLLIERES\, OLLIERES\, 83470\, France
CATEGORIES:Fields Trials Gibier Sauvage
ATTACH;FMTTYPE=image/jpeg:https://www.chiendarret.fr/wp-content/uploads/2021/07/setter_irlandais_field.jpg
ORGANIZER;CN="ACT-SCMCA - M. JUIF DANIEL":MAILTO:daniel.juif@wanadoo.fr
END:VEVENT
END:VCALENDAR